BEGIN:VCALENDAR
VERSION:2.0
PRODID:-//jEvents 2.0 for Joomla//EN
CALSCALE:GREGORIAN
METHOD:PUBLISH
BEGIN:VEVENT
UID:55ed459c8ac4b189477833a91320e378
CATEGORIES:3. Bezirk
CREATED:20190720T222309
SUMMARY:DERKREATIVRAUM3- Kreative Sing- und Bewegungsmäuse
LOCATION:derkreativraum3
DESCRIPTION:<div><p>In diesem Kurs singen wir gemeinsam traditionelle und von der Kursl
 eiterin selbstgeschriebene Lieder.</p><p>Am Ende des Kurses haben Sie ein L
 iederrepertoir, das Sie im Alltag ebenso freudvoll wie hilfreich einsetzen 
 können.</p><p>Die Lieder laden zu Handbewegungen bis Ganzkörperbewegungen e
 in. Das gemeinsame Singen und die ebenso damit verbundene Freude an der Bew
 egung stehen im Vordergrund.</p><p>Singspiele mit dem Schwungtuch werden au
 ch immer wieder eingebaut.</p><p>Ein weiterer Schwerpunkt ist die Bewegungs
 baustelle, die den Kindern den Freiraum ermöglicht, ihre körperlichen und s
 ozialen Fähigkeiten an Hand von div. Bewegungsbausteinen (Pikler Geräte, di
 v. Tunnel, Ruschen, Schiefen Ebenen, ...) zu stärken und zu erweitern.</p><
 /div><p>Parallel zu der Bewegungsbaustelle haben die Kinder die Möglichkeit
  mit unterschiedlichen Kreativmaterialien ihre sinnlichen Erfahrungen zu ma
 chen  (Plastelin, Fingerfarben und div. Maltechniken, Klebebilder...) stehe
 n zur freien Verfügung.</p>
CONTACT:http://www.derkreativraum.at (http://www.derkreativraum.at)
X-EXTRAINFO:[preis='17600'][anmeldung='true']
DTSTAMP:20260424T150753
DTSTART:20190905T084500
DTEND:20190905T093500
SEQUENCE:0
TRANSP:OPAQUE
END:VEVENT
END:VCALENDAR