BEGIN:VCALENDAR
VERSION:2.0
PRODID:-//jEvents 2.0 for Joomla//EN
CALSCALE:GREGORIAN
METHOD:PUBLISH
BEGIN:VEVENT
UID:a84ecdda0438b02a47031790e2bac554
CATEGORIES:3. Bezirk
CREATED:20190720T222404
SUMMARY:DERKREATIVRAUM3- Kreative Sing- und Bewegungsmäuse für Kinder ab ca. 2 Jahren mit Begleitperson
LOCATION:derkreativraum3
DESCRIPTION:In diesem Kurs singen wir gemeinsam traditionelle und von der Kursleiterin 
 selbstgeschriebene Lieder.\nAm Ende des Kurses haben Sie ein Liederrepertoi
 r, das Sie im Alltag ebenso freudvoll wie hilfreich einsetzen können.\nDie 
 Lieder laden zu Handbewegungen bis Ganzkörperbewegungen ein. Das gemeinsame
  Singen und die ebenso damit verbundene Freude an der Bewegung stehen im Vo
 rdergrund.\nSingspiele mit dem Schwungtuch werden auch immer wieder eingeba
 ut.\nEin weiterer Schwerpunkt ist die Bewegungsbaustelle, die den Kindern d
 en Freiraum ermöglicht, ihre körperlichen und sozialen Fähigkeiten an Hand 
 von div. Bewegungsbausteinen (Pikler Geräte, div. Tunnel, Ruschen, Schiefen
  Ebenen, ...) zu stärken und zu erweitern.\nParallel zu der Bewegungsbauste
 lle haben die Kinder die Möglichkeit mit unterschiedlichen Kreativmateriali
 en ihre sinnlichen Erfahrungen zu machen  (Plastelin, Fingerfarben und div.
  Maltechniken, Klebebilder...) stehen zur freien Verfügung.\n
X-ALT-DESC;FMTTYPE=text/html:<div><p>In diesem Kurs singen wir gemeinsam traditionelle und von der Kursl
 eiterin selbstgeschriebene Lieder.</p><p>Am Ende des Kurses haben Sie ein L
 iederrepertoir, das Sie im Alltag ebenso freudvoll wie hilfreich einsetzen 
 können.</p><p>Die Lieder laden zu Handbewegungen bis Ganzkörperbewegungen e
 in. Das gemeinsame Singen und die ebenso damit verbundene Freude an der Bew
 egung stehen im Vordergrund.</p><p>Singspiele mit dem Schwungtuch werden au
 ch immer wieder eingebaut.</p><p>Ein weiterer Schwerpunkt ist die Bewegungs
 baustelle, die den Kindern den Freiraum ermöglicht, ihre körperlichen und s
 ozialen Fähigkeiten an Hand von div. Bewegungsbausteinen (Pikler Geräte, di
 v. Tunnel, Ruschen, Schiefen Ebenen, ...) zu stärken und zu erweitern.</p><
 /div><p>Parallel zu der Bewegungsbaustelle haben die Kinder die Möglichkeit
  mit unterschiedlichen Kreativmaterialien ihre sinnlichen Erfahrungen zu ma
 chen  (Plastelin, Fingerfarben und div. Maltechniken, Klebebilder...) stehe
 n zur freien Verfügung.</p>
CONTACT:http://www.derkreativraum.at
X-EXTRAINFO:[preis='17600'][anmeldung='true']
DTSTAMP:20260424T150529
DTSTART:20190905T124500
DTEND:20190905T133500
SEQUENCE:0
TRANSP:OPAQUE
END:VEVENT
END:VCALENDAR