BEGIN:VCALENDAR
VERSION:2.0
PRODID:-//jEvents 2.0 for Joomla//EN
CALSCALE:GREGORIAN
METHOD:PUBLISH
BEGIN:VEVENT
UID:73e9f2684b17ae2a0671b8757e797f29
CATEGORIES:3. Bezirk
CREATED:20190720T224636
SUMMARY:DERKREATIVRAUM3- PIKLER/HENGSTENBERG BEWEGUNGSSPIELRAUM
LOCATION:derkreativraum3
DESCRIPTION:" wir alle kennen diese ursprünglichen Regungen der Kinder, die immer wiede
 r darauf hinaus laufen, alleine probieren zu wollen. Wir sollten nur noch m
 ehr darum wissen, dass diese unermüdliche Überwindung von Widerständen aus 
 eigener Initiative dem Kind jene Spannkraft verleiht, die wir ihm zu erhalt
 en wünschen, und dass die Freude an der Auseinandersetzung mit Schwierigkei
 ten darauf beruht, dass es selbständig beobachten, forschen, probieren und 
 überwinden durfte."\n \nElfriede Hengstenberg\n \nDAS VON E. HENGSTENBERG E
 NTWICKELTE BEWEGUNGSKONZEPT BIETET KINDERN DIE MÖGLICHKEIT, IHR VERTRAUEN Z
 U SICH SELBST ZU STÄRKEN ODER NEU AUFZUBAUEN.\n \nDEN EIGENE KÖRPER ZU BEWO
 HNEN, AUFMERKSAM DABEI ZU SEIN, SELBSTBEWUSSTSEIN ZU ENTDECKEN UND EIGENVER
 ANTWORTUNG ZU STÄRKEN...\n \nJEDE SITUATION, IN DER DAS GLEICHGEWICHT AUF D
 EM SPIEL STEHT, ERFORDERT EIN WACHES DABEI SEIN, DAS ORDNEND WIRKT.\n \nEIN
 E ENTDECKUNGSLANDSCHAFT, DIE AKTUELLEN BEDÜRFNISSE DER KINDER ABGESTIMMT IS
 T, LÄDT DIE KINDER ZUM BEWEGEN UND SPIELEN EIN.\n \nDIE INITIATIVE FÜR BEWE
 GUNGSEXPERIMENTE MIT DEN KRABBEL-, KRIECH- UND BALANCIERGEREGSTÄNDEN UND DA
 S ERFORSCHEN DER SPIELMATERIALIEN GEHT AUSSCHLIEßLICH \nVON KIND AUS.\n
X-ALT-DESC;FMTTYPE=text/html:<p><em>" wir alle kennen diese ursprünglichen Regungen der Kinder, die imme
 r wieder darauf hinaus laufen, alleine probieren zu wollen. Wir sollten nur
  noch mehr darum wissen, dass diese unermüdliche Überwindung von Widerständ
 en aus eigener Initiative dem Kind jene Spannkraft verleiht, die wir ihm zu
  erhalten wünschen, und dass die Freude an der Auseinandersetzung mit Schwi
 erigkeiten darauf beruht, dass es selbständig beobachten, forschen, probier
 en und überwinden durfte."</em></p><p><em> </em></p><p><em>Elfriede Hengste
 nberg</em></p><p><em> </em></p><p><em>DAS VON E. HENGSTENBERG ENTWICKELTE B
 EWEGUNGSKONZEPT BIETET KINDERN DIE MÖGLICHKEIT, IHR VERTRAUEN ZU SICH SELBS
 T ZU STÄRKEN ODER NEU AUFZUBAUEN.</em></p><p><em> </em></p><p><em>DEN EIGEN
 E KÖRPER ZU BEWOHNEN, AUFMERKSAM DABEI ZU SEIN, SELBSTBEWUSSTSEIN ZU ENTDEC
 KEN UND EIGENVERANTWORTUNG ZU STÄRKEN...</em></p><p><em> </em></p><p><em>JE
 DE SITUATION, IN DER DAS GLEICHGEWICHT AUF DEM SPIEL STEHT, ERFORDERT EIN W
 ACHES DABEI SEIN, DAS ORDNEND WIRKT.</em></p><p><em> </em></p><p><em>EINE E
 NTDECKUNGSLANDSCHAFT, DIE AKTUELLEN BEDÜRFNISSE DER KINDER ABGESTIMMT IST, 
 LÄDT DIE KINDER ZUM BEWEGEN UND SPIELEN EIN.</em></p><p><em> </em></p><p><e
 m>DIE INITIATIVE FÜR BEWEGUNGSEXPERIMENTE MIT DEN KRABBEL-, KRIECH- UND BAL
 ANCIERGEREGSTÄNDEN UND DAS ERFORSCHEN DER SPIELMATERIALIEN GEHT AUSSCHLIEßL
 ICH </em><em><br /></em><em>VON </em><em>KIND AUS.</em></p>
CONTACT:www.derkreativraum.at
X-EXTRAINFO:[preis='23800'][anmeldung='true']
DTSTAMP:20260424T150529
DTSTART:20190904T144000
DTEND:20190904T155000
SEQUENCE:0
TRANSP:OPAQUE
END:VEVENT
END:VCALENDAR