BEGIN:VCALENDAR
VERSION:2.0
PRODID:-//jEvents 2.0 for Joomla//EN
CALSCALE:GREGORIAN
METHOD:PUBLISH
BEGIN:VEVENT
UID:19eb479f87ba3c58a3990f19ac8a76f0
CATEGORIES:3. Bezirk
CREATED:20180916T123532
SUMMARY:DERKREATIVRAUM3- Rückbildungsgymnastik mit Baby
LOCATION:derkreativraum3\, Hörnesgasse 18\, 1030 Wien
DESCRIPTION:möglich ab ca. 6 Wochen nach der Geburt \nWir machen Übungen für den ganzen
  Körper mit Schwerpunkt auf Schultern/Rücken, Bauch und vor allem Beckenbod
 en.\nMitbringen: bequeme Kleidung und wenn das Baby mitkommt eine Decke\nww
 w.derkreativraum.at (http://www.derkreativraum.at)\n
X-ALT-DESC;FMTTYPE=text/html:<p><strong>möglich ab ca. 6 Wochen nach der Geburt </strong></p><p>Wir mach
 en Übungen für den ganzen Körper mit Schwerpunkt auf Schultern/Rücken, Bauc
 h und vor allem Beckenboden.</p><p>Mitbringen: bequeme Kleidung und wenn da
 s Baby mitkommt eine Decke</p><p><a href="http://www.derkreativraum.at">www
 .derkreativraum.at</a></p>
CONTACT:0664 39 35 509, office@derkreativraum.at
X-EXTRAINFO:[preis='8500'][anmeldung='true']
DTSTAMP:20260424T143207
DTSTART:20190917T114500
DTEND:20190917T130000
SEQUENCE:0
TRANSP:OPAQUE
END:VEVENT
END:VCALENDAR