BEGIN:VCALENDAR
VERSION:2.0
PRODID:-//jEvents 2.0 for Joomla//EN
CALSCALE:GREGORIAN
METHOD:PUBLISH
BEGIN:VEVENT
UID:cd2dab84132501c39b69cb3ae6cb991e
CATEGORIES:3. Bezirk
CREATED:20180916T121548
SUMMARY:DERKREATIVRAUM3- Kreatives Malen und Gestalten für Kinder ab 1 1/2 Jahren mit Begleitperson
LOCATION:derkreativraum3\, Hörnesgasse 18\, 1030 Wien
DESCRIPTION:<p>In diesem Kurs experimentieren die Kinder mit selbstgemachtes Plastilin,
  Fingerfarben, Ton, Playmais, Konfettiknete uvm. Das Erkiúnden von verschie
 denen Materialien ist eine sehr spannende und bereichernde Tätigkeit für kl
 eine Kinder. Hier wird gematscht, geknetet, gewischt und gemischt. Dabei st
 eht nicht so sehr das Ergebnis im Vordergrund sondern vor allem die Förderu
 ng der kreativen sowie feinmotorischen Fähigkeiten der Kinder und die Freud
 e am Tun!</p><p><a href="http://www.derkreativraum.at">www.derkreativraum.a
 t</a></p>
CONTACT:0664 39 35 509, office@derkreativraum.at
X-EXTRAINFO:[preis='15300'][anmeldung='true']
DTSTAMP:20260424T151007
DTSTART:20190922T090000
DTEND:20190922T095000
SEQUENCE:0
TRANSP:OPAQUE
END:VEVENT
END:VCALENDAR