BEGIN:VCALENDAR
VERSION:2.0
PRODID:-//jEvents 2.0 for Joomla//EN
CALSCALE:GREGORIAN
METHOD:PUBLISH
BEGIN:VEVENT
UID:5244dfdaccf952e39fc1174d660f65e3
CATEGORIES:3. Bezirk
CREATED:20190720T230600
SUMMARY:DERKREATIVRAUM3- Kreativer Kindertanz für Kinder ab ca. 4 Jahren
LOCATION:derkreativraum3\, Hörnesgasse 18 (U3 Rochusgasse)
DESCRIPTION:Singen - Lachen - Tanzen\nJedes Kind besitzt eine natürliche Bewegungsfreud
 e. Mit dieser Freude wollen wir zusammen auf Entdeckungsreise in die Welt d
 es Tanzes gehen.\nWir lernen unserer Fantasie in Tanz und Improvisationsspi
 elen freien Lauf zu lassen und schulen dabei ganz nebenbei Motorik, Körperk
 ontrolle, Beweglichkeit, Musikalität, Kreativität und Kraft. Gemeinsam wage
 n wir uns an die ersten tänzerischen Grundbewegungsformen und haben somit e
 ine optimale Grundlage für jede Tanz- und Bewegungstechnik.\n
X-ALT-DESC;FMTTYPE=text/html:<p>Singen - Lachen - Tanzen</p><p>Jedes Kind besitzt eine natürliche Bewegu
 ngsfreude. Mit dieser Freude wollen wir zusammen auf Entdeckungsreise in di
 e Welt des Tanzes gehen.</p><p>Wir lernen unserer Fantasie in Tanz und Impr
 ovisationsspielen freien Lauf zu lassen und schulen dabei ganz nebenbei Mot
 orik, Körperkontrolle, Beweglichkeit, Musikalität, Kreativität und Kraft. G
 emeinsam wagen wir uns an die ersten tänzerischen Grundbewegungsformen und 
 haben somit eine optimale Grundlage für jede Tanz- und Bewegungstechnik.</p
 >
CONTACT:http://www.derkreativraum.at (http://www.derkreativraum.at)
X-EXTRAINFO:[preis='17600'][anmeldung='true']
DTSTAMP:20260424T143206
DTSTART:20190917T143000
DTEND:20190917T152000
SEQUENCE:0
TRANSP:OPAQUE
END:VEVENT
END:VCALENDAR