BEGIN:VCALENDAR
VERSION:2.0
PRODID:-//jEvents 2.0 for Joomla//EN
CALSCALE:GREGORIAN
METHOD:PUBLISH
BEGIN:VEVENT
UID:8a0a91e50935b388a844d0be80cac158
CATEGORIES:3. Bezirk
CREATED:20190720T230822
SUMMARY:DERKREATIVRAUM3- Dance&Fun für Kinder ab ca. 6 Jahren
LOCATION:derkreativraum3\, Hörnesgasse 18 (U3 Rochusgasse)
DESCRIPTION:Emotionen - Spass - Tanz\nDieser Kurs ist für alle richtig, die bei Musik e
 infach nicht stillsitzen können. Ob Pop, Musical, klassisch- die Welt der M
 usik ist bunt und so gestalten wir auch den Unterricht. Ein kleines Warm Up
  mit Dehn- und Kräftigungsübungen, verschiedene Übungen, Drehungen und Sprü
 nge von der Ecke und vor Allem ganz viel Fantasie und Spaß! Wir lernen vers
 chiedene Musikstile kennen und schulen dabei Körperkontrolle, Beweglichkeit
 , Selbstvertrauen, Ausdruck, Wandlungsfähigkeit und Kraft. Also taucht mit 
 mir ein in die wunderbare Welt der Musik und des Tanzes.\n http://www.derkr
 eativraum.at (http://www.derkreativraum.at)\n
X-ALT-DESC;FMTTYPE=text/html:<p>Emotionen - Spass - Tanz</p><p>Dieser Kurs ist für alle richtig, die bei
  Musik einfach nicht stillsitzen können. Ob Pop, Musical, klassisch- die We
 lt der Musik ist bunt und so gestalten wir auch den Unterricht. Ein kleines
  Warm Up mit Dehn- und Kräftigungsübungen, verschiedene Übungen, Drehungen 
 und Sprünge von der Ecke und vor Allem ganz viel Fantasie und Spaß! Wir ler
 nen verschiedene Musikstile kennen und schulen dabei Körperkontrolle, Beweg
 lichkeit, Selbstvertrauen, Ausdruck, Wandlungsfähigkeit und Kraft. Also tau
 cht mit mir ein in die wunderbare Welt der Musik und des Tanzes.</p><p> <a 
 href="http://www.derkreativraum.at">http://www.derkreativraum.at</a></p>
CONTACT:office@derkreativraum.at, 0664 39 35 509, http://www.derkreativraum.at (http://www.derkreativraum.at)
X-EXTRAINFO:[preis='17600'][anmeldung='true']
DTSTAMP:20260424T143209
DTSTART:20190917T153000
DTEND:20190917T162000
SEQUENCE:0
TRANSP:OPAQUE
END:VEVENT
END:VCALENDAR