BEGIN:VCALENDAR
VERSION:2.0
PRODID:-//jEvents 2.0 for Joomla//EN
CALSCALE:GREGORIAN
METHOD:PUBLISH
BEGIN:VEVENT
UID:c5683337cf5e2c12408d6d3cbf44546a
CATEGORIES:5. Bezirk
CREATED:19700101T010000
SUMMARY:Montessori Spielgruppe 2 - 36 Monate
LOCATION:ILSA - Das Erste Wiener Montessori Eltern-Kind-Haus
DESCRIPTION:Montessori Spielgruppe 2-36 Monate\nDie Kinder in den Montessori-Spielgrupp
 en sind eingeladen die Montessori-Materialien in der sorgfältig und liebevo
 ll Vorbereiteten Umgebung für sich zu entdecken und reichlich damit zu expe
 rimentieren. Eine Montessori-Pädagogin mit international anerkannter Ausbil
 dung begleitet die Spielgruppen. Sie werden durch gezieltes Beobachten in d
 er Vorbereiteten Umgebung ganz neue Facetten an Ihrem Kind entdecken. Das g
 emeinsame Essen wird bei uns jedes Mal gefeiert. Eine gesunde Jause in frie
 dlicher Atmosphäre ist für die Kinder ein soziales Erlebnis. Zum Abschluss 
 gibt es noch einen gemeinsamen Kreis, in dem gesungen und getanzt wird, sow
 ie Fingerspiele und Kniereiter eingebracht werden, welche große Freude bere
 iten und auch die Sprachentwicklung ihres Kindes positiv unterstützen.\n \n
 \n \nEinstieg jederzeit möglich!\n \nAnmeldung erforderlich unter: id@ilsa.
 at (mailto:info@ilsa.at) oder +43 650 653 46 19\nDie Spielgruppe findet wöc
 hentlich am Mittwoch statt - Ausnahme: Weihnachts-, Oster- und Sommerferien
 . Alle Termine sind auf der Homepage: www.ilsa.at (http://www.ilsa.at) zu f
 inden.\n \nBuchungsmöglichkeiten:\n10er Block inkl. ein individuelles Famil
 iengespräch\n5er Block inkl. ein individuelles Familiengespräch\nEinzeleinh
 eiten\n \nOrt: \nILSA - Das Erste Wiener Montessori Eltern-Kind-Haus\nStrau
 ßengasse 15\n1050 Wien\nwww.ilsa.at (http://www.ilsa.at)\n\n
X-ALT-DESC;FMTTYPE=text/html:<p><strong>Montessori Spielgruppe 2-36 Monate</strong></p><p style="text-al
 ign: justify;">Die Kinder in den Montessori-Spielgruppen sind eingeladen di
 e Montessori-Materialien in der sorgfältig und liebevoll Vorbereiteten Umge
 bung für sich zu entdecken und reichlich damit zu experimentieren. Eine Mon
 tessori-Pädagogin mit international anerkannter Ausbildung begleitet die Sp
 ielgruppen. Sie werden durch gezieltes Beobachten in der Vorbereiteten Umge
 bung ganz neue Facetten an Ihrem Kind entdecken. Das gemeinsame Essen wird 
 bei uns jedes Mal gefeiert. Eine gesunde Jause in friedlicher Atmosphäre is
 t für die Kinder ein soziales Erlebnis. Zum Abschluss gibt es noch einen ge
 meinsamen Kreis, in dem gesungen und getanzt wird, sowie Fingerspiele und K
 niereiter eingebracht werden, welche große Freude bereiten und auch die Spr
 achentwicklung ihres Kindes positiv unterstützen.</p><p style="text-align: 
 justify;"> </p><p style="text-align: justify;"></p><p style="text-align: ju
 stify;"> </p><p style="text-align: justify;"><strong>Einstieg jederzeit mög
 lich!</strong></p><p style="text-align: justify;"> </p><p><strong>Anmeldung
 </strong> erforderlich unter: <a href="mailto:info@ilsa.at">id@ilsa.at</a> 
 oder +43 650 653 46 19</p><p>Die Spielgruppe findet wöchentlich am Mittwoch
  statt - Ausnahme: Weihnachts-, Oster- und Sommerferien. Alle Termine sind 
 auf der Homepage: <a href="http://www.ilsa.at">www.ilsa.at</a> zu finden.</
 p><p> </p><p><strong>Buchungsmöglichkeiten:</strong></p><p>10er Block inkl.
  ein individuelles Familiengespräch</p><p>5er Block inkl. ein individuelles
  Familiengespräch</p><p>Einzeleinheiten</p><p> </p><p><strong>Ort:</strong>
  </p><p>ILSA - Das Erste Wiener Montessori Eltern-Kind-Haus</p><p>Straußeng
 asse 15</p><p>1050 Wien</p><p><a href="http://www.ilsa.at">www.ilsa.at</a><
 /p><p></p>
CONTACT:info@ilsa.at
DTSTAMP:20260425T134652
DTSTART:20190903T070000
DTEND:20190903T083000
SEQUENCE:0
RRULE:FREQ=WEEKLY;UNTIL=20200701T000000Z;INTERVAL=1;BYDAY=TU,TU,TU,TU,TU
TRANSP:OPAQUE
END:VEVENT
END:VCALENDAR