BEGIN:VCALENDAR
VERSION:2.0
PRODID:-//jEvents 2.0 for Joomla//EN
CALSCALE:GREGORIAN
METHOD:PUBLISH
BEGIN:VEVENT
UID:1d4ca4639a8d4aa8f0ff50554948a4c6
CATEGORIES:5. Bezirk
CREATED:20190721T114125
SUMMARY:Montessori Spielgruppe 2- 36 Monate
DESCRIPTION:<p><strong>Montessori Spielgruppe 2-36 Monate</strong></p><p style="text-al
 ign: justify;">Die Kinder in den Montessori-Spielgruppen sind eingeladen di
 e Montessori-Materialien in der sorgfältig und liebevoll Vorbereiteten Umge
 bung für sich zu entdecken und reichlich damit zu experimentieren. Eine Mon
 tessori-Pädagogin mit international anerkannter Ausbildung begleitet die Sp
 ielgruppen. Sie werden durch gezieltes Beobachten in der Vorbereiteten Umge
 bung ganz neue Facetten an Ihrem Kind entdecken. Das gemeinsame Essen wird 
 bei uns jedes Mal gefeiert. Eine gesunde Jause in friedlicher Atmosphäre is
 t für die Kinder ein soziales Erlebnis. Zum Abschluss gibt es noch einen ge
 meinsamen Kreis, in dem gesungen und getanzt wird, sowie Fingerspiele und K
 niereiter eingebracht werden, welche große Freude bereiten und auch die Spr
 achentwicklung ihres Kindes positiv unterstützen.</p><p style="text-align: 
 justify;"></p><p><strong>Einstieg jederzeit möglich!</strong></p><p> </p><p
 ><strong>Anmeldung</strong> erforderlich unter: <a href="mailto:info@ilsa.a
 t">id@ilsa.at</a> oder +43 650 653 46 19</p><p>Die Spielgruppe findet wöche
 ntlich am Mittwoch statt - Ausnahme: Weihnachts-, Oster- und Sommerferien. 
 Alle Termine sind auf der Homepage: <a href="http://www.ilsa.at">www.ilsa.a
 t</a> zu finden.</p><p> </p><p><strong>Buchungsmöglichkeiten:</strong></p><
 p>10er Block inkl. ein individuelles Familiengespräch</p><p>5er Block inkl.
  ein individuelles Familiengespräch</p><p>Einzeleinheiten</p><p> </p><p><st
 rong>Ort:</strong> </p><p>ILSA - Das Erste Wiener Montessori Eltern-Kind-Ha
 us</p><p>Straußengasse 14</p><p>1050 Wien</p><p><a href="http://www.ilsa.at
 ">www.ilsa.at</a></p><p></p>
DTSTAMP:20260425T135005
DTSTART:20190904T083000
DTEND:20190904T100000
SEQUENCE:0
TRANSP:OPAQUE
END:VEVENT
END:VCALENDAR