BEGIN:VCALENDAR
VERSION:2.0
PRODID:-//jEvents 2.0 for Joomla//EN
CALSCALE:GREGORIAN
METHOD:PUBLISH
BEGIN:VEVENT
UID:1ea339022e1b3775c40b91b9892dcec7
CATEGORIES:5. Bezirk
CREATED:19700101T010000
SUMMARY:Montessori Sommerspielgruppe 2-36 Monate
LOCATION:ILSA - Das Erste Wiener Eltern Kind Haus
DESCRIPTION:<p style="text-align: justify;"><strong>Montessori Sommerspielgruppe 2-36 M
 onate</strong></p><p style="text-align: justify;">Die Kinder in den Montess
 ori-Spielgruppen sind eingeladen die Montessori-Materialien in der sorgfält
 ig und liebevoll Vorbereiteten Umgebung für sich zu entdecken und reichlich
  damit zu experimentieren. Eine Montessori-Pädagogin mit international aner
 kannter Ausbildung begleitet die Spielgruppen. Sie werden durch gezieltes B
 eobachten in der Vorbereiteten Umgebung ganz neue Facetten an Ihrem Kind en
 tdecken. Das gemeinsame Essen wird bei uns jedes Mal gefeiert. Eine gesunde
  Jause in friedlicher Atmosphäre ist für die Kinder ein soziales Erlebnis. 
 Zum Abschluss gibt es noch einen gemeinsamen Kreis, in dem gesungen und get
 anzt wird, sowie Fingerspiele und Kniereiter eingebracht werden, welche gro
 ße Freude bereiten und auch die Sprachentwicklung ihres Kindes positiv unte
 rstützen.</p><p style="text-align: justify;"></p><p><strong>Einstieg jederz
 eit möglich!</strong></p><p> </p><p><strong>Anmeldung erforderlich</strong>
  unter: <a href="mailto:info@ilsa.at">info@ilsa.at</a> oder +43 660 913 53 
 74</p><p> </p><p><strong>Buchungsmöglichkeiten</strong></p><p>10er Block in
 kl. eine Einheit individuelles Familiengespräch</p><p>5er Block inkl. eine 
 Einheit individuelles Familiengespräch</p><p>Einzeleinheiten</p><p> </p><p>
 <strong>Ort:</strong></p><p>ILSA - Das Erste Wiener Montessori Eltern-Kind-
 Haus</p><p>Straußengasse 14</p><p>1050 Wien</p><p><a href="http://www.ilsa.
 at">www.ilsa.at</a></p><p></p>
CONTACT:info@ilsa.at
DTSTAMP:20260425T154219
DTSTART:20190730T080000
DTEND:20190730T093000
SEQUENCE:0
RRULE:FREQ=WEEKLY;UNTIL=20190828T000000Z;INTERVAL=1;BYDAY=TU
TRANSP:OPAQUE
END:VEVENT
END:VCALENDAR