BEGIN:VCALENDAR
VERSION:2.0
PRODID:-//jEvents 2.0 for Joomla//EN
CALSCALE:GREGORIAN
METHOD:PUBLISH
BEGIN:VEVENT
UID:4b7a9359daabb841396ecb866a171528
CATEGORIES:2. Bezirk
CREATED:20190725T164514
SUMMARY:Fussabdrücke auf Keramik - Babytage bei Paint your Style 
DESCRIPTION:BABY  TAGE  \n Wir bieten dir regelmäßige Termine, damit Du bei uns in alle
 r Ruhe, außerhalb der Öffnungszeiten und mit professioneller Hilfe schöne B
 abyfußabdrücke auf die Keramik zaubern kannst. Fuß und Handabdrücke sind ei
 ne bleibende Erinnerung und noch dazu eine schöne Geschenksidee. Viele Idee
 n, Fotos und Anregungen findet ihr auch auf unserer Facebookseite sowie auf
  Google.\n Die Babytage sind jeweils in der Zeit von 10 Uhr bis 13 Uhr. Nat
 ürlich könnt ihr jederzeit nachmittags ohne Anmeldung vorbeischauen. \nUnd 
 so funktioniert’s: Ein geübter Paint your Style-Mitarbeiter stempelt mit Di
 r die Babyfußabdrücke auf Deine Wunschkeramik.  \n Wann:\n \n \n07.10.2019\
 n04.11.2019\n11.11.2019\n18.11.2019\nweiter Termine auf unserer HP sowie FB
 !\n \nEinen Termin könnt ihr euch unter 01/72 000 83 oder per Mail: wien2@p
 aintyourstyle.at reservieren. Wir freuen uns auf Dich und Dein Baby!\n \nDi
 e Farben bei uns sind bleifrei, völlig ungiftig und lassen sich problemlos 
 von Händen und Kleidung abwaschen. \nPaint your Style - Wien 2 (https://www
 .paintyourstyle.eu/at/wien2/)\n \n \n
X-ALT-DESC;FMTTYPE=text/html:<p style="text-align: center;"><span style="color: #ff00ff;"><strong><em>BA
 BY</em></strong><strong><em> </em></strong><strong><em> TAGE</em></strong><
 strong><em>  </em></strong></span></p><p style="text-align: center;"><em> <
 /em><em>Wir bieten dir regelmäßige Termine, damit Du bei uns in aller Ruhe,
  außerhalb der Öffnungszeiten und mit professioneller Hilfe schöne Babyfußa
 bdrücke auf die Keramik zaubern kannst. Fuß und Handabdrücke sind eine blei
 bende Erinnerung und noch dazu eine schöne Geschenksidee. Viele Ideen, Foto
 s und Anregungen findet ihr auch auf unserer Facebookseite sowie auf Google
 .</em></p><p style="text-align: center;"><em> Die Babytage sind jeweils in 
 der Zeit von 10 Uhr bis 13 Uhr. Natürlich könnt ihr jederzeit nachmittags o
 hne Anmeldung vorbeischauen. </em></p><p style="text-align: center;"><em>Un
 d so funktioniert’s: Ein geübter Paint your Style-Mitarbeiter stempelt mit 
 Dir die Babyfußabdrücke auf Deine Wunschkeramik.  </em></p><p style="text-a
 lign: center;"><em> </em><strong><em>Wann:</em></strong></p><p style="text-
 align: center;"><strong><em> </em></strong></p><p style="text-align: center
 ;"><strong><em> </em></strong></p><p style="text-align: center;"><strong><e
 m>07.10.2019</em></strong></p><p style="text-align: center;"><strong><em>04
 .11.2019</em></strong></p><p style="text-align: center;"><strong><em>11.11.
 2019</em></strong></p><p style="text-align: center;"><strong><em>18.11.2019
 </em></strong></p><p style="text-align: center;"><strong><em>weiter Termine
  auf unserer HP sowie FB!</em></strong></p><p style="text-align: center;"> 
 </p><p style="text-align: center;"><em>Einen Termin könnt ihr euch </em><em
 >unter 01/72 000 83 oder </em><em>per Mail: wien2@paintyourstyle.at reservi
 eren. </em><em>Wir freuen uns auf Dich und Dein Baby!</em></p><p style="tex
 t-align: center;"><em> </em></p><p style="text-align: center;"><em>Die Farb
 en bei uns sind bleifrei, völlig ungiftig und lassen sich problemlos von Hä
 nden und Kleidung abwaschen. </em></p><p style="text-align: center;"><a hre
 f="https://www.paintyourstyle.eu/at/wien2/">Paint your Style - Wien 2</a></
 p><p style="text-align: center;"> </p><p style="text-align: center;"> </p>
DTSTAMP:20260423T225406
DTSTART:20190909T080000
DTEND:20190909T110000
SEQUENCE:0
TRANSP:OPAQUE
END:VEVENT
END:VCALENDAR