BEGIN:VCALENDAR
VERSION:2.0
PRODID:-//jEvents 2.0 for Joomla//EN
CALSCALE:GREGORIAN
METHOD:PUBLISH
BEGIN:VEVENT
UID:40a5102d3b8e76f0aae0faab28b57c1e
CATEGORIES:2. Bezirk
CREATED:20190725T164823
SUMMARY:Fuss- & Handabdrücke auf Keramik - Paint your Style 
DESCRIPTION:BABY  TAGE  \n Wir bieten dir regelmäßige Termine, damit Du bei uns in alle
 r Ruhe, außerhalb der Öffnungszeiten und mit professioneller Hilfe schöne B
 abyfußabdrücke auf die Keramik zaubern kannst. Fuß und Handabdrücke sind ei
 ne bleibende Erinnerung und noch dazu eine schöne Geschenksidee. Viele Idee
 n, Fotos und Anregungen findet ihr auch auf unserer Facebookseite sowie auf
  Google.\n Die Babytage sind jeweils in der Zeit von 10 Uhr bis 13 Uhr. Nat
 ürlich könnt ihr jederzeit nachmittags ohne Anmeldung vorbeischauen. \nUnd 
 so funktioniert’s: Ein geübter Paint your Style-Mitarbeiter stempelt mit Di
 r die Babyfußabdrücke auf Deine Wunschkeramik.  \n Wann:\n\n \n04.11.2019\n
 11.11.2019\n18.11.2019\nweiter Termine auf unserer HP sowie FB!\n \nEinen T
 ermin könnt ihr euch unter 01/72 000 83 oder per Mail: wien2@paintyourstyle
 .at reservieren. Wir freuen uns auf Dich und Dein Baby!\n \nDie Farben bei 
 uns sind bleifrei, völlig ungiftig und lassen sich problemlos von Händen un
 d Kleidung abwaschen. \nPaint your Style - Wien 2 (https://www.paintyoursty
 le.eu/at/wien2/)\n
X-ALT-DESC;FMTTYPE=text/html:<p style="text-align: center;"><span style="color: #ff00ff;"><strong><em>BA
 BY</em></strong><strong><em> </em></strong><strong><em> TAGE</em></strong><
 strong><em>  </em></strong></span></p><p style="text-align: center;"><em> <
 /em><em>Wir bieten dir regelmäßige Termine, damit Du bei uns in aller Ruhe,
  außerhalb der Öffnungszeiten und mit professioneller Hilfe schöne Babyfußa
 bdrücke auf die Keramik zaubern kannst. Fuß und Handabdrücke sind eine blei
 bende Erinnerung und noch dazu eine schöne Geschenksidee. Viele Ideen, Foto
 s und Anregungen findet ihr auch auf unserer Facebookseite sowie auf Google
 .</em></p><p style="text-align: center;"><em> Die Babytage sind jeweils in 
 der Zeit von 10 Uhr bis 13 Uhr. Natürlich könnt ihr jederzeit nachmittags o
 hne Anmeldung vorbeischauen. </em></p><p style="text-align: center;"><em>Un
 d so funktioniert’s: Ein geübter Paint your Style-Mitarbeiter stempelt mit 
 Dir die Babyfußabdrücke auf Deine Wunschkeramik.  </em></p><p style="text-a
 lign: center;"><em> </em><strong><em>Wann:<strong><em><strong><em><br /></e
 m></strong></em></strong></em></strong></p><p style="text-align: center;"><
 strong><em> </em></strong></p><p style="text-align: center;"><strong><em>04
 .11.2019</em></strong></p><p style="text-align: center;"><strong><em>11.11.
 2019</em></strong></p><p style="text-align: center;"><strong><em>18.11.2019
 </em></strong></p><p style="text-align: center;"><strong><em>weiter Termine
  auf unserer HP sowie FB!</em></strong></p><p style="text-align: center;"> 
 </p><p style="text-align: center;"><em>Einen Termin könnt ihr euch </em><em
 >unter 01/72 000 83 oder </em><em>per Mail: wien2@paintyourstyle.at reservi
 eren. </em><em>Wir freuen uns auf Dich und Dein Baby!</em></p><p style="tex
 t-align: center;"><em> </em></p><p style="text-align: center;"><em>Die Farb
 en bei uns sind bleifrei, völlig ungiftig und lassen sich problemlos von Hä
 nden und Kleidung abwaschen. </em></p><p style="text-align: center;"><a hre
 f="https://www.paintyourstyle.eu/at/wien2/">Paint your Style - Wien 2</a></
 p>
DTSTAMP:20260423T202504
DTSTART:20191007T080000
DTEND:20191007T110000
SEQUENCE:0
TRANSP:OPAQUE
END:VEVENT
END:VCALENDAR