BEGIN:VCALENDAR
VERSION:2.0
PRODID:-//jEvents 2.0 for Joomla//EN
CALSCALE:GREGORIAN
METHOD:PUBLISH
BEGIN:VEVENT
UID:66663d5516cafcd599ba2bbb519fbb05
CATEGORIES:3. Bezirk
CREATED:20190802T103511
SUMMARY:MAMA BABY YOGA Schnupperstunde
LOCATION:Kreativraum 1030 Wien 
DESCRIPTION:!!Komm zur SCHNUPPERSTUNDE um 10 Euro!! (keine Anmeldung erforderlich, nur 
 an dem Tag um 10:00 Uhr, Kurse sind dann immer um 11:45-13.00)\nGenieße die
  Auszeit mit dir und deinem Baby. Wir machen einen Mix aus sanften Yoga- un
 d Rückbildungsübungen. Nach der Geburt sind Rückbildungsübungen für deinen 
 Beckenboden besonders wichtig.So machst du deinen Körper nach der Schwanger
 schaft wieder fit. Schöpfe neue Energie. Du kannst vom Alltag abschalten un
 d dich mit anderen Mamis austauschen. Dein Baby kann sich während einer Bab
 ymassage entspannen.  :-) Omas oder Papas ebenfalls willkommen :-)\nSchnupp
 erstunde 10,- einmalig, Einzelstunde 14,-\n4 Termine um 55,-  (23.8., 30.8.
 , 6.9., 13.9.) um 11.45-13.00\n\nfortlaufender Kurs, Einstieg jederzeit mög
 lich\n :-) genieße kleine Gruppen, max. 7 Teilnehmer :-)\n \nMitzubringen: 
 bequeme Kleidung, kleines Handtuch, Sportmatten sind im Raum verfügbar\nOrt
 : Kreativraum 1030 Wien, Hörnesgasse 18/Eingang Ecke Kübeckgasse, erreichba
 r mit U3 Rochusgasse, Ausgang Hainburger Straße und danach 5 Gehminuten\n
X-ALT-DESC;FMTTYPE=text/html:<p>!!Komm zur <strong>SCHNUPPERSTUNDE</strong> um 10 Euro!! (keine Anmeldun
 g erforderlich, nur an dem Tag um 10:00 Uhr, Kurse sind dann immer um 11:45
 -13.00)</p><p>Genieße die <strong>Auszeit</strong> mit dir und deinem <stro
 ng>Baby</strong>. Wir machen einen Mix aus sanften <strong>Yoga- und Rückbi
 ldungsübungen</strong>. Nach der Geburt sind Rückbildungsübungen für deinen
  <strong>Beckenboden</strong> besonders wichtig.So machst du deinen Körper 
 nach der Schwangerschaft wieder fit. <strong>Schöpfe neue Energie. </strong
 >Du kannst vom <strong>Alltag abschalten</strong> und dich mit anderen Mami
 s austauschen. Dein Baby kann sich während einer <strong>Babymassage</stron
 g> entspannen.  :-) Omas oder Papas ebenfalls willkommen :-)</p><p>Schnuppe
 rstunde 10,- einmalig, Einzelstunde 14,-</p><p><strong>4 Termine um 55,-  (
 23.8., 30.8., 6.9., 13.9.) um 11.45-13.00<br /></strong></p><p>fortlaufende
 r Kurs, Einstieg jederzeit möglich</p><p> :-) genieße kleine Gruppen, max. 
 7 Teilnehmer :-)</p><p> </p><p><strong>Mitzubringen<span style="text-decora
 tion: underline;">:</span></strong> bequeme Kleidung, kleines Handtuch, Spo
 rtmatten sind im Raum verfügbar</p><p>Ort: <strong>Kreativraum 1030 Wien, H
 örnesgasse 18/Eingang Ecke Kübeckgasse, </strong>erreichbar mit U3 Rochusga
 sse, Ausgang Hainburger Straße und danach 5 Gehminuten</p>
CONTACT:julia_yoga@posteo.at
DTSTAMP:20260424T142344
DTSTART:20190816T080000
DTEND:20190816T091500
SEQUENCE:0
TRANSP:OPAQUE
END:VEVENT
END:VCALENDAR