BEGIN:VCALENDAR
VERSION:2.0
PRODID:-//jEvents 2.0 for Joomla//EN
CALSCALE:GREGORIAN
METHOD:PUBLISH
BEGIN:VEVENT
UID:23cc6c927c85f0ae319b274f77c45019
CATEGORIES:15. Bezirk
CREATED:20190803T113111
SUMMARY:Hand- & Fußabdrücke auf Keramik bei Paint your Style
LOCATION:Paint your Style - Wien 15
DESCRIPTION:BABY  TAGE  \n \nWir bieten dir regelmäßige Termine, damit Du bei uns in al
 ler Ruhe, außerhalb der Öffnungszeiten und mit professioneller Hilfe schöne
  Babyfußabdrücke auf die Keramik zaubern kannst. Fuß und Handabdrücke sind 
 eine bleibende Erinnerung und noch dazu eine schöne Geschenksidee. Viele Id
 een und Fotos findest du auch auf unserer Facebookseite und Google. \n Die 
 Babytage sind jeweils in der Zeit von 10 Uhr bis 12 Uhr. Natürlich könnt ih
 r jederzeit nachmittags ohne Anmeldung vorbeischauen. \nUnd so funktioniert
 ’s: Ein geübter Paint your Style-Mitarbeiter stempelt mit Dir die Babyfußab
 drücke auf Deine Wunschkeramik.  \n \nWann:\n10.09.2019\n08.10.2019\nim Nov
 ember &amp; Dezember jeden Dienstag! \n Einen Termin könnt ihr euch unter 0
 1/786 06 77 oder per Mail: wien15@paintyourstyle.at reservieren\nWir freuen
  uns auf Dich und Dein Baby!\n Die Farben bei uns sind bleifrei, völlig ung
 iftig und lassen sich problemlos von Händen und Kleidung abwaschen. \nPaint
  your Style - Wien 15\n \n \n
X-ALT-DESC;FMTTYPE=text/html:<div class="eventContent"><p style="text-align: center;"><span style="color
 : #ff00ff;"><strong><em>BABY</em></strong><strong><em> </em></strong><stron
 g><em> TAGE</em></strong><strong><em>  </em></strong></span></p><p style="t
 ext-align: center;"><em> </em></p><p style="text-align: center;"><em>Wir bi
 eten dir regelmäßige Termine, damit Du bei uns in aller Ruhe, außerhalb der
  Öffnungszeiten und mit professioneller Hilfe schöne Babyfußabdrücke auf di
 e Keramik zaubern kannst. Fuß und Handabdrücke sind eine bleibende Erinneru
 ng und noch dazu eine schöne Geschenksidee. Viele Ideen und Fotos findest d
 u auch auf unserer Facebookseite und Google. </em></p><p style="text-align:
  center;"><em> Die Babytage sind jeweils in der Zeit von 10 Uhr bis 12 Uhr.
  Natürlich könnt ihr jederzeit nachmittags ohne Anmeldung vorbeischauen. </
 em></p><p style="text-align: center;"><em>Und so funktioniert’s: Ein geübte
 r Paint your Style-Mitarbeiter stempelt mit Dir die Babyfußabdrücke auf Dei
 ne Wunschkeramik.  </em></p><p style="text-align: center;"><em> </em></p><p
  style="text-align: center;"><strong><em>Wann:</em></strong></p><p style="t
 ext-align: center;"><strong><em>10.09.2019</em></strong></p><p style="text-
 align: center;"><strong><em>08.10.2019</em></strong></p><p style="text-alig
 n: center;"><strong><em>im November &amp; Dezember jeden Dienstag! </em></s
 trong></p><p style="text-align: center;"> E<em>inen Termin könnt ihr euch u
 nter 01/786 06 77 oder per Mail: wien15@paintyourstyle.at reservieren</em><
 /p><p style="text-align: center;"><em>Wir freuen uns auf Dich und Dein Baby
 !</em></p><p style="text-align: center;"><em> Die Farben bei uns sind bleif
 rei, völlig ungiftig und lassen sich problemlos von Händen und Kleidung abw
 aschen. </em></p><p style="text-align: center;"><a title="Paint your Style 
 - Wien" href="https://www.paintyourstyle.eu/at/" target="_blank" rel="noope
 ner noreferrer">Paint your Style - Wien 15</a></p><p style="text-align: cen
 ter;"> </p><p><em> </em></p></div>
CONTACT:wien15@paintyourstyle.at
X-EXTRAINFO:[preis='000'][anmeldung='true']
DTSTAMP:20260425T184420
DTSTART:20190910T080000
DTEND:20190910T110000
SEQUENCE:0
TRANSP:OPAQUE
END:VEVENT
END:VCALENDAR