BEGIN:VCALENDAR
VERSION:2.0
PRODID:-//jEvents 2.0 for Joomla//EN
CALSCALE:GREGORIAN
METHOD:PUBLISH
BEGIN:VEVENT
UID:97c81b3bfe655ce497ba2a8bd4b3bde0
CATEGORIES:15. Bezirk
CREATED:20190803T113912
SUMMARY:Hand- & Fußabdrücke auf Keramik bei Paint your Style
LOCATION:Paint your Style - Wien 15
DESCRIPTION:<p style="text-align: center;"><strong><em>  BABY  TAGE  </em></strong></p>
 <p style="text-align: center;"><strong><em><em> </em></em></strong></p><p s
 tyle="text-align: center;"><em>Wir bieten dir regelmäßige Termine, damit Du
  bei uns in aller Ruhe, außerhalb der Öffnungszeiten und mit professionelle
 r Hilfe schöne Babyfußabdrücke auf die Keramik zaubern kannst. Fuß und Hand
 abdrücke sind eine bleibende Erinnerung und noch dazu eine schöne Geschenks
 idee. Viele Ideen und Fotos findest du auch auf unserer Facebookseite und G
 oogle. </em></p><p style="text-align: center;"><em> Die Babytage sind jewei
 ls in der Zeit von 10 Uhr bis 12 Uhr. </em></p><p style="text-align: center
 ;"><em>Und so funktioniert’s: Ein geübter Paint your Style-Mitarbeiter stem
 pelt mit Dir die Babyfußabdrücke auf Deine Wunschkeramik.  </em></p><p styl
 e="text-align: center;"><em> </em></p><p style="text-align: center;"><stron
 g><em>Wann:</em></strong></p><p style="text-align: center;"><strong><em><st
 rong><em>08.10.2019</em></strong></em></strong></p><p style="text-align: ce
 nter;"><strong><em>im November &amp; Dezember jeden Dienstag! </em></strong
 ></p><p style="text-align: center;"> </p><p style="text-align: center;"> E<
 em>inen Termin könnt ihr euch unter 01/786 06 77 oder per Mail: wien15@pain
 tyourstyle.at reservieren</em></p><p style="text-align: center;"><em>Wir fr
 euen uns auf Dich und Dein Baby!</em></p><p style="text-align: center;"><em
 > Die Farben bei uns sind bleifrei, völlig ungiftig und lassen sich problem
 los von Händen und Kleidung abwaschen. </em></p><p style="text-align: cente
 r;"> </p><p style="text-align: center;"><em><a title="Paint your Style -  W
 ien 15" href="https://www.paintyourstyle.eu/at/" target="_blank" rel="noope
 ner noreferrer">Paint your Style - Wien </a></em></p>
CONTACT:wien15@paintyourstyle.at
X-EXTRAINFO:[preis='000'][anmeldung='true']
DTSTAMP:20260425T185014
DTSTART:20191008T080000
DTEND:20191008T110000
SEQUENCE:0
TRANSP:OPAQUE
END:VEVENT
END:VCALENDAR