BEGIN:VCALENDAR
VERSION:2.0
PRODID:-//jEvents 2.0 for Joomla//EN
CALSCALE:GREGORIAN
METHOD:PUBLISH
BEGIN:VEVENT
UID:6bf07f71ca01a642dfae1dd7e051650f
CATEGORIES:15. Bezirk
CREATED:20190803T115225
SUMMARY:Fuß - & Handabdrücke auf Keramik! Weihnachtsgeschenke leicht gemacht!
LOCATION:Paint your Style - Wien 15
DESCRIPTION:BABY  TAGE  \n \nWir bieten dir regelmäßige Termine, damit Du bei uns in al
 ler Ruhe, außerhalb der Öffnungszeiten und mit professioneller Hilfe schöne
  Babyfußabdrücke auf die Keramik zaubern kannst. Fuß und Handabdrücke sind 
 eine bleibende Erinnerung und noch dazu eine schöne Geschenksidee. Viele Id
 een und Fotos findest du auch auf unserer Facebookseite und Google. \n Die 
 Babytage sind jeweils in der Zeit von 10 Uhr bis 12 Uhr. Natürlich könnt ih
 r jederzeit nachmittags ohne Anmeldung vorbeischauen. \nUnd so funktioniert
 ’s: Ein geübter Paint your Style-Mitarbeiter stempelt mit Dir die Babyfußab
 drücke auf Deine Wunschkeramik.  \n \nWann:\nim November &amp; Dezember jed
 en Dienstag! \n \n19.11.2019\n1.Advent - 26.11.2019\n2.Advent - 03.12.2019\
 n3.Advent - 10.12.2019\n4.Advent - 17.12.2019\n \n Einen Termin könnt ihr e
 uch unter 01/786 06 77 oder per Mail: wien15@paintyourstyle.at reservieren\
 nWir freuen uns auf Dich und Dein Baby!\n Die Farben bei uns sind bleifrei,
  völlig ungiftig und lassen sich problemlos von Händen und Kleidung abwasch
 en. \nPaint your Style - WIen 15\n
X-ALT-DESC;FMTTYPE=text/html:<p style="text-align: center;"><strong><em>BABY  TAGE  </em></strong></p><p
  style="text-align: center;"><strong><em><em> </em></em></strong></p><p sty
 le="text-align: center;"><em>Wir bieten dir regelmäßige Termine, damit Du b
 ei uns in aller Ruhe, außerhalb der Öffnungszeiten und mit professioneller 
 Hilfe schöne Babyfußabdrücke auf die Keramik zaubern kannst. Fuß und Handab
 drücke sind eine bleibende Erinnerung und noch dazu eine schöne Geschenksid
 ee. Viele Ideen und Fotos findest du auch auf unserer Facebookseite und Goo
 gle. </em></p><p style="text-align: center;"><em> Die Babytage sind jeweils
  in der Zeit von 10 Uhr bis 12 Uhr. Natürlich könnt ihr jederzeit nachmitta
 gs ohne Anmeldung vorbeischauen. </em></p><p style="text-align: center;"><e
 m>Und so funktioniert’s: Ein geübter Paint your Style-Mitarbeiter stempelt 
 mit Dir die Babyfußabdrücke auf Deine Wunschkeramik.  </em></p><p style="te
 xt-align: center;"><em> </em></p><p style="text-align: center;"><strong><em
 >Wann:</em></strong></p><p style="text-align: center;"><strong><em>im Novem
 ber &amp; Dezember jeden Dienstag! </em></strong></p><p style="text-align: 
 center;"><strong><em> </em></strong></p><p style="text-align: center;"><str
 ong><em>19.11.2019</em></strong></p><p style="text-align: center;"><strong>
 <em>1.Advent - 26.11.2019</em></strong></p><p style="text-align: center;"><
 strong><em>2.Advent - 03.12.2019</em></strong></p><p style="text-align: cen
 ter;"><strong><em>3.Advent - 10.12.2019</em></strong></p><p style="text-ali
 gn: center;"><strong><em><strong><em>4.Advent - 17.12.2019</em></strong></e
 m></strong></p><p style="text-align: center;"> </p><p style="text-align: ce
 nter;"> E<em>inen Termin könnt ihr euch unter 01/786 06 77 oder per Mail: w
 ien15@paintyourstyle.at reservieren</em></p><p style="text-align: center;">
 <em>Wir freuen uns auf Dich und Dein Baby!</em></p><p style="text-align: ce
 nter;"><em> Die Farben bei uns sind bleifrei, völlig ungiftig und lassen si
 ch problemlos von Händen und Kleidung abwaschen. </em></p><p style="text-al
 ign: center;"><a title="Paint your Style - Wien 15" href="https://www.paint
 yourstyle.eu/at/" target="_blank" rel="noopener noreferrer">Paint your Styl
 e - WIen 15</a></p>
CONTACT:wien15@paintyourstyle.at
X-EXTRAINFO:[preis='000'][anmeldung='true']
DTSTAMP:20260425T163058
DTSTART:20191112T090000
DTEND:20191112T120000
SEQUENCE:0
TRANSP:OPAQUE
END:VEVENT
END:VCALENDAR