BEGIN:VCALENDAR
VERSION:2.0
PRODID:-//jEvents 2.0 for Joomla//EN
CALSCALE:GREGORIAN
METHOD:PUBLISH
BEGIN:VEVENT
UID:0d3bca89980e9d1ecaaac9a3f12b0347
CATEGORIES:2. Bezirk
CREATED:20190803T132255
SUMMARY:Fuß- & Handabdrücke auf Keramik - Weihnachtsgeschenke leicht gemacht
LOCATION:Paint your Style - Wien 1
DESCRIPTION:BABY  TAGE  \n Wir bieten dir regelmäßige Termine, damit Du bei uns in alle
 r Ruhe, außerhalb der Öffnungszeiten und mit professioneller Hilfe schöne B
 abyfußabdrücke auf die Keramik zaubern kannst. Fuß und Handabdrücke sind ei
 ne bleibende Erinnerung und noch dazu eine schöne Geschenksidee. Viele Idee
 n, Fotos und Anregungen findet ihr auch auf unserer Facebookseite sowie auf
  Google.\n Die Babytage sind jeweils in der Zeit von 10 Uhr bis 13 Uhr.  \n
 Und so funktioniert’s: Ein geübter Paint your Style-Mitarbeiter stempelt mi
 t Dir die Babyfußabdrücke auf Deine Wunschkeramik.  \n Wann:\nim November &
 amp; Dezember jeden Montag! \n \n18.11.2019\n \n1.Advent - 25.11.2019\n \n2
 .Advent - 02.12.2019\n3.Advent - 09.12.2019\n4.Advent - 16.12.2019 \n Einen
  Termin könnt ihr euch unter 01/72 000 83 oder per Mail: wien2@paintyoursty
 le.at reservieren. Wir freuen uns auf Dich und Dein Baby!\n \nDie Farben be
 i uns sind bleifrei, völlig ungiftig und lassen sich problemlos von Händen 
 und Kleidung abwaschen. \nPaint your Style - Wien 2 (https://www.paintyours
 tyle.eu/at/wien2/)\n
X-ALT-DESC;FMTTYPE=text/html:<div class="eventContent"><p style="text-align: center;"><span style="color
 : #ff00ff;"><strong><em>BABY</em></strong><strong><em> </em></strong><stron
 g><em> TAGE</em></strong><strong><em>  </em></strong></span></p><p style="t
 ext-align: center;"><em> </em><em>Wir bieten dir regelmäßige Termine, damit
  Du bei uns in aller Ruhe, außerhalb der Öffnungszeiten und mit professione
 ller Hilfe schöne Babyfußabdrücke auf die Keramik zaubern kannst. Fuß und H
 andabdrücke sind eine bleibende Erinnerung und noch dazu eine schöne Gesche
 nksidee. Viele Ideen, Fotos und Anregungen findet ihr auch auf unserer Face
 bookseite sowie auf Google.</em></p><p style="text-align: center;"><em> Die
  Babytage sind jeweils in der Zeit von 10 Uhr bis 13 Uhr.  </em></p><p styl
 e="text-align: center;"><em>Und so funktioniert’s: Ein geübter Paint your S
 tyle-Mitarbeiter stempelt mit Dir die Babyfußabdrücke auf Deine Wunschkeram
 ik.  </em></p><p style="text-align: center;"><em> </em><strong><em>Wann:</e
 m></strong></p><p style="text-align: center;"><strong><em>im November &amp;
  Dezember jeden Montag! </em></strong></p><p style="text-align: center;"><s
 trong><em> </em></strong></p><p style="text-align: center;"><strong><em><st
 rong><em>18.11.2019</em></strong></em></strong></p><p style="text-align: ce
 nter;"><strong> </strong></p><p style="text-align: center;"><strong><em>1.A
 dvent - 25.11.2019</em></strong></p><p> </p><p style="text-align: center;">
 <strong><em>2.Advent - 02.12.2019</em></strong></p><p style="text-align: ce
 nter;"><strong><em>3.Advent - 09.12.2019</em></strong></p><p style="text-al
 ign: center;"><strong><em>4.Advent - 16.12.2019 </em></strong></p><p> <em>E
 inen Termin könnt ihr euch </em><em>unter 01/72 000 83 oder </em><em>per Ma
 il: wien2@paintyourstyle.at reservieren. </em><em>Wir freuen uns auf Dich u
 nd Dein Baby!</em></p><p style="text-align: center;"><em> </em></p><p style
 ="text-align: center;"><em>Die Farben bei uns sind bleifrei, völlig ungifti
 g und lassen sich problemlos von Händen und Kleidung abwaschen. </em></p><p
  style="text-align: center;"><a href="https://www.paintyourstyle.eu/at/wien
 2/" target="_blank" rel="noopener noreferrer">Paint your Style - Wien 2</a>
 </p></div>
CONTACT:wien2@paintyourstyle.at
X-EXTRAINFO:[preis='000'][anmeldung='true']
DTSTAMP:20260423T182441
DTSTART:20191111T090000
DTEND:20191111T120000
SEQUENCE:0
TRANSP:OPAQUE
END:VEVENT
END:VCALENDAR