BEGIN:VCALENDAR
VERSION:2.0
PRODID:-//jEvents 2.0 for Joomla//EN
CALSCALE:GREGORIAN
METHOD:PUBLISH
BEGIN:VEVENT
UID:a99e1faee26d6526ce25fb4d81e058c1
CATEGORIES:2. Bezirk
CREATED:20190803T132857
SUMMARY:Fuß- & Handabdrücke auf Keramik - Weihnachtsgeschenke leicht gemacht
LOCATION:Paint your Style - Wien 1
DESCRIPTION:BABY  TAGE  \n Wir bieten dir regelmäßige Termine, damit Du bei uns in alle
 r Ruhe, außerhalb der Öffnungszeiten und mit professioneller Hilfe schöne B
 abyfußabdrücke auf die Keramik zaubern kannst. Fuß und Handabdrücke sind ei
 ne bleibende Erinnerung und noch dazu eine schöne Geschenksidee. Viele Idee
 n, Fotos und Anregungen findet ihr auch auf unserer Facebookseite sowie auf
  Google.\n Die Babytage sind jeweils in der Zeit von 10 Uhr bis 13 Uhr.  \n
 Und so funktioniert’s: Ein geübter Paint your Style-Mitarbeiter stempelt mi
 t Dir die Babyfußabdrücke auf Deine Wunschkeramik.  \n Wann:\nim November &
 amp; Dezember jeden Montag! \n \n1.Advent - 25.11.2019\n2.Advent - 02.12.20
 19\n3.Advent - 09.12.2019\n4.Advent - 16.12.2019 \n Einen Termin könnt ihr 
 euch unter 01/72 000 83 oder per Mail: wien2@paintyourstyle.at reservieren.
  Wir freuen uns auf Dich und Dein Baby!\n \nDie Farben bei uns sind bleifre
 i, völlig ungiftig und lassen sich problemlos von Händen und Kleidung abwas
 chen. \nPaint your Style - Wien 2 (https://www.paintyourstyle.eu/at/wien2/)
 \n
X-ALT-DESC;FMTTYPE=text/html:<div class="eventContent"><p style="text-align: center;"><span style="color
 : #ff00ff;"><strong><em>BABY</em></strong><strong><em> </em></strong><stron
 g><em> TAGE</em></strong><strong><em>  </em></strong></span></p><p style="t
 ext-align: center;"><em> </em><em>Wir bieten dir regelmäßige Termine, damit
  Du bei uns in aller Ruhe, außerhalb der Öffnungszeiten und mit professione
 ller Hilfe schöne Babyfußabdrücke auf die Keramik zaubern kannst. Fuß und H
 andabdrücke sind eine bleibende Erinnerung und noch dazu eine schöne Gesche
 nksidee. Viele Ideen, Fotos und Anregungen findet ihr auch auf unserer Face
 bookseite sowie auf Google.</em></p><p style="text-align: center;"><em> Die
  Babytage sind jeweils in der Zeit von 10 Uhr bis 13 Uhr.  </em></p><p styl
 e="text-align: center;"><em>Und so funktioniert’s: Ein geübter Paint your S
 tyle-Mitarbeiter stempelt mit Dir die Babyfußabdrücke auf Deine Wunschkeram
 ik.  </em></p><p style="text-align: center;"><em> </em><strong><em>Wann:</e
 m></strong></p><p style="text-align: center;"><strong><em>im November &amp;
  Dezember jeden Montag! </em></strong></p><p style="text-align: center;"><s
 trong><em><strong> </strong></em></strong></p><p style="text-align: center;
 "><strong><em>1.Advent - 25.11.2019</em></strong></p><p style="text-align: 
 center;"><strong><em>2.Advent - 02.12.2019</em></strong></p><p style="text-
 align: center;"><strong><em>3.Advent - 09.12.2019</em></strong></p><p style
 ="text-align: center;"><strong><em>4.Advent - 16.12.2019 </em></strong></p>
 <p> <em>Einen Termin könnt ihr euch </em><em>unter 01/72 000 83 oder </em><
 em>per Mail: wien2@paintyourstyle.at reservieren. </em><em>Wir freuen uns a
 uf Dich und Dein Baby!</em></p><p style="text-align: center;"><em> </em></p
 ><p style="text-align: center;"><em>Die Farben bei uns sind bleifrei, völli
 g ungiftig und lassen sich problemlos von Händen und Kleidung abwaschen. </
 em></p><p style="text-align: center;"><a href="https://www.paintyourstyle.e
 u/at/wien2/" target="_blank" rel="noopener noreferrer">Paint your Style - W
 ien 2</a></p></div>
CONTACT:wien2@paintyourstyle.at
X-EXTRAINFO:[preis='000'][anmeldung='true']
DTSTAMP:20260423T160203
DTSTART:20191209T090000
DTEND:20191209T120000
SEQUENCE:0
TRANSP:OPAQUE
END:VEVENT
END:VCALENDAR