BEGIN:VCALENDAR
VERSION:2.0
PRODID:-//jEvents 2.0 for Joomla//EN
CALSCALE:GREGORIAN
METHOD:PUBLISH
BEGIN:VEVENT
UID:3918ed224fff391f5480c22149835fb5
CATEGORIES:14. Bezirk
CREATED:20190804T222728
SUMMARY:mamaFIT mit Andrea - MATZNER-PARK - Outdoorworkout für Schwangere & Mamas
LOCATION:Matzner Park\, 1140 Wien
DESCRIPTION:mamaFIT mit Andrea ist dein neues Outdoor-Workout, das dich von der Schwang
 erschaft bis in die Zeit als Mama hinein begleitet. Ein sicheres und effekt
 ives Workout, bei dem du als Mama die Hauptrolle spielst.\nEgal, ob mit Bab
 ybauch, Kind in der Trage oder im Kinderwagen, bei mir bist du immer herzli
 ch willkommen!\nJeden Montag und Donnerstag trainieren wir im Baumgartner C
 asino-Park und jeden zweiten Dienstag im Matzner Park. Erreichbar mit den S
 traßenbahnen 49 &amp; 52. In den Monaten Juli &amp; August beginnen wir sch
 on um 9:30!!! mit dem Training.\n \nDeine Vorteile:\ndu trainierst mit Mama
 s aus deiner Gegend und hast Spaß deinen Körper (wieder) in Form zu bringen
 \ndu kannst gemeinsam mit deinem Kind die frische Luft genießen und Vitamin
  D tanken\ndu sparst dir den Babysitter\nUnser Motto: Fühl dich wohl in dei
 nem Körper!\n \n \nIch biete dir ein mamafreundliches und flexibles Kurssys
 tem!\nOffenes Kurssystem - Einstieg jederzeit möglich!\nAnmeldung vorab mög
 lich, jedoch nicht zwingend notwendig.\nwww.mamafit.at/trainer/andrea-sulzm
 ann/\n \nPreise:\n14€ - Einzelstunde\n60€ - 5er Block*\n110€ - 10er Block*\
 n \n*die Blockkarten sind 1 Jahr gültig und übertragbar\n \nBei Fragen steh
 e ich dir jederzeit nach der Stunde oder per Mail zur Verfügung: andrea.sul
 zmann@mamafit.at\n \n \nIch freue mich auf dich und dein Kind!\n \nAlles Li
 ebe,\nAndrea, deine mamaFIT-Trainerin\n
X-ALT-DESC;FMTTYPE=text/html:<p><strong>mamaFIT mit Andrea</strong> ist dein neues <strong>Outdoor-Worko
 ut</strong>, das dich von der Schwangerschaft bis in die Zeit als Mama hine
 in begleitet. Ein sicheres und effektives Workout, bei dem du als Mama die 
 Hauptrolle spielst.</p><p><strong>Egal, ob mit Babybauch, Kind in der Trage
  oder im Kinderwagen, bei mir bist du immer herzlich willkommen!</strong></
 p><p>Jeden <strong>Montag und Donnerstag</strong> trainieren wir im <strong
 >Baumgartner Casino-Park </strong>und<strong> jeden zweiten Dienstag </stro
 ng>im<strong> Matzner Park. </strong>Erreichbar mit den Straßenbahnen 49 &a
 mp; 52. In den Monaten Juli &amp; August beginnen wir schon um 9:30!!! mit 
 dem Training.</p><p> </p><p><strong>Deine Vorteile:</strong></p><p>du train
 ierst mit Mamas aus deiner Gegend und hast Spaß deinen Körper (wieder) in F
 orm zu bringen<br />du kannst gemeinsam mit deinem Kind die frische Luft ge
 nießen und Vitamin D tanken<br />du sparst dir den Babysitter</p><p><strong
 >Unser Motto: Fühl dich wohl in deinem Körper!</strong></p><p> </p><p> </p>
 <p>Ich biete dir ein mamafreundliches und flexibles Kurssystem!</p><p><stro
 ng>Offenes Kurssystem - Einstieg jederzeit möglich!</strong></p><p>Anmeldun
 g vorab möglich, jedoch nicht zwingend notwendig.</p><p>www.mamafit.at/trai
 ner/andrea-sulzmann/</p><p> </p><p><strong>Preise:</strong></p><p>14€ - Ein
 zelstunde</p><p>60€ - 5er Block*</p><p>110€ - 10er Block*</p><p> </p><p>*di
 e Blockkarten sind 1 Jahr gültig und übertragbar</p><p> </p><p>Bei Fragen s
 tehe ich dir jederzeit nach der Stunde oder per Mail zur Verfügung: <strong
 >andrea.sulzmann@mamafit.at</strong></p><p> </p><p> </p><p>Ich freue mich a
 uf dich und dein Kind!</p><p> </p><p>Alles Liebe,</p><p>Andrea, deine mamaF
 IT-Trainerin</p>
CONTACT:andrea.sulzmann@mamafit.at
X-EXTRAINFO:[preis='1100'][anmeldung='false']
DTSTAMP:20260423T182314
DTSTART:20190903T073000
DTEND:20190903T083000
SEQUENCE:0
TRANSP:OPAQUE
END:VEVENT
END:VCALENDAR