BEGIN:VCALENDAR
VERSION:2.0
PRODID:-//jEvents 2.0 for Joomla//EN
CALSCALE:GREGORIAN
METHOD:PUBLISH
BEGIN:VEVENT
UID:3978ffdde42afa0ffcc9e32400028ea4
CATEGORIES:Wien Umgebung
CREATED:20190805T204804
SUMMARY:BABYMASSAGE KURS im Mütterstudio Klosterneuburg
LOCATION:Mütterstudio Klosterneuburg\, Kreutzergasse 12 - 14\, 3400 Klosterneuburg
DESCRIPTION: \n \n\n Babymassage Kursfür Babys ab 6 Wochen bis zum KrabbelalterSie erle
 rnen in diesem Babymassage Kurs wie Sie Ihr Baby mit einer speziellen Massa
 ge verwöhnen können. \n\nGönnen Sie sich und Ihrem Baby diese wunderbare ge
 meinsame Zeit. \n\nPositive Wirkung der Babymassage: \nkann Blähungen &amp;
  Koliken erleichtern, \ndie Verdauung anregen, \ndas Immunsystem stärken, \
 nberuhigen &amp; entspannen, \ndie Bindung fördern, \nden Schlaf des Kindes
  fördern, ...Förderung der körperlichen Entwicklung und des Körperbewusstse
 ins des Kindes Vergnügen, Freude am Berühren und berührt werden.Durch die l
 iebevollen Berührungen der Eltern wird das Körpergefühl und somit auch das 
 Selbstvertrauen nachhaltig gestärkt! \nBabymassage ist eine besondere Art G
 eborgenheit - Sicherheit - Wärme - Liebe &amp; Zuneigung zu geben.Anmeldung
  unbedingt erforderlich, da begrenzte TeilnehmerInnenanzahlWann &amp; Wo:07
 .10 | 14.10 | 21.10.2019   - 3 Einheiten zu je 60 Minuten -Montags von 12:3
 0 bis 13:30 UhrKursort:Mütterstudio Klosterneuburg (im Landesklinikum)\n340
 0 Klosterneuburg Kreutzergasse 12-14Der Babymassagekurs findet in Kleingrup
 pen statt.Kosten: 95 € für 3 Einheiten in Kleingruppen im Mütterstudio Klos
 terneuburg inkl. Massageöl und ausführlichen KursunterlagenAnmeldung unbedi
 ngt erforderlich, weil es eine begrenzte Teilnehmeranzahl gibt!Information 
 &amp; Anmeldung: www.natural-care.at (http://www.natural-care.at)   \n \n
X-ALT-DESC;FMTTYPE=text/html:<p> </p><p> </p><p></p><h1> </h1><h2>Babymassage Kurs</h2><h2>für Babys ab 
 6 Wochen bis zum Krabbelalter</h2><h4>Sie erlernen in diesem Babymassage Ku
 rs wie Sie Ihr Baby mit einer speziellen Massage verwöhnen können. <br /><b
 r />Gönnen Sie sich und Ihrem Baby diese wunderbare gemeinsame Zeit. <br />
 <br />Positive Wirkung der Babymassage: <br />kann Blähungen &amp; Koliken 
 erleichtern, <br />die Verdauung anregen, <br />das Immunsystem stärken, <b
 r />beruhigen &amp; entspannen, <br />die Bindung fördern, <br />den Schlaf
  des Kindes fördern, ...</h4><h4>Förderung der körperlichen Entwicklung und
  des Körperbewusstseins des Kindes Vergnügen, Freude am Berühren und berühr
 t werden.</h4><h4>Durch die liebevollen Berührungen der Eltern wird das Kör
 pergefühl und somit auch das Selbstvertrauen nachhaltig gestärkt! <br />Bab
 ymassage ist eine besondere Art Geborgenheit - Sicherheit - Wärme - Liebe &
 amp; Zuneigung zu geben.</h4><h4>Anmeldung unbedingt erforderlich, da begre
 nzte TeilnehmerInnenanzahl</h4><h4>Wann &amp; Wo:</h4><h4>07.10 | 14.10 | 2
 1.10.2019   - 3 Einheiten zu je 60 Minuten -</h4><h4>Montags von 12:30 bis 
 13:30 Uhr</h4><h4>Kursort:</h4><h4>Mütterstudio Klosterneuburg (im Landeskl
 inikum)<br />3400 Klosterneuburg Kreutzergasse 12-14</h4><h4>Der Babymassag
 ekurs findet in Kleingruppen statt.</h4><h4>Kosten: 95 € für 3 Einheiten in
  Kleingruppen im Mütterstudio Klosterneuburg inkl. Massageöl und ausführlic
 hen Kursunterlagen</h4><h4>Anmeldung unbedingt erforderlich, weil es eine b
 egrenzte Teilnehmeranzahl gibt!</h4><h2>Information &amp; Anmeldung: <a hre
 f="http://www.natural-care.at">www.natural-care.at</a>  </h2><p> </p><p> </
 p>
CONTACT:www.natural-care.at
DTSTAMP:20260425T153901
DTSTART:20191007T103000
DTEND:20191007T113000
SEQUENCE:0
TRANSP:OPAQUE
END:VEVENT
END:VCALENDAR