BEGIN:VCALENDAR
VERSION:2.0
PRODID:-//jEvents 2.0 for Joomla//EN
CALSCALE:GREGORIAN
METHOD:PUBLISH
BEGIN:VEVENT
UID:829e33b1d0a32b75f92ad1052f4262d3
CATEGORIES:6. Bezirk
CREATED:20190808T202820
SUMMARY:Babymassage
LOCATION:6.\, Sandwirtgasser 13/12
DESCRIPTION:Babymassage im Biolino InstitutBeziehung durch BerührungWie Babymassage dei
 nem Baby und dir hilft:- Die Babymassage fördert das Urvertrauen deines Bab
 ys. \n- Die Babymassage fördert das Wohlbefinden deines Babys. \n- Die Baby
 massage wirkt entspannend, lockernd und beruhigend sowohl auf dein Baby als
  auch auf dich. \n- Die Babymassage regt das Immunsystem an und stärkt den 
 Körper deines Babys. \n- Die Babymassage wirkt lindernd bei Koliken und Zah
 nungsschmerzen. \n- Die Babymassage kräftigt und lockert die Muskulatur dei
 nes Babys und fördert die Beweglichkeit. \n- Die Babymassage kann einen ges
 unden, ruhigeren Schlaf fördern. \n- Die Babymassage stärkt die körperliche
  und emotionelle Entwicklung. \n \nWas erwartet dich:\nWie dein Baby all di
 es genießen und davon körperlich und emotional profitieren kann, zeige ich 
 dir in ruhiger Wohlfühl-Atmosphäre im Biolino Institut.\nKursinformationen4
  Einheiten zu je 60 Minuten in einer gemütliche Kleingruppe mit maximal 5 B
 abys!\nWann: Dienstags\n    Herbst Kurs 1: 24. September, 1., 8., 15. Oktob
 er 2019\n    Herst Kurs 2: 12., 19., 26. November und 3. Dezember 2019\nUhr
 zeit: 13.00 - 14.00 Uhr\nKosten: € 79,- pro Kurs\nHier geht`s zur Anmeldung
 : Babymassage (https://www.biolino.at/spielgruppen/babymassage/)\nDu erfähr
 st alle wichtigen Grundlagen der Babymassage und kannst am Ende des Kurses 
 dein Baby bei körperlichen und emotionalen Beschwerden unterstützen. Für di
 e Massage wird ein biologisches Öl zur Verfügung gestellt. Du erhältst auße
 rdem ein ausführliches Handout mit allen Techniken und Griffen und ein klei
 nes Geschenk.\nNach der Babymassage gibt es genug Zeit und Raum für Austaus
 ch untereinander und die Beantwortung von Fragen. \nBitte bring Folgendes z
 um Babymassagekurs mit:\n\n -        ein Handtuch\n -        gemütliche Kle
 idung für dich, die auch ölig werden darfDie Babymassage ist für Babys ab c
 a. 4 Wochen, bis zum individuellen Krabbelalter (ca. 6 Monate) geeignet.\nI
 ch freue mich auf eine entspannte, gemütliche Babymassage mit euch!\nAlles 
 Liebe,\nMartina\nwww.biolino.at  (http://www.biolion.at)\n
X-ALT-DESC;FMTTYPE=text/html:<h1>Babymassage im Biolino Institut</h1><h3>Beziehung durch Berührung</h3><
 h3>Wie Babymassage deinem Baby und dir hilft:</h3><p style="margin: 0cm; ma
 rgin-bottom: .0001pt;"><span style="font-size: 10.0pt;">- Die Babymassage f
 ördert das Urvertrauen deines Babys. </span></p><p style="margin: 0cm; marg
 in-bottom: .0001pt;"><span style="font-size: 10.0pt;">- Die Babymassage för
 dert das Wohlbefinden deines Babys. </span></p><p style="margin: 0cm; margi
 n-bottom: .0001pt;"><span style="font-size: 10.0pt;">- Die Babymassage wirk
 t entspannend, lockernd und beruhigend sowohl auf dein Baby als auch auf di
 ch. </span></p><p style="margin: 0cm; margin-bottom: .0001pt;"><span style=
 "font-size: 10.0pt;">- Die Babymassage regt das Immunsystem an und stärkt d
 en Körper deines Babys. </span></p><p style="margin: 0cm; margin-bottom: .0
 001pt;"><span style="font-size: 10.0pt;">- Die Babymassage wirkt lindernd b
 ei Koliken und Zahnungsschmerzen. </span></p><p style="margin: 0cm; margin-
 bottom: .0001pt;"><span style="font-size: 10.0pt;">- Die Babymassage kräfti
 gt und lockert die Muskulatur deines Babys und fördert die Beweglichkeit. <
 /span></p><p style="margin: 0cm; margin-bottom: .0001pt;"><span style="font
 -size: 10.0pt;">- Die Babymassage kann einen gesunden, ruhigeren Schlaf för
 dern. </span></p><p style="margin: 0cm; margin-bottom: .0001pt;"><span styl
 e="font-size: 10.0pt;">- Die Babymassage stärkt die körperliche und emotion
 elle Entwicklung. </span></p><p> </p><p><strong>Was erwartet dich:</strong>
 </p><p>Wie dein Baby all dies genießen und davon körperlich und emotional p
 rofitieren kann, zeige ich dir in ruhiger Wohlfühl-Atmosphäre im Biolino In
 stitut.</p><h3>Kursinformationen</h3><p><strong>4 Einheiten zu je 60 Minute
 n in einer gemütliche Kleingruppe mit maximal 5 Babys!</strong></p><p><stro
 ng>Wann</strong>: Dienstags</p><p><strong>    Herbst Kurs 1:</strong> 24. S
 eptember, 1., 8., 15. Oktober 2019</p><p><strong>    Herst Kurs 2:</strong>
  12., 19., 26. November und 3. Dezember 2019</p><p><strong>Uhrzeit</strong>
 : 13.00 - 14.00 Uhr</p><p><strong>Kosten</strong>: € 79,- pro Kurs</p><p>Hi
 er geht`s zur Anmeldung: <a href="https://www.biolino.at/spielgruppen/babym
 assage/">Babymassage</a></p><p>Du erfährst alle wichtigen Grundlagen der Ba
 bymassage und kannst am Ende des Kurses dein Baby bei körperlichen und emot
 ionalen Beschwerden unterstützen. Für die Massage wird ein biologisches Öl 
 zur Verfügung gestellt. Du erhältst außerdem ein ausführliches Handout mit 
 allen Techniken und Griffen und ein kleines Geschenk.</p><p>Nach der Babyma
 ssage gibt es genug Zeit und Raum für Austausch untereinander und die Beant
 wortung von Fragen. </p><p><strong>Bitte bring Folgendes zum Babymassagekur
 s mit</strong>:</p><ul><li>       ein Handtuch</li><li>       gemütliche Kl
 eidung für dich, die auch ölig werden darf</li></ul><p>Die Babymassage ist 
 für Babys <strong>ab ca. 4 Wochen, bis zum individuellen Krabbelalter (ca. 
 6 Monate)</strong> geeignet.</p><p><strong>Ich freue mich auf eine entspann
 te, gemütliche Babymassage mit euch!</strong></p><p><em>Alles Liebe,</em></
 p><p><em>Martina</em></p><p><em><a href="http://www.biolion.at">www.biolino
 .at </a></em></p>
CONTACT:martina.novak@biolion.at, 0677 628 929 70
DTSTAMP:20260424T162657
DTSTART:20190924T110000
DTEND:20190924T120000
SEQUENCE:0
TRANSP:OPAQUE
END:VEVENT
END:VCALENDAR