BEGIN:VCALENDAR
VERSION:2.0
PRODID:-//jEvents 2.0 for Joomla//EN
CALSCALE:GREGORIAN
METHOD:PUBLISH
BEGIN:VEVENT
UID:1e6b1730777bd213175460afa1280b27
CATEGORIES:6. Bezirk
CREATED:20190808T202956
SUMMARY:Babymassage
LOCATION:6.\, Sandwirtgasse 13/12
DESCRIPTION:Babymassage im Biolino InstitutBeziehung durch BerührungWie Babymassage dei
 nem Baby und dir hilft:- Die Babymassage fördert das Urvertrauen deines Bab
 ys. \n- Die Babymassage fördert das Wohlbefinden deines Babys. \n- Die Baby
 massage wirkt entspannend, lockernd und beruhigend sowohl auf dein Baby als
  auch auf dich. \n- Die Babymassage regt das Immunsystem an und stärkt den 
 Körper deines Babys. \n- Die Babymassage wirkt lindernd bei Koliken und Zah
 nungsschmerzen. \n- Die Babymassage kräftigt und lockert die Muskulatur dei
 nes Babys und fördert die Beweglichkeit. \n- Die Babymassage kann einen ges
 unden, ruhigeren Schlaf fördern. \n- Die Babymassage stärkt die körperliche
  und emotionelle Entwicklung. \n \nWas erwartet dich:\nWie dein Baby all di
 es genießen und davon körperlich und emotional profitieren kann, zeige ich 
 dir in ruhiger Wohlfühl-Atmosphäre im Biolino Institut.\nKursinformationen4
  Einheiten zu je 60 Minuten in einer gemütliche Kleingruppe mit maximal 5 B
 abys!\nWann: Montags\nHerst Kurs 2: 04., 11., 18. November und 25. November
  2019\nUhrzeit: 13.00 - 14.00 Uhr\nKosten: € 79,- pro Kurs\nHier geht`s zur
  Anmeldung: Babymassage (https://www.biolino.at/spielgruppen/babymassage/)\
 nDu erfährst alle wichtigen Grundlagen der Babymassage und kannst am Ende d
 es Kurses dein Baby bei körperlichen und emotionalen Beschwerden unterstütz
 en. Für die Massage wird ein biologisches Öl zur Verfügung gestellt. Du erh
 ältst außerdem ein ausführliches Handout mit allen Techniken und Griffen un
 d ein kleines Geschenk.\nNach der Babymassage gibt es genug Zeit und Raum f
 ür Austausch untereinander und die Beantwortung von Fragen.\nBitte bring Fo
 lgendes zum Babymassagekurs mit:\n\n -        ein Handtuch\n -        gemüt
 liche Kleidung für dich, die auch ölig werden darfDie Babymassage ist für B
 abys ab ca. 4 Wochen, bis zum individuellen Krabbelalter (ca. 6 Monate) gee
 ignet.\nIch freue mich auf eine entspannte, gemütliche Babymassage mit euch
 !\nAlles Liebe,\nMartina\nwww.biolino.at  (http://www.biolion.at)\n
X-ALT-DESC;FMTTYPE=text/html:<h1>Babymassage im Biolino Institut</h1><h3>Beziehung durch Berührung</h3><
 h3>Wie Babymassage deinem Baby und dir hilft:</h3><p style="margin: 0cm; ma
 rgin-bottom: .0001pt;"><span style="font-size: 10.0pt;">- Die Babymassage f
 ördert das Urvertrauen deines Babys. </span></p><p style="margin: 0cm; marg
 in-bottom: .0001pt;"><span style="font-size: 10.0pt;">- Die Babymassage för
 dert das Wohlbefinden deines Babys. </span></p><p style="margin: 0cm; margi
 n-bottom: .0001pt;"><span style="font-size: 10.0pt;">- Die Babymassage wirk
 t entspannend, lockernd und beruhigend sowohl auf dein Baby als auch auf di
 ch. </span></p><p style="margin: 0cm; margin-bottom: .0001pt;"><span style=
 "font-size: 10.0pt;">- Die Babymassage regt das Immunsystem an und stärkt d
 en Körper deines Babys. </span></p><p style="margin: 0cm; margin-bottom: .0
 001pt;"><span style="font-size: 10.0pt;">- Die Babymassage wirkt lindernd b
 ei Koliken und Zahnungsschmerzen. </span></p><p style="margin: 0cm; margin-
 bottom: .0001pt;"><span style="font-size: 10.0pt;">- Die Babymassage kräfti
 gt und lockert die Muskulatur deines Babys und fördert die Beweglichkeit. <
 /span></p><p style="margin: 0cm; margin-bottom: .0001pt;"><span style="font
 -size: 10.0pt;">- Die Babymassage kann einen gesunden, ruhigeren Schlaf för
 dern. </span></p><p style="margin: 0cm; margin-bottom: .0001pt;"><span styl
 e="font-size: 10.0pt;">- Die Babymassage stärkt die körperliche und emotion
 elle Entwicklung. </span></p><p> </p><p><strong>Was erwartet dich:</strong>
 </p><p>Wie dein Baby all dies genießen und davon körperlich und emotional p
 rofitieren kann, zeige ich dir in ruhiger Wohlfühl-Atmosphäre im Biolino In
 stitut.</p><h3>Kursinformationen</h3><p><strong>4 Einheiten zu je 60 Minute
 n in einer gemütliche Kleingruppe mit maximal 5 Babys!</strong></p><p><stro
 ng>Wann</strong>: Montags</p><p><strong>Herst Kurs 2:</strong> 04., 11., 18
 . November und 25. November 2019</p><p><strong>Uhrzeit</strong>: 13.00 - 14
 .00 Uhr</p><p><strong>Kosten</strong>: € 79,- pro Kurs</p><p>Hier geht`s zu
 r Anmeldung: <a href="https://www.biolino.at/spielgruppen/babymassage/">Bab
 ymassage</a></p><p>Du erfährst alle wichtigen Grundlagen der Babymassage un
 d kannst am Ende des Kurses dein Baby bei körperlichen und emotionalen Besc
 hwerden unterstützen. Für die Massage wird ein biologisches Öl zur Verfügun
 g gestellt. Du erhältst außerdem ein ausführliches Handout mit allen Techni
 ken und Griffen und ein kleines Geschenk.</p><p>Nach der Babymassage gibt e
 s genug Zeit und Raum für Austausch untereinander und die Beantwortung von 
 Fragen.</p><p><strong>Bitte bring Folgendes zum Babymassagekurs mit</strong
 >:</p><ul><li>       ein Handtuch</li><li>       gemütliche Kleidung für di
 ch, die auch ölig werden darf</li></ul><p>Die Babymassage ist für Babys <st
 rong>ab ca. 4 Wochen, bis zum individuellen Krabbelalter (ca. 6 Monate)</st
 rong> geeignet.</p><p><strong>Ich freue mich auf eine entspannte, gemütlich
 e Babymassage mit euch!</strong></p><p><em>Alles Liebe,</em></p><p><em>Mart
 ina</em></p><p><em><a href="http://www.biolion.at">www.biolino.at </a></em>
 </p>
CONTACT:martina.novak@biolino.at, 0677 628 929 70
DTSTAMP:20260423T195014
DTSTART:20191104T120000
DTEND:20191104T130000
SEQUENCE:0
TRANSP:OPAQUE
END:VEVENT
END:VCALENDAR