BEGIN:VCALENDAR
VERSION:2.0
PRODID:-//jEvents 2.0 for Joomla//EN
CALSCALE:GREGORIAN
METHOD:PUBLISH
BEGIN:VEVENT
UID:aa7c1d09cc754303bdcf56c8025744ca
CATEGORIES:6. Bezirk
CREATED:19700101T010000
SUMMARY:Baby-Spielgruppe
LOCATION:6.\, Sandwirtgasse 13/12
DESCRIPTION:<h1>Baby-Spielgruppe</h1><h2>Spielgruppe und mehr für die Kleinsten</h2><h4
 >Für Kinder von 2 bis 10 Monaten</h4><p><strong>Kursleitung</strong>: Sabin
 e</p><p><strong>Kurstag</strong>: Donnerstag</p><p><strong>Kurszeit</strong
 >: 11.0 - 12.00 Uhr</p><p><strong>Spielgruppe mit bindungsorientiertem Schw
 erpunkt</strong></p><p>- freies Spiel mit ausgewählten Materialien</p><p>- 
 Kuschel- &amp; Streichelspiele, Lieder</p><p>- jede Menge Austausch mit Heb
 amme Sabine</p><p>Die Spiel- und Austauschgruppe <strong>mit Hebamme Sabine
 </strong> ist für Kinder von <strong>2 bis 10 Monaten</strong>.</p><h3>Was 
 erwartet dich?</h3><p>Nach einer sanften Ankommrunde, gibt es die Möglichke
 it unsere Baby-<strong>Spielmaterialien</strong> zu entdecken und ausgiebig
  zu erkunden. Der Schwerpunkt liegt hier, angelehnt an M. <strong>Montessor
 i</strong> und E. <strong>Pikler</strong>, auf dem <strong>freien Spiel. Si
 tuationsorientiert</strong> werden auch <strong>Kuschel- und Streichelspiel
 e</strong> angeleitet und <strong>Lieder</strong> gesungen. Dabei wird beso
 nders auf die Stimmung der kleinen Entdeckerinnen und Entdecker geachtet.</
 p><p>Spielgruppenleiterin Sabine, steht dir mit all ihrem Wissen als Hebamm
 e, Kleinkindpädagogin und Mutter zur Verfügung und beantwortet gerne all de
 ine Fragen. Es gibt ausreichend Zeit für den Austausch zwischen den Mamas u
 nd Papas.</p><p><strong>Für dein Kind...</strong></p><p>... babygerechte, d
 ie Sinne ansprechende Spielmaterialien,</p><p>... erste Kontakte mit andere
 n Kindern,</p><p>... situationsorientiert auch Kuschel- und Streichelspiele
  oder Lieder.</p><p> </p><p><strong>Für dich...</strong></p><p>... neue Spi
 elideen für dich und dein Kind,</p><p>... fundiertes Wissen zu allen Themen
  rund um das Babyalter,</p><p>... Raum für Vernetzung, Austausch und Fragen
 .</p><p> </p><h3><strong>Einstieg jederzeit möglich!</strong></h3><h2>Flexi
 bel mit der Biolino Blockkarte:</h2><h2><a href="https://www.biolino.at/spi
 elgruppen/die-blockkarte/">www.biolino.at/Blockkarte</a></h2><p> </p><p>wei
 tere Infos unter</p><p><a href="http://www.biolino.at">www.biolino.at</a></
 p><p><a href="mailto:martina.novak@biolino.at,">martina.novak@biolino.at, <
 /a>0677 628 929 70</p><p>6., Sandwirtgasse 13/12,</p><p> </p><p>Wir freuen 
 uns auf euch! &lt;3</p><p>Martina und das Biolino Team</p>
CONTACT:martina.novak@biolino.at, 0677 628 929 70
DTSTAMP:20260423T195355
DTSTART:20190912T090000
DTEND:20190912T100000
SEQUENCE:0
RRULE:FREQ=WEEKLY;COUNT=9999;INTERVAL=1;BYDAY=TH,TH,TH,TH,TH
TRANSP:OPAQUE
END:VEVENT
END:VCALENDAR