BEGIN:VCALENDAR
VERSION:2.0
PRODID:-//jEvents 2.0 for Joomla//EN
CALSCALE:GREGORIAN
METHOD:PUBLISH
BEGIN:VEVENT
UID:e27a1b7285e03dbd4c17697ce68e6700
CATEGORIES:6. Bezirk
CREATED:19700101T010000
SUMMARY:Babytreff mit Pikler Elementen
LOCATION:LYMA - Loquaiplatz 12/1\, 1060 Wien
DESCRIPTION:<h2 style="font-weight: 600;">Spielgruppe nach Emmi Pikler für Babys</h2><p
  style="font-weight: 400;">Entdecke gemeinsam mit deinem Baby unseren Spiel
 raum! Im <b><strong style="font-style: inherit;">Babytreff nach Pikler</str
 ong></b> hat dein Kind die Möglichkeit selbständig unterschiedliche Spiella
 ndschaften zu entdecken und erste Freundschaften zu knüpfen. Die Eltern kön
 nen sich währenddessen austauschen und erste Entwicklungsschritte ihrer Kin
 der beobachten.</p><h2 style="font-weight: 600;">Kursinhalt &amp; Ziele</h2
 ><p style="font-weight: 400;">Gemeinsames Spielen ist für die Entwicklung v
 on Babys und Kleinkindern besonders wichtig. Auf diese Weise können sie sic
 h ausprobieren und ihre Entwicklungsschritte in den ersten Jahren machen. W
 ir begleiten sie in ihren Entdeckungen und Eroberungen. In Anlehnung an Emm
 i Pikler schaffen wir eine reizvolle Spielumgebung, um freies Spielen zu er
 möglichen und die Kleinen dazu anzuregen selbst tätig zu werden. Im Beisein
  der Eltern wird die Entwicklung und Entfaltung in einem geschützten Rahmen
  möglich. </p><p style="font-weight: 400;">Gefördert wird dadurch: </p><ul 
 style="font-weight: 400;"><li>das Sozialverhalten</li><li>die Autonomie / S
 elbstständigkeit</li><li>die Motorik</li></ul><h2 style="font-weight: 600;"
 ><span style="font-style: inherit; font-weight: 600;">Kursaufbau</span></h2
 ><p style="font-weight: 400;">Bevor es ans Spielen geht, beginnen wir mit e
 inem kurzen Morgenkreis, um uns zu begrüßen und neugierig zu schauen, wer h
 eute gekommen ist. Die Kinder dürfen sich dann ganz dem Spiel widmen und si
 ch ausprobieren, während sich die Eltern austauschen und plaudern können - 
 ihre Kinder stets im Blick. Der gemeinsame Austausch von Erfahrungen soll E
 ltern in ihrer Rolle stärken und sie darin unterstützen, im Alltag auch mal
  neue Wege zu gehen.<br /><br /></p><p style="font-weight: 400;"><strong>Al
 tersgruppe: </strong>Eltern &amp; Kind 6 Monate -3 Jahre</p><p style="font-
 weight: 400;"><strong>Schnuppertermin:</strong> 09.09.2019<br /><strong>Kur
 sstart: </strong>16.09.2019</p><p style="font-weight: 400;">Wir bitten um V
 oranmeldung!<br />Weiter Informationen &amp; Anmeldung auf unserer <a title
 ="Babytreff nach Pikler" href="https://www.lyma.at/kinder/baby-kurse/babytr
 eff-mit-pikler-elementen/" target="_blank" rel="noopener noreferrer">Websei
 te</a>! </p><p style="font-weight: 400;"></p>
CONTACT:E-Mail: office@lyma.at  Telefon: 01/9093359
DTSTAMP:20260423T211844
DTSTART:20190909T080000
DTEND:20190909T090000
SEQUENCE:0
RRULE:FREQ=WEEKLY;COUNT=9999;INTERVAL=1;BYDAY=MO,MO,MO,MO,MO
EXDATE:20191028T090000
TRANSP:OPAQUE
END:VEVENT
END:VCALENDAR