BEGIN:VCALENDAR
VERSION:2.0
PRODID:-//jEvents 2.0 for Joomla//EN
CALSCALE:GREGORIAN
METHOD:PUBLISH
BEGIN:VEVENT
UID:64d6483815ea2934968915c78bd2d95f
CATEGORIES:6. Bezirk
CREATED:19700101T010000
SUMMARY:Motopädagogik für Kleinkinder
LOCATION:LYMA - Loquaiplatz 12/1\, 1060 Wien
DESCRIPTION:Motopädagogik für die ganz Kleinen mit ErwachsenenbegleitungMotopädagogik o
 der Psychomotorik ist ein Konzept zur ganzheitlichen Persönlichkeitsbildung
  durch Wahrnehmung und Bewegung und richtet sich in diesem Vormittagskurs a
 n Babies gemeinsam mit einer Begleitperson - Mama, Papa, Oma, Opa etc. In j
 eder Einheit lernen die Kinder durch Bewegung. Alle Sinne werden dabei ange
 sprochen- das Kind hat in einem vertrauten Umfeld die Möglichkeit, sich und
  seine Welt bewegungstechnisch und sensorisch zu entdecken, erforschen und 
 sich weiterzuentwickeln. Außerdem erfahren Eltern neue Zugänge, besondere, 
 intensive Verbindungen mit ihrem Kind einzugehen und ihnen dennoch die Mögl
 ichkeit zu geben sich alleine entfalten zu können.\nStundenablaufIn Bewegun
 g kommen: Gemeinsames Singen und Tanzen, Turnen und freies Bewegen zu Beweg
 unsliedern selbst gesungen oder mit CD Begleitung.Die Erwachsenen bauen je 
 nach den Bedürfnissen, dem Alter und dem Entwicklungsstand der Kinder eine 
 Bewegungsbaustelle aufImmer enthalten: ein Tunnel, eine schräge Ebene, etwa
 s zum Balancieren.Nun dürfen bzw. sollen sich die Kinder frei bewegen, die 
 Eltern bzw. Begleiter sollen sich in dieser Zeit eher im Hintergrund halten
  ( Auszeitteppich- zum Verweilen und Rasten), um den Kindern die Möglichkei
 t zu geben ihre Bewegungsmöglichkeiten zu erforschen, entfalten und weitere
 ntwicklen zu können.Nach einem akkustischen Signal ist die Bewegungseinheit
  zu Ende.Eltern und Begleiter helfen beim Wegräumen der BewegungsbaustelleA
 usklang auf Yoga-Matten: zu angenehmer, meditativer Musik werden die Kinder
  nun massiert (mit Massagebällen oder auch Creme) oder an anderen Tagen dür
 fen die Kinder selbst aktiv sein - zum Beispiel- Kneten mit Knetmasse, Male
 n mit Rasierschaum. Teile aus der sensorischen Integration fließen dabei ei
 n. \nAltersgruppe: Eltern 6 Kinder 1-3 Jahre\nSchnupperstunde: 11.09.2019\n
 Kursstart: 18.09.2019\nWir bitten um Voranmeldung!\nWeitere Informationen &
 amp; Anmeldung auf unserer Webseite (https://www.lyma.at/kinder/baby-kurse/
 motopaedagogik-fuer-kleinkinder/)!\n\n \n
X-ALT-DESC;FMTTYPE=text/html:<h2 class="subtitle"><strong>Motopädagogik für die ganz Kleinen mit Erwachs
 enenbegleitung</strong></h2><p class="subtitle">Motopädagogik oder Psychomo
 torik ist ein Konzept zur ganzheitlichen Persönlichkeitsbildung durch Wahrn
 ehmung und Bewegung und richtet sich in diesem Vormittagskurs an Babies gem
 einsam mit einer Begleitperson - Mama, Papa, Oma, Opa etc. In jeder Einheit
  lernen die Kinder durch Bewegung. Alle Sinne werden dabei angesprochen- da
 s Kind hat in einem vertrauten Umfeld die Möglichkeit, sich und seine Welt 
 bewegungstechnisch und sensorisch zu entdecken, erforschen und sich weiterz
 uentwickeln. Außerdem erfahren Eltern neue Zugänge, besondere, intensive Ve
 rbindungen mit ihrem Kind einzugehen und ihnen dennoch die Möglichkeit zu g
 eben sich alleine entfalten zu können.</p><h2 class="subtitle"><strong>Stun
 denablauf</strong></h2><ul><li class="subtitle">In Bewegung kommen: Gemeins
 ames Singen und Tanzen, Turnen und freies Bewegen zu Bewegunsliedern selbst
  gesungen oder mit CD Begleitung.</li><li class="subtitle">Die Erwachsenen 
 bauen je nach den Bedürfnissen, dem Alter und dem Entwicklungsstand der Kin
 der eine Bewegungsbaustelle auf</li><li class="subtitle">Immer enthalten: e
 in Tunnel, eine schräge Ebene, etwas zum Balancieren.</li><li class="subtit
 le">Nun dürfen bzw. sollen sich die Kinder frei bewegen, die Eltern bzw. Be
 gleiter sollen sich in dieser Zeit eher im Hintergrund halten ( Auszeittepp
 ich- zum Verweilen und Rasten), um den Kindern die Möglichkeit zu geben ihr
 e Bewegungsmöglichkeiten zu erforschen, entfalten und weiterentwicklen zu k
 önnen.</li><li class="subtitle">Nach einem akkustischen Signal ist die Bewe
 gungseinheit zu Ende.</li><li class="subtitle">Eltern und Begleiter helfen 
 beim Wegräumen der Bewegungsbaustelle</li><li class="subtitle">Ausklang auf
  Yoga-Matten: zu angenehmer, meditativer Musik werden die Kinder nun massie
 rt (mit Massagebällen oder auch Creme) oder an anderen Tagen dürfen die Kin
 der selbst aktiv sein - zum Beispiel- Kneten mit Knetmasse, Malen mit Rasie
 rschaum. Teile aus der sensorischen Integration fließen dabei ein. </li></u
 l><p><strong><br />Altersgruppe:</strong> Eltern 6 Kinder 1-3 Jahre<br /><s
 trong>Schnupperstunde:</strong> 11.09.2019<br /><strong>Kursstart:</strong>
  18.09.2019</p><p>Wir bitten um Voranmeldung!<br />Weitere Informationen &a
 mp; Anmeldung auf unserer <a title="Motopädagogik für Kleinkinder" href="ht
 tps://www.lyma.at/kinder/baby-kurse/motopaedagogik-fuer-kleinkinder/" targe
 t="_blank" rel="noopener noreferrer">Webseite</a>!</p><p></p><p> </p>
CONTACT:E-Mail: office@lyma.at  Telefon: 01/9093359
DTSTAMP:20260423T212026
DTSTART:20190911T080000
DTEND:20190911T090000
SEQUENCE:0
RRULE:FREQ=WEEKLY;UNTIL=20191212T000000Z;INTERVAL=1;BYDAY=WE,WE,WE,WE,WE
EXDATE:20191030T090000
TRANSP:OPAQUE
END:VEVENT
END:VCALENDAR