BEGIN:VCALENDAR
VERSION:2.0
PRODID:-//jEvents 2.0 for Joomla//EN
CALSCALE:GREGORIAN
METHOD:PUBLISH
BEGIN:VEVENT
UID:dbcdd730f3057b03f99db97687d19cd0
CATEGORIES:6. Bezirk
CREATED:19700101T010000
SUMMARY:Elementares Musizieren für Babys
LOCATION:LYMA - Loquaiplatz 12/1\, 1060 Wien
DESCRIPTION:Musikunterricht für Eltern &amp; BabysElementares Musizieren ist Musikunter
 richt für Babys in Begleitung von mama, Papa, Oma oder Opa. In angenehmer A
 tmosphäre erleben die Eltern eine wertvolle Zeit mit ihrem Kind! In dieser 
 Geborgenheit wiegend, machen die Kinder ihre ersten Schritte bei der Entdec
 kung einer kleinen Klangwelt.\nDie Kinder lernen ganz nebenbei viel im sozi
 alen Miteinander, haben die Möglichkeit, zu beobachten, aber auch selbst zu
  agieren. Wichtig ist, den Kindern jenen Raum und die Zeit zu geben, die si
 e brauchen, um sich weiter zu entwickeln. So kann jedes Baby von Beginn an 
 lustvolles Musizieren in einer kleinen Gruppe erleben! Die gemeinsame Stund
 e wird sehr vielseitig gestaltet! Ansprechendes Material (Bälle, Tücher,...
 ) und natürlich altersgerechte Instrumente begleiten alle Stunden. Das rhyt
 hmische Wiegen im sicheren Arm der Eltern bei Kniereiter-Versen, Liedern, R
 eimen aber auch bei gemeinsamen Tänzen und das wohlwollende Miteinander tra
 gen dazu bei, dem Kind das Gefühl für und die Freude an der Musik mitzugebe
 n. So wird ein Grundstein gelegt, ein Geschenk für das weitere Leben!\nAlte
 srgruppe: Eltern &amp; Kind 6-24 Monate\n\nSchnupperstunde: 12.09.2019\nKur
 sstart: 19.09.2019\n\nWir Bitten um Voranmeldung!\nWeitere Informationen un
 d Anmeldung auf unserer Webseite (https://www.lyma.at/kinder/musikkurse-wie
 n/elementares-musizieren-fuer-babys/)!\n\n
X-ALT-DESC;FMTTYPE=text/html:<h2 class="subtitle"><strong>Musikunterricht für Eltern &amp; Babys</strong
 ></h2><p class="subtitle">Elementares Musizieren ist Musikunterricht für Ba
 bys in Begleitung von mama, Papa, Oma oder Opa. In angenehmer Atmosphäre er
 leben die Eltern eine wertvolle Zeit mit ihrem Kind! In dieser Geborgenheit
  wiegend, machen die Kinder ihre ersten Schritte bei der Entdeckung einer k
 leinen Klangwelt.</p><p class="subtitle">Die Kinder lernen ganz nebenbei vi
 el im sozialen Miteinander, haben die Möglichkeit, zu beobachten, aber auch
  selbst zu agieren. Wichtig ist, den Kindern jenen Raum und die Zeit zu geb
 en, die sie brauchen, um sich weiter zu entwickeln. So kann jedes Baby von 
 Beginn an lustvolles Musizieren in einer kleinen Gruppe erleben! Die gemein
 same Stunde wird sehr vielseitig gestaltet! Ansprechendes Material (Bälle, 
 Tücher,...) und natürlich altersgerechte Instrumente begleiten alle Stunden
 . Das rhythmische Wiegen im sicheren Arm der Eltern bei Kniereiter-Versen, 
 Liedern, Reimen aber auch bei gemeinsamen Tänzen und das wohlwollende Mitei
 nander tragen dazu bei, dem Kind das Gefühl für und die Freude an der Musik
  mitzugeben. So wird ein Grundstein gelegt, ein Geschenk für das weitere Le
 ben!</p><p class="subtitle"><strong>Altesrgruppe:</strong> Eltern &amp; Kin
 d 6-24 Monate<br /><br /><strong>Schnupperstunde:</strong> 12.09.2019<br />
 <strong>Kursstart: </strong>19.09.2019<br /><br />Wir Bitten um Voranmeldun
 g!<br />Weitere Informationen und Anmeldung auf unserer <a title="Elementar
 es Musizieren für Babys" href="https://www.lyma.at/kinder/musikkurse-wien/e
 lementares-musizieren-fuer-babys/" target="_blank" rel="noopener noreferrer
 ">Webseite</a>!</p><p class="subtitle"></p>
CONTACT:E-Mail: office@lyma.at  Telefon: 01/9093359
DTSTAMP:20260423T095855
DTSTART:20190912T080000
DTEND:20190912T090000
SEQUENCE:0
RRULE:FREQ=WEEKLY;UNTIL=20191213T000000Z;INTERVAL=1;BYDAY=TH
EXDATE:20191031T090000
TRANSP:OPAQUE
END:VEVENT
END:VCALENDAR