BEGIN:VCALENDAR
VERSION:2.0
PRODID:-//jEvents 2.0 for Joomla//EN
CALSCALE:GREGORIAN
METHOD:PUBLISH
BEGIN:VEVENT
UID:b72bfffdde84b110bae406ef4780aa66
CATEGORIES:6. Bezirk
CREATED:20190822T143752
SUMMARY:Erste Hilfe für Babys & Kleinkinder 
LOCATION:LYMA - Loquaiplatz 12/1\, 1060 Wien 
DESCRIPTION:Crashkurs: So hilfst du deinem KindDas Leben als kleines Kind ist ganz schö
 n aufregend. Es gibt vieles zu entdecken und vor allem zu lernen. Was bedeu
 tet „heiß“? Was passiert wenn ich Sachen in den Mund oder die Ohren stecke?
  Kann ich vom Klettergerüst springen? Ist die bunte Flüssigkeit gut?\n\nKin
 der lernen die Gefahren ihrer Umwelt durch erforschen und entdecken. Als El
 tern sind wir immer dahinter, sie vor möglichen Gefahren zu schützen und me
 istens gelingt uns das auch. Doch der Teufel schläft nicht und wenn etwas p
 assiert, ist es an uns Eltern rasch und richtig zu handeln. Im Workshop Ers
 te Hilfe für Säuglings- und Kindernotfälle erfährst du kurz und kompakt, wi
 e du Notfälle erkennst und darauf reagieren kannst, wie du Symptome richtig
  deutest, wie die Rettungskette reibungslos abläuft und wie du deinem Kind 
 am besten Helfen kannst. \nUnsere Begleiterin und Hebamme Julia Eva Friedre
 ich ist ausgebildete Notfallsanitäterin und gibt einen kompakten Abriß zu d
 en Themen Verbrennungen, Vergiftungen, Kinderkrankheiten, Erfrierungen und 
 Reanimation.\n\nWir bitten um Verständnis, das Kinder und Babys am Vortrag 
 nicht teilnehmen können, da dieser kompakt sein wird und die volle Aufmerks
 amkeit der TeilnehmerInnen erfordert. \nAltersgruppe: Eltern\n\nWeitere Inf
 ormationen und Anmeldung auf unserer Webseite (https://www.lyma.at/workshop
 s/erste-hilfe-fuer-babys-and-kleinkinder/)!\n\nPreis: Einzel Person: 39 € |
  Paare: 69 €\n
X-ALT-DESC;FMTTYPE=text/html:<h2><strong>Crashkurs: So hilfst du deinem Kind</strong></h2><p class="subt
 itle">Das Leben als kleines Kind ist ganz schön aufregend. Es gibt vieles z
 u entdecken und vor allem zu lernen. Was bedeutet „heiß“? Was passiert wenn
  ich Sachen in den Mund oder die Ohren stecke? Kann ich vom Klettergerüst s
 pringen? Ist die bunte Flüssigkeit gut?<br /><br />Kinder lernen die Gefahr
 en ihrer Umwelt durch erforschen und entdecken. Als Eltern sind wir immer d
 ahinter, sie vor möglichen Gefahren zu schützen und meistens gelingt uns da
 s auch. Doch der Teufel schläft nicht und wenn etwas passiert, ist es an un
 s Eltern rasch und richtig zu handeln. Im Workshop Erste Hilfe für Säugling
 s- und Kindernotfälle erfährst du kurz und kompakt, wie du Notfälle erkenns
 t und darauf reagieren kannst, wie du Symptome richtig deutest, wie die Ret
 tungskette reibungslos abläuft und wie du deinem Kind am besten Helfen kann
 st. </p><p>Unsere Begleiterin und Hebamme Julia Eva Friedreich ist ausgebil
 dete Notfallsanitäterin und gibt einen kompakten Abriß zu den Themen Verbre
 nnungen, Vergiftungen, Kinderkrankheiten, Erfrierungen und Reanimation.<br 
 /><br /><em>Wir bitten um Verständnis, das Kinder und Babys am Vortrag nich
 t teilnehmen können, da dieser kompakt sein wird und die volle Aufmerksamke
 it der TeilnehmerInnen erfordert. </em></p><p><strong>Altersgruppe: </stron
 g>Eltern<br /><br />Weitere Informationen und Anmeldung auf unserer <a titl
 e="Erste Hilfe für Babys und Kleinkinder " href="https://www.lyma.at/worksh
 ops/erste-hilfe-fuer-babys-and-kleinkinder/" target="_blank" rel="noopener 
 noreferrer">Webseite</a>!<br /><br />Preis: Einzel Person: 39 € | Paare: 69
  €</p>
CONTACT:E-Mail: office@lyma.at  Telefon: 01/9093359
DTSTAMP:20260423T200749
DTSTART:20191019T083000
DTEND:20191019T110000
SEQUENCE:0
TRANSP:OPAQUE
END:VEVENT
END:VCALENDAR