BEGIN:VCALENDAR
VERSION:2.0
PRODID:-//jEvents 2.0 for Joomla//EN
CALSCALE:GREGORIAN
METHOD:PUBLISH
BEGIN:VEVENT
UID:90f0c0b4951a6a03be4544d47fc4b42b
CATEGORIES:13. Bezirk
CREATED:19700101T010000
SUMMARY:Mama-Baby-Yoga
LOCATION:Schönbrunner Schlosspark\, Kronprinzengarten
DESCRIPTION:Mamis und Papis aufgepasst!\nIn Landtmann's Jausen Station (https://www.fac
 ebook.com/landtmannsjausenstation/), unserer gru?nen Stadtoase, umgeben von
  Wiesen, duftenden Rosen und mit Blick auf das Schloss Schönbrunn, gibt es 
 jetzt etwas ganz Besonderes für alle Mamas und/oder Papas, die sich gemeins
 am mit ihren Kindern bewegen möchten. An diesem schönen Platzerl finden imm
 er Mittwoch Früh - bei schönem Wetter - Family Yoga Stunden unter der Leitu
 ng des Yogateams von Amazing Yoga Vienna (https://www.facebook.com/amazing.
 yoga/) statt.\n\nWas ist Family Yoga?\nIm Mittelpunkt stehen sanfte Übungen
 , bei denen die Mitte von Eltern und Kind gestärkt wird. Ein besonderer Sch
 werpunkt liegt zusätzlich auf entspannenden Übungen für Hände, Schultern un
 d Nacken, die durch das Tragen und Heben besonders gefordert werden. In die
 ser Yogapraxis stehen die Bedürfnisse von Eltern und Kind im Vordergrund, d
 aher kann ganz nach Bedarf gefüttert, gestillt, gewickelt und getragen werd
 en. Vorkenntnisse sind nicht notwendig. Geeignet für Kinder bis 6 Jahre.\n\
 nIm Anschluss gibt es ausreichend Zeit zum Austausch mit anderen Mamis und 
 Papis. Für einen feinen, kulinarischen Start in den Tag sorgt dabei gerne d
 as Team von Landtmann's Jausen Station (https://www.facebook.com/landtmanns
 jausenstation/).\n\nWer unterrichtet?\nDie Yogastunden finden unter der Lei
 tung von Karin Gartner aus dem Team von Amazing Yoga Vienna statt. www.amaz
 ing-yoga.at (http://www.amazing-yoga.at/?fbclid=IwAR1a_Yrwmv7wd3wSQAnGOz8Q7
 WNlTl7F8NLBJGd9RauQb5l6lmwnDiZXR_U)\n\nWas brauche ich?\nHandtuch, bequeme 
 Kleidung und eine Decke für das Kind bitte mitnehmen.\n\nWo?\nLandtmann's J
 ausen Station (https://www.facebook.com/landtmannsjausenstation/)\nwww.land
 tmann-jausenstation.at (http://www.landtmann-jausenstation.at/?fbclid=IwAR3
 beZSdU7sXLb1DZFAXIzJChnhxQS9aXqIAp-SNDJKIjb1v79JxcuXrDNs)\nSchönbrunner Sch
 losspark, Kronprinzengarten, 1130 Wien\nOutdoor - Im "Secretgarden" umgeben
  von schützenden Hecken und Bäumen für Ruhe und Entspannung.\n
X-ALT-DESC;FMTTYPE=text/html:<p>Mamis und Papis aufgepasst!<br />In <a href="https://www.facebook.com/la
 ndtmannsjausenstation/" target="_blank" rel="noopener noreferrer">Landtmann
 's Jausen Station</a>, unserer gru?nen Stadtoase, umgeben von Wiesen, dufte
 nden Rosen und mit Blick auf das Schloss Schönbrunn, gibt es jetzt etwas ga
 nz Besonderes für alle Mamas und/oder Papas, die sich gemeinsam mit ihren K
 indern bewegen möchten. An diesem schönen Platzerl finden immer Mittwoch Fr
 üh - bei schönem Wetter - Family Yoga Stunden unter der Leitung des Yogatea
 ms von <a href="https://www.facebook.com/amazing.yoga/" target="_blank" rel
 ="noopener noreferrer">Amazing Yoga Vienna</a> statt.<br /><br />Was ist Fa
 mily Yoga?<br />Im Mittelpunkt stehen sanfte Übungen, bei denen die Mitte v
 on Eltern und Kind gestärkt wird. Ein besonderer Schwerpunkt liegt zusätzli
 ch auf entspannenden Übungen für Hände, Schultern und Nacken, die durch das
  Tragen und Heben besonders gefordert werden. In dieser Yogapraxis stehen d
 ie Bedürfnisse von Eltern und Kind im Vordergrund, daher kann ganz nach Bed
 arf gefüttert, gestillt, gewickelt und getragen werden. Vorkenntnisse sind 
 nicht notwendig. Geeignet für Kinder bis 6 Jahre.<br /><br />Im Anschluss g
 ibt es ausreichend Zeit zum Austausch mit anderen Mamis und Papis. Für eine
 n feinen, kulinarischen Start in den Tag sorgt dabei gerne das Team von <a 
 href="https://www.facebook.com/landtmannsjausenstation/" target="_blank" re
 l="noopener noreferrer">Landtmann's Jausen Station</a>.<br /><br />Wer unte
 rrichtet?<br />Die Yogastunden finden unter der Leitung von Karin Gartner a
 us dem Team von Amazing Yoga Vienna statt. <a href="http://www.amazing-yoga
 .at/?fbclid=IwAR1a_Yrwmv7wd3wSQAnGOz8Q7WNlTl7F8NLBJGd9RauQb5l6lmwnDiZXR_U" 
 target="_blank" rel="nofollow noopener noreferrer" data-lynx-mode="hover" d
 ata-lynx-uri="https://l.facebook.com/l.php?u=http%3A%2F%2Fwww.amazing-yoga.
 at%2F%3Ffbclid%3DIwAR1a_Yrwmv7wd3wSQAnGOz8Q7WNlTl7F8NLBJGd9RauQb5l6lmwnDiZX
 R_U&amp;h=AT2fvvNehheOfL8qesG23XD7e1gMasdcMVh2NlLTahRX8q9yrZafWAmg_B167RIpD
 24eedzqOlMPkCDYGoebDizAgtnIE7g-lwBfID0SWYx0q6j5_qI5e0o0VdHnTCdZvSK_9N2P4QfG
 3lwSq0yEj9M">www.amazing-yoga.at</a><br /><br />Was brauche ich?<br />Handt
 uch, bequeme Kleidung und eine Decke für das Kind bitte mitnehmen.<br /><br
  />Wo?<br /><a href="https://www.facebook.com/landtmannsjausenstation/" tar
 get="_blank" rel="noopener noreferrer">Landtmann's Jausen Station</a><br />
 <a href="http://www.landtmann-jausenstation.at/?fbclid=IwAR3beZSdU7sXLb1DZF
 AXIzJChnhxQS9aXqIAp-SNDJKIjb1v79JxcuXrDNs" target="_blank" rel="nofollow no
 opener noreferrer" data-lynx-mode="hover" data-lynx-uri="https://l.facebook
 .com/l.php?u=http%3A%2F%2Fwww.landtmann-jausenstation.at%2F%3Ffbclid%3DIwAR
 3beZSdU7sXLb1DZFAXIzJChnhxQS9aXqIAp-SNDJKIjb1v79JxcuXrDNs&amp;h=AT2bojy9U2C
 SZ-AIAlCPrQoepuN_y8dl3OhC7t2CQr3mv-IGc0MWOjG-XWg70SdRSMOBtLgxcmYY29tKduAA0X
 r2Bremb06pP_PSpFRshnSbnmB9OkU8FnpVzMhSLFxkseJqAT5buYrFJavZcLXdaD8">www.land
 tmann-jausenstation.at</a><br />Schönbrunner Schlosspark, Kronprinzengarten
 , 1130 Wien<br />Outdoor - Im "Secretgarden" umgeben von schützenden Hecken
  und Bäumen für Ruhe und Entspannung.</p>
CONTACT:https://bit.ly/2L05M3G
X-EXTRAINFO:[preis='1000'][anmeldung='true']
DTSTAMP:20260423T182431
DTSTART:20190828T070000
DTEND:20190828T080000
SEQUENCE:0
RRULE:FREQ=WEEKLY;UNTIL=20190926T000000Z;INTERVAL=1;BYDAY=WE
TRANSP:OPAQUE
END:VEVENT
END:VCALENDAR