BEGIN:VCALENDAR
VERSION:2.0
PRODID:-//jEvents 2.0 for Joomla//EN
CALSCALE:GREGORIAN
METHOD:PUBLISH
BEGIN:VEVENT
UID:a44d8ed5c229e881b745d4f0049bde79
CATEGORIES:8. Bezirk
CREATED:20190901T070327
SUMMARY:Mawiba MAMA BABY TANZ 
LOCATION:1080 Wien\, Josefstädter Straße 81-83\, 2ter Innenhof\, Souterrainstudio li
 nks
DESCRIPTION:Liebe Babymamas, liebe Babypapas, liebe Babys!\nAb jetzt wird wieder getanz
 t und zwar im neuen Studios!\nWO? Im MAMA &amp; PAPA PUR im 8. Bezirk, Jose
 fstädter Straße 81-83, 2ter Innenhof, Souterrainstudio links\nWANN? Di. 24.
 09.2019, um 13:00Uhr tanzen wir los.Ab 12:45 Uhr ist das Studio besetzt. Wi
 r tanzen eine Stunde und anschließend gehört der Raum 30 min uns, um zu pla
 udern.\nALTER DER BABYS - nach dem postnatale Check darf die Mama mit Ihrem
  Baby starten, solange wie sie es tragen möchte!\nKURSKOSTEN: \nGratis Schn
 uppern featured by Babymamas AktivwochenFür alle babymamas.at LeserInnen\nJ
 eder darf mittanzen - es sind keine Vorkenntnisse notwendig!\nANMELDUNG erf
 orderlich!\nMehr Info auch auf www.mupp.at\n \nIch freue auf Euch!\nEure\nM
 ela\n
X-ALT-DESC;FMTTYPE=text/html:<p class="p1"><strong><span class="s1">Liebe Babymamas, liebe Babypapas, li
 ebe Babys!</span></strong></p><p class="p2">Ab jetzt wird wieder getanzt un
 d zwar im neuen Studios!</p><p class="p1"><span class="s1">WO? Im MAMA &amp
 ; PAPA PUR im 8. Bezirk, Josefstädter Straße 81-83, 2ter Innenhof, Souterra
 instudio links</span></p><p class="p1"><span class="s1">WANN? Di. 24.09.201
 9, um 13:00Uhr tanzen wir los.</span><span class="s1">Ab 12:45 Uhr ist das 
 Studio besetzt. Wir tanzen eine Stunde und anschließend gehört der Raum 30 
 min uns, um zu plaudern.</span></p><p class="p1"><span class="s1">ALTER DER
  BABYS - nach dem postnatale Check darf die Mama mit Ihrem Baby starten, so
 lange wie sie es tragen möchte!</span></p><p class="p1"><span class="s1">KU
 RSKOSTEN: </span></p><p class="p1"><span class="s1">Gratis Schnuppern featu
 red by </span><span class="s1">Babymamas Aktivwochen</span><span class="s1"
 >Für alle babymamas.at LeserInnen</span></p><p class="p1"><span class="s1">
 Jeder darf mittanzen - es sind keine Vorkenntnisse notwendig!</span></p><p 
 class="p1"><span class="s1">ANMELDUNG erforderlich!</span></p><p class="p1"
 >Mehr Info auch auf www.mupp.at</p><p class="p2"> </p><p class="p1"><span c
 lass="s1">Ich freue auf Euch!</span></p><p class="p1"><span class="s1">Eure
 </span></p><p class="p1"><span class="s1">Mela</span></p>
CONTACT:www.mupp.at, info@mupp.at, 0690 10018258
X-EXTRAINFO:[preis='000'][anmeldung='true']
DTSTAMP:20260424T153132
DTSTART:20190917T110000
DTEND:20190917T120000
SEQUENCE:0
TRANSP:OPAQUE
END:VEVENT
END:VCALENDAR