BEGIN:VCALENDAR
VERSION:2.0
PRODID:-//jEvents 2.0 for Joomla//EN
CALSCALE:GREGORIAN
METHOD:PUBLISH
BEGIN:VEVENT
UID:a46d177ef311f662ac57770871fe1a72
CATEGORIES:17. Bezirk
CREATED:20190902T220132
SUMMARY:MINIMUSIK Schnupperstunde 0-2Jahre: Singen, Spielen & Musizieren
LOCATION:Polymorph\, Paschinggasse 8\, 1170 Wien
DESCRIPTION:<p>Gratis-Schnupperstunde! Kursstart ist am 30. September, immer montags: w
 ww.minimusik.at</p><p><strong>Macht es Ihnen und Ihrem Kind Spaß, zusammen 
 zu singen</strong>, zu plaudern und zu brabbeln, zu scherzen und sich zu be
 wegen? Hört Ihr Kind gerne Ihre Stimme, beruhigen Sie es manchmal sanft mit
  einer kleinen Melodie oder inbrünstig mit einem ganzen Repertoire an Kinde
 rliedern? In der MiniMusik1 sind Sie genau richtig, egal wieviel musikalisc
 he Erfahrung Sie haben.</p><p><strong>Wir singen alte und neue Kinderlieder
 , machen lustige Bewegungsspiele</strong>, die nicht nur Ihr Kind zum Lache
 n bringen, und fördern ganz spielerisch die feinmotorische, soziale und spr
 achliche Entwicklung Ihres Kindes.</p>
CONTACT:Mag. Lisa Farthofer-Schmid, MiniMusikWien@gmail.com, Tel.: 0699-13804247
X-EXTRAINFO:[preis='000'][anmeldung='true']
DTSTAMP:20260426T013152
DTSTART:20190923T124000
DTEND:20190923T133000
SEQUENCE:0
TRANSP:OPAQUE
END:VEVENT
END:VCALENDAR