BEGIN:VCALENDAR
VERSION:2.0
PRODID:-//jEvents 2.0 for Joomla//EN
CALSCALE:GREGORIAN
METHOD:PUBLISH
BEGIN:VEVENT
UID:92297c28ec876f809796ec5a208dab43
CATEGORIES:17. Bezirk
CREATED:19700101T010000
SUMMARY:MiniMusik 0-2Jahre: Singen, Spielen, Musizieren
LOCATION:Polymorph\, Paschinggasse 8\, 1170 Wien
DESCRIPTION:Macht es Ihnen und Ihrem Kind Spaß, zusammen zu singen, zu plaudern und zu 
 brabbeln, zu scherzen und sich zu bewegen? Hört Ihr Kind gerne Ihre Stimme,
  beruhigen Sie es manchmal sanft mit einer kleinen Melodie oder inbrünstig 
 mit einem ganzen Repertoire an Kinderliedern? In der MiniMusik sind Sie gen
 au richtig, egal wieviel musikalische Erfahrung Sie haben.\nWir singen alte
  und neue Kinderlieder, machen lustige Bewegungsspiele, die nicht nur Ihr K
 ind zum Lachen bringen, und fördern ganz spielerisch die feinmotorische, so
 ziale und sprachliche Entwicklung Ihres Kindes.\nwww.minimusik.at\n
X-ALT-DESC;FMTTYPE=text/html:<p><strong>Macht es Ihnen und Ihrem Kind Spaß, zusammen zu singen</strong>,
  zu plaudern und zu brabbeln, zu scherzen und sich zu bewegen? Hört Ihr Kin
 d gerne Ihre Stimme, beruhigen Sie es manchmal sanft mit einer kleinen Melo
 die oder inbrünstig mit einem ganzen Repertoire an Kinderliedern? In der Mi
 niMusik sind Sie genau richtig, egal wieviel musikalische Erfahrung Sie hab
 en.</p><p><strong>Wir singen alte und neue Kinderlieder, machen lustige Bew
 egungsspiele</strong>, die nicht nur Ihr Kind zum Lachen bringen, und förde
 rn ganz spielerisch die feinmotorische, soziale und sprachliche Entwicklung
  Ihres Kindes.</p><p>www.minimusik.at</p>
CONTACT:Mag. Lisa Farthofer-Schmid, MiniMusikWien@gmail.com, Tel.: 0699-13804247
X-EXTRAINFO:[preis='1500'][anmeldung='true']
DTSTAMP:20260423T223539
DTSTART:20190930T124000
DTEND:20190930T133000
SEQUENCE:0
RRULE:FREQ=WEEKLY;UNTIL=20191218T000000Z;INTERVAL=1;BYDAY=MO
TRANSP:OPAQUE
END:VEVENT
END:VCALENDAR