BEGIN:VCALENDAR
VERSION:2.0
PRODID:-//jEvents 2.0 for Joomla//EN
CALSCALE:GREGORIAN
METHOD:PUBLISH
BEGIN:VEVENT
UID:d6d8d97ee1a283b39605cf465086d678
CATEGORIES:17. Bezirk
CREATED:20190902T220736
SUMMARY:MINIMUSIK Schnupperstunde 2-4Jahre: Singen, Spielen, Musizieren
LOCATION:Polymorph\, Paschinggasse 8\, 1170 Wien
DESCRIPTION:Gratis-Schnupperstunde! Schau vorbei! www.minimusik.at\n\nWir singen, spiel
 en, musizieren und bewegen uns in diesem Kurs zu neuen und alten Liedern un
 d zu eigens für die MiniMusik komponierten Songs. Es gibt Instrumente zum M
 itmachen und wir gestalten Bewegungsspiele und Gruppenspiele mit unterschie
 dlichen Materialien, bei denen alle Spaß haben können.\nDabei wird ganz spi
 elerisch die kindliche Wahrnehmung und Feinmotorik gefördert. Die Kinder le
 rnen ihre Energie in Gesang und Bewegung umzusetzen und zwischen Stille, Zu
 hören, rhythmischer Bewegung und Sich-Austoben zu koordinieren.\nSich gemei
 nsam im Gruppengesang und Gruppenklang geborgen fühlen, sich ausrasten und 
 austoben zu können und selber zu gestalten – alleine und miteinander, dies 
 alles sind wertvolle Erfahrungen, die die MiniMusik den Kindern bietet.\n
X-ALT-DESC;FMTTYPE=text/html:<p><strong>Gratis-Schnupperstunde! Schau vorbei! www.minimusik.at<br /></st
 rong></p><p><strong>Wir singen, spielen, musizieren und bewegen uns</strong
 > in diesem Kurs zu neuen und alten Liedern und zu eigens für die MiniMusik
  komponierten Songs. Es gibt Instrumente zum Mitmachen und wir gestalten Be
 wegungsspiele und Gruppenspiele mit unterschiedlichen Materialien, bei dene
 n alle Spaß haben können.</p><p><strong>Dabei wird ganz spielerisch die kin
 dliche Wahrnehmung und Feinmotorik gefördert</strong>. Die Kinder lernen ih
 re Energie in Gesang und Bewegung umzusetzen und zwischen Stille, Zuhören, 
 rhythmischer Bewegung und Sich-Austoben zu koordinieren.</p><p><strong>Sich
  gemeinsam im Gruppengesang und Gruppenklang geborgen fühlen</strong>, sich
  ausrasten und austoben zu können und selber zu gestalten – alleine und mit
 einander, dies alles sind wertvolle Erfahrungen, die die MiniMusik den Kind
 ern bietet.</p>
CONTACT:Mag. Lisa Farthofer-Schmid, MiniMusikWien@gmail.com, Tel.: 0699-13804247
X-EXTRAINFO:[preis='000'][anmeldung='true']
DTSTAMP:20260426T012829
DTSTART:20190923T135000
DTEND:20190923T144000
SEQUENCE:0
TRANSP:OPAQUE
END:VEVENT
END:VCALENDAR