BEGIN:VCALENDAR
VERSION:2.0
PRODID:-//jEvents 2.0 for Joomla//EN
CALSCALE:GREGORIAN
METHOD:PUBLISH
BEGIN:VEVENT
UID:e35fb9a63c1171c82f25d299dd00b6a9
CATEGORIES:17. Bezirk
CREATED:19700101T010000
SUMMARY:MiniMusik 2-4Jahre: Singen, Spielen, Musizieren
LOCATION:Polymorph\, Paschinggasse 8\, 1170 Wien
DESCRIPTION:<p><strong>Wir singen, spielen, musizieren und bewegen uns</strong> in dies
 em Kurs zu neuen und alten Liedern und zu eigens für die MiniMusik komponie
 rten Songs. Es gibt Instrumente zum Mitmachen und wir gestalten Bewegungssp
 iele und Gruppenspiele mit unterschiedlichen Materialien, bei denen alle Sp
 aß haben können.</p><p><strong>Dabei wird ganz spielerisch die kindliche Wa
 hrnehmung und Feinmotorik gefördert</strong>. Die Kinder lernen ihre Energi
 e in Gesang und Bewegung umzusetzen und zwischen Stille, Zuhören, rhythmisc
 her Bewegung und Sich-Austoben zu koordinieren.</p><p><strong>Sich gemeinsa
 m im Gruppengesang und Gruppenklang geborgen fühlen</strong>, sich ausraste
 n und austoben zu können und selber zu gestalten – alleine und miteinander,
  dies alles sind wertvolle Erfahrungen, die die MiniMusik den Kindern biete
 t.</p><p>www.minimusik.at</p>
CONTACT:Mag. Lisa Farthofer-Schmid, MiniMusikWien@gmail.com, Tel.: 0699-13804247
X-EXTRAINFO:[preis='1500'][anmeldung='true']
DTSTAMP:20260423T210450
DTSTART:20190930T135000
DTEND:20190930T144000
SEQUENCE:0
RRULE:FREQ=WEEKLY;UNTIL=20191218T000000Z;INTERVAL=1;BYDAY=MO
TRANSP:OPAQUE
END:VEVENT
END:VCALENDAR