BEGIN:VCALENDAR
VERSION:2.0
PRODID:-//jEvents 2.0 for Joomla//EN
CALSCALE:GREGORIAN
METHOD:PUBLISH
BEGIN:VEVENT
UID:06fb568a09ae05dcbd4de06e8fa99c35
CATEGORIES:Wien Umgebung
CREATED:20190903T094917
SUMMARY:Kinder mögen Hausmittel
LOCATION:EKIZ Ebreichsdorf/Weigelsdorf
DESCRIPTION:Husten, Schnupfen, Fieber, Bauchweh,… so oft gibt es kleine „Notfälle“ im A
 lltag mit Kindern!Mit Hausmitteln kann man viele Beschwerden im Familienall
 tag lindern und den Kindern liebevoll helfen.Was erwartet dich in diesem Wo
 rkshop?\n *Wir probieren traditionelle Anwendungen wie bspw. Wickel gemeins
 am aus, denn was man einmal selber gemacht hat, vergisst man nicht mehr!\n 
 *Wir tauschen Tipps und Tricks aus um Kinder für die Hausmittel zu gewinnen
 .\n *Wir überlegen, was aus unserem Haushalt verwendbar ist. Hausmittel wer
 den aus Dingen hergestellt – die man zu Hause hat.\n *Wir lernen Zutaten au
 s unserem Küchenschrank kennen die spontan, jederzeit zur Verfügung stehen.
 \nAußerdem sprechen wir über viele typische Beschwerden in der Kindheit, Za
 hnung, gerötete Haut, Fieber,…. und natürlich eure Fragen stehen im Mittelp
 unkt dieses Halbtages.\n*******\n Alle selbst hergestellten Hausmittel kann
 st du mit nach Hause nehmen!\n—————————————————————————–\n 65,- inkl. Mater
 ial für die Hausmittel + Rezeptsammlung für zu Hause + Tee + Kleine Jause /
 / Dauer circa 4 Stunden // Anmeldung erforderlich // Beschränkte Teilnehmer
 Innenzahl // claudia@kinderhausmittel.com (mailto:claudia@kinderhausmittel.
 com) // +43650 500 9131 // www.kinderhausmittel.com/ (http://www.kinderhaus
 mittel.com/?fbclid=IwAR2d5a0oUX6kITNa7eV1Xdgg0JPPCCWw1IrFnWVdTCWjW-JSN7pQqt
 zqV6k)\n
X-ALT-DESC;FMTTYPE=text/html:<div class="fl-module fl-module-fl-post-content fl-node-5b6803aec1c9d" data
 -node="5b6803aec1c9d"><div class="fl-module-content fl-node-content"><h3>Hu
 sten, Schnupfen, Fieber, Bauchweh,… so oft gibt es kleine „Notfälle“ im All
 tag mit Kindern!</h3><h4>Mit Hausmitteln kann man viele Beschwerden im Fami
 lienalltag lindern und den Kindern liebevoll helfen.</h4><p>Was erwartet di
 ch in diesem Workshop?<br /> *Wir probieren traditionelle Anwendungen wie b
 spw. Wickel gemeinsam aus, denn was man einmal selber gemacht hat, vergisst
  man nicht mehr!<br /> *Wir tauschen Tipps und Tricks aus um Kinder für die
  Hausmittel zu gewinnen.<br /> *Wir überlegen, was aus unserem Haushalt ver
 wendbar ist. Hausmittel werden aus Dingen hergestellt – die man zu Hause ha
 t.<br /> *Wir lernen Zutaten aus unserem Küchenschrank kennen die spontan, 
 jederzeit zur Verfügung stehen.</p><p>Außerdem sprechen wir über viele <str
 ong>typische Beschwerden in der Kindheit, Zahnung, gerötete Haut, Fieber,….
  und natürlich eure Fragen</strong> stehen im Mittelpunkt dieses Halbtages.
 </p><p>*******<br /> Alle selbst hergestellten Hausmittel kannst du mit nac
 h Hause nehmen!</p><p>—————————————————————————–<br /> 65,- inkl. Material 
 für die Hausmittel + Rezeptsammlung für zu Hause + Tee + Kleine Jause // Da
 uer circa 4 Stunden // Anmeldung erforderlich // Beschränkte TeilnehmerInne
 nzahl // <a href="mailto:claudia@kinderhausmittel.com">claudia@kinderhausmi
 ttel.com</a> // +43650 500 9131 // <a href="http://www.kinderhausmittel.com
 /?fbclid=IwAR2d5a0oUX6kITNa7eV1Xdgg0JPPCCWw1IrFnWVdTCWjW-JSN7pQqtzqV6k">www
 .kinderhausmittel.com/</a></p></div></div>
CONTACT:claudia@kinderhausmittel.com
X-EXTRAINFO:[preis='6500'][anmeldung='true']
DTSTAMP:20260425T152853
DTSTART:20190921T070000
DTEND:20190921T110000
SEQUENCE:0
TRANSP:OPAQUE
END:VEVENT
END:VCALENDAR