BEGIN:VCALENDAR
VERSION:2.0
PRODID:-//jEvents 2.0 for Joomla//EN
CALSCALE:GREGORIAN
METHOD:PUBLISH
BEGIN:VEVENT
UID:1d1da41fa791c60a96eb39a6a02c062c
CATEGORIES:15. Bezirk
CREATED:20190903T095150
SUMMARY:Kinder mögen Hausmittel
LOCATION:Kinder Atelier Wien\, Neubaugürtel 7\, 1150 Wien
DESCRIPTION:ZUSATZTERMIN FÜR BABYMAMAS!Ein exklusiver, ausführlicher Hausmittel-Worksho
 p am 26.9.2019  von 9.30-12.30 Uhr im Kinderatelier Wien zum vergünstigten 
 Preis von 49,- Euro inklusive aller Zutaten &amp; Kursunterlagen. \nHusten,
  Schnupfen, Fieber, Bauchweh,… so oft gibt es kleine „Notfälle“ im Alltag m
 it Kindern!Mit Hausmitteln kann man viele Beschwerden im Familienalltag lin
 dern und den Kindern liebevoll helfen.Was erwartet dich in diesem Workshop?
 \n\n *Wir probieren traditionelle Anwendungen wie bspw. Wickel gemeinsam au
 s, denn was man einmal selber gemacht hat, vergisst man nicht mehr!\n *Wir 
 tauschen Tipps und Tricks aus um Kinder für die Hausmittel zu gewinnen.\n *
 Wir überlegen, was aus unserem Haushalt verwendbar ist. Hausmittel werden a
 us Dingen hergestellt – die man zu Hause hat.\n *Wir lernen Zutaten aus uns
 erem Küchenschrank kennen die spontan, jederzeit zur Verfügung stehen.\nAuß
 erdem sprechen wir über viele typische Beschwerden in der Kindheit, Zahnung
 , gerötete Haut, Fieber,…. und natürlich eure Fragen stehen im Mittelpunkt 
 dieses Halbtages.\n*******\n Alle selbst hergestellten Hausmittel kannst du
  mit nach Hause nehmen!\n—————————————————————————–\n 49,- Euro inkl. Mater
 ial für die Hausmittel + Rezeptsammlung für zu Hause + Tee + Kleine Jause /
 / Dauer circa 3 Stunden // Anmeldung erforderlich // Beschränkte Teilnehmer
 Innenzahl // claudia@kinderhausmittel.com (mailto:claudia@kinderhausmittel.
 com) // +43650 500 9131 // www.kinderhausmittel.com/ (http://www.kinderhaus
 mittel.com/?fbclid=IwAR2d5a0oUX6kITNa7eV1Xdgg0JPPCCWw1IrFnWVdTCWjW-JSN7pQqt
 zqV6k)\n
X-ALT-DESC;FMTTYPE=text/html:<div class="fl-module fl-module-fl-post-content fl-node-5b6803aec1c9d" data
 -node="5b6803aec1c9d"><div class="fl-module-content fl-node-content"><h3>ZU
 SATZTERMIN FÜR BABYMAMAS!</h3><p>Ein<strong> exklusiver, ausführlicher Haus
 mittel-Workshop </strong>am<strong> 26.9.2019  </strong>von<strong> 9.30-12
 .30 Uhr </strong>im<strong> Kinderatelier Wien </strong>zum<strong> vergüns
 tigten Preis </strong>von<strong> 49,- Euro inklusive aller Zutaten &amp; K
 ursunterlagen. </strong></p><h3>Husten, Schnupfen, Fieber, Bauchweh,… so of
 t gibt es kleine „Notfälle“ im Alltag mit Kindern!</h3><h4>Mit Hausmitteln 
 kann man viele Beschwerden im Familienalltag lindern und den Kindern liebev
 oll helfen.</h4><p>Was erwartet dich in diesem Workshop?</p><p><br /> *Wir 
 probieren traditionelle Anwendungen wie bspw. Wickel gemeinsam aus, denn wa
 s man einmal selber gemacht hat, vergisst man nicht mehr!<br /> *Wir tausch
 en Tipps und Tricks aus um Kinder für die Hausmittel zu gewinnen.<br /> *Wi
 r überlegen, was aus unserem Haushalt verwendbar ist. Hausmittel werden aus
  Dingen hergestellt – die man zu Hause hat.<br /> *Wir lernen Zutaten aus u
 nserem Küchenschrank kennen die spontan, jederzeit zur Verfügung stehen.</p
 ><p>Außerdem sprechen wir über viele <strong>typische Beschwerden in der Ki
 ndheit, Zahnung, gerötete Haut, Fieber,…. und natürlich eure Fragen</strong
 > stehen im Mittelpunkt dieses Halbtages.</p><p>*******<br /> Alle selbst h
 ergestellten Hausmittel kannst du mit nach Hause nehmen!</p><p>————————————
 —————————————–<br /> 49,- Euro inkl. Material für die Hausmittel + Rezeptsa
 mmlung für zu Hause + Tee + Kleine Jause // Dauer circa 3 Stunden // Anmeld
 ung erforderlich // Beschränkte TeilnehmerInnenzahl // <a href="mailto:clau
 dia@kinderhausmittel.com">claudia@kinderhausmittel.com</a> // +43650 500 91
 31 // <a href="http://www.kinderhausmittel.com/?fbclid=IwAR2d5a0oUX6kITNa7e
 V1Xdgg0JPPCCWw1IrFnWVdTCWjW-JSN7pQqtzqV6k">www.kinderhausmittel.com/</a></p
 ></div></div>
CONTACT:claudia@kinderhausmittel.com
X-EXTRAINFO:[preis='4900'][anmeldung='true']
DTSTAMP:20260425T184552
DTSTART:20190926T073000
DTEND:20190926T103000
SEQUENCE:0
TRANSP:OPAQUE
END:VEVENT
END:VCALENDAR