BEGIN:VCALENDAR
VERSION:2.0
PRODID:-//jEvents 2.0 for Joomla//EN
CALSCALE:GREGORIAN
METHOD:PUBLISH
BEGIN:VEVENT
UID:e457f8912fd6031f70e964953f6cd294
CATEGORIES:6. Bezirk
CREATED:20190903T095500
SUMMARY:Erkältungshausmittel für Kinder
LOCATION:Biolino\, Sandwirtgasse\, 1060 Wien
DESCRIPTION:In diesem Kurz-Workshop lernst du die gängigsten, kinderfreundlichen Hausmi
 ttel kennen, die euch als Familie durch die Erkältungssaison begleiten.\nTr
 aditionelle Rezepte und Anwendungen spielen ebenso eine Rolle wie der richt
 ige Umgang mit ätherischen Ölen.\nUm sich selbst zu helfen braucht es nicht
  viel Zubehör, ein wenig Wissen rund um Krankheit und Gesundheit, und die r
 ichtigen Zutaten sind schnell gefunden!\nBesonders wichtig ist die geschenk
 te Zuwendung bei der Anwendung von Hausmitteln, daher sind alle Rezepte ruc
 k-zuck zuzubereiten. Spart Zeit und Nerven, und du kannst dich deinem krank
 en Kind widmen!\n\n ***********************************************\n Anmel
 dung für das Eltern Cafe+ im Biolino (https://www.facebook.com/Biolino.Inst
 itut.Magazin.Handel/) unter: claudia@kinderhausmittel.com // beschränkte Te
 ilnehmerInnenzahl // Kursbeitrag: 20,- Euro inklusive Skript und Material /
 / Dauer 1,5 Stunden // Kinder können selbstverständlich mit dabei sein! // 
 Fragen und Anmeldung: claudia@kinderhausmittel.com\n Weitere Infos: www.kin
 derhausmittel.com (https://l.facebook.com/l.php?u=http%3A%2F%2Fwww.kinderha
 usmittel.com%2F&amp;h=AT2viHzWMDG9Or2QnqyOVygcqKUjZIWqSzh_PBm2SdUqOMThkh7nk
 a5_bjQBFKSvvZjkQp7MKSItprL8SUgSCfniMBwc1anYpvjiwooGXrXJKUTN8npiYP6DGyI4jFqx
 4DY)\n
X-ALT-DESC;FMTTYPE=text/html:<div class="fl-module fl-module-fl-post-content fl-node-5b6803aec1c9d" data
 -node="5b6803aec1c9d"><div class="fl-module-content fl-node-content"><div c
 lass="fl-module fl-module-fl-post-content fl-node-5b6803aec1c9d" data-node=
 "5b6803aec1c9d"><div class="fl-module-content fl-node-content"><p>In diesem
  Kurz-Workshop lernst du die gängigsten, kinderfreundlichen <strong>Hausmit
 tel</strong> kennen, die euch als Familie durch die <strong>Erkältungssaiso
 n</strong> begleiten.</p><p><strong>Traditionelle Rezepte und Anwendungen s
 pielen ebenso eine Rolle wie der richtige Umgang mit ätherischen Ölen.</str
 ong></p><p>Um sich selbst zu helfen braucht es nicht viel Zubehör, ein weni
 g Wissen rund um Krankheit und Gesundheit, und die richtigen Zutaten sind s
 chnell gefunden!</p><p>Besonders wichtig ist die geschenkte Zuwendung bei d
 er Anwendung von Hausmitteln, daher sind alle Rezepte ruck-zuck zuzubereite
 n. Spart Zeit und Nerven, und du kannst dich deinem kranken Kind widmen!</p
 ><p><br /> ***********************************************<br /> Anmeldung 
 für das Eltern Cafe+ im <a href="https://www.facebook.com/Biolino.Institut.
 Magazin.Handel/" target="_blank" rel="noopener noreferrer">Biolino</a> unte
 r: claudia@kinderhausmittel.com // beschränkte TeilnehmerInnenzahl // Kursb
 eitrag: 20,- Euro inklusive Skript und Material // Dauer 1,5 Stunden // Kin
 der können selbstverständlich mit dabei sein! // Fragen und Anmeldung: clau
 dia@kinderhausmittel.com<br /> Weitere Infos: <a href="https://l.facebook.c
 om/l.php?u=http%3A%2F%2Fwww.kinderhausmittel.com%2F&amp;h=AT2viHzWMDG9Or2Qn
 qyOVygcqKUjZIWqSzh_PBm2SdUqOMThkh7nka5_bjQBFKSvvZjkQp7MKSItprL8SUgSCfniMBwc
 1anYpvjiwooGXrXJKUTN8npiYP6DGyI4jFqx4DY" target="_blank" rel="nofollow noop
 ener noreferrer" data-lynx-mode="hover">www.kinderhausmittel.com</a></p></d
 iv></div></div></div>
CONTACT:claudia@kinderhausmittel.com
X-EXTRAINFO:[preis='2000'][anmeldung='true']
DTSTAMP:20260423T211402
DTSTART:20191014T080000
DTEND:20191014T093000
SEQUENCE:0
TRANSP:OPAQUE
END:VEVENT
END:VCALENDAR