BEGIN:VCALENDAR
VERSION:2.0
PRODID:-//jEvents 2.0 for Joomla//EN
CALSCALE:GREGORIAN
METHOD:PUBLISH
BEGIN:VEVENT
UID:e87158fb863f26307697121abe938622
CATEGORIES:Wien Umgebung
CREATED:20190903T095713
SUMMARY:Hausmittel für Kinder
LOCATION:Kids &amp; Co St. Pölten
DESCRIPTION:Husten, Schnupfen, Fieber, Bauchweh,… so oft gibt es kleine „Notfälle“ im A
 lltag mit Kindern!Mit Hausmitteln kann man viele Beschwerden im Familienall
 tag lindern und den Kindern liebevoll helfen.Was erwartet dich in diesem Wo
 rkshop?\n *Wir probieren traditionelle Anwendungen wie bspw. Wickel gemeins
 am aus, denn was man einmal selber gemacht hat, vergisst man nicht mehr!\n 
 *Wir tauschen Tipps und Tricks aus um Kinder für die Hausmittel zu gewinnen
 .\n *Wir überlegen, was aus unserem Haushalt verwendbar ist. Hausmittel wer
 den aus Dingen hergestellt – die man zu Hause hat.\n *Wir lernen Zutaten au
 s unserem Küchenschrank kennen die spontan, jederzeit zur Verfügung stehen.
 \nAußerdem sprechen wir über viele typische Beschwerden in der Kindheit, Za
 hnung, gerötete Haut, Fieber,…. und natürlich eure Fragen stehen im Mittelp
 unkt dieses Halbtages.\n*******\n Alle selbst hergestellten Hausmittel kann
 st du mit nach Hause nehmen!\n—————————————————————————–\n 65,- inkl. Mater
 ial für die Hausmittel + Rezeptsammlung für zu Hause + Tee + Kleine Jause /
 / Dauer circa 4 Stunden // Anmeldung erforderlich // Beschränkte Teilnehmer
 Innenzahl // claudia@kinderhausmittel.com (mailto:claudia@kinderhausmittel.
 com) // +43650 500 9131 // www.kinderhausmittel.com/ (http://www.kinderhaus
 mittel.com/?fbclid=IwAR2d5a0oUX6kITNa7eV1Xdgg0JPPCCWw1IrFnWVdTCWjW-JSN7pQqt
 zqV6k)\n
X-ALT-DESC;FMTTYPE=text/html:<div class="fl-module fl-module-fl-post-content fl-node-5b6803aec1c9d" data
 -node="5b6803aec1c9d"><div class="fl-module-content fl-node-content"><div c
 lass="fl-module fl-module-fl-post-content fl-node-5b6803aec1c9d" data-node=
 "5b6803aec1c9d"><div class="fl-module-content fl-node-content"><div class="
 fl-module fl-module-fl-post-content fl-node-5b6803aec1c9d" data-node="5b680
 3aec1c9d"><div class="fl-module-content fl-node-content"><h3>Husten, Schnup
 fen, Fieber, Bauchweh,… so oft gibt es kleine „Notfälle“ im Alltag mit Kind
 ern!</h3><h4>Mit Hausmitteln kann man viele Beschwerden im Familienalltag l
 indern und den Kindern liebevoll helfen.</h4><p>Was erwartet dich in diesem
  Workshop?<br /> *Wir probieren traditionelle Anwendungen wie bspw. Wickel 
 gemeinsam aus, denn was man einmal selber gemacht hat, vergisst man nicht m
 ehr!<br /> *Wir tauschen Tipps und Tricks aus um Kinder für die Hausmittel 
 zu gewinnen.<br /> *Wir überlegen, was aus unserem Haushalt verwendbar ist.
  Hausmittel werden aus Dingen hergestellt – die man zu Hause hat.<br /> *Wi
 r lernen Zutaten aus unserem Küchenschrank kennen die spontan, jederzeit zu
 r Verfügung stehen.</p><p>Außerdem sprechen wir über viele <strong>typische
  Beschwerden in der Kindheit, Zahnung, gerötete Haut, Fieber,…. und natürli
 ch eure Fragen</strong> stehen im Mittelpunkt dieses Halbtages.</p><p>*****
 **<br /> Alle selbst hergestellten Hausmittel kannst du mit nach Hause nehm
 en!</p><p>—————————————————————————–<br /> 65,- inkl. Material für die Haus
 mittel + Rezeptsammlung für zu Hause + Tee + Kleine Jause // Dauer circa 4 
 Stunden // Anmeldung erforderlich // Beschränkte TeilnehmerInnenzahl // <a 
 href="mailto:claudia@kinderhausmittel.com">claudia@kinderhausmittel.com</a>
  // +43650 500 9131 // <a href="http://www.kinderhausmittel.com/?fbclid=IwA
 R2d5a0oUX6kITNa7eV1Xdgg0JPPCCWw1IrFnWVdTCWjW-JSN7pQqtzqV6k">www.kinderhausm
 ittel.com/</a></p></div></div></div></div></div></div>
CONTACT:claudia@kinderhausmittel.com
X-EXTRAINFO:[preis='6500'][anmeldung='true']
DTSTAMP:20260425T153756
DTSTART:20191019T120000
DTEND:20191019T160000
SEQUENCE:0
TRANSP:OPAQUE
END:VEVENT
END:VCALENDAR