BEGIN:VCALENDAR
VERSION:2.0
PRODID:-//jEvents 2.0 for Joomla//EN
CALSCALE:GREGORIAN
METHOD:PUBLISH
BEGIN:VEVENT
UID:7b7d3f92fdb7af6d98972e185de9f023
CATEGORIES:Wien Umgebung
CREATED:20190903T101409
SUMMARY:Hausmittel für Kinder
LOCATION:Wr. Str. 9/top 1\, 2100 Korneuburg
DESCRIPTION:Auf Einladung der Korneuburger Kinderärztin Dr. Ada Kovats findet am 21. Ok
 tober um 9.30 Uhr in ihrer Praxis in Korneuburg ein Workshop zum Thema „Kin
 derhausmittel für die Erkältungszeit“ statt.\nWas erwartet dich in diesem W
 orkshop?\n *Wir probieren traditionelle Anwendungen wie bspw. Wickel gemein
 sam aus, denn was man einmal selber gemacht hat, vergisst man nicht mehr!\n
  *Wir tauschen Tipps und Tricks aus, um Kinder für die Hausmittel zu gewinn
 en.\n *Wir überlegen, was aus unserem Haushalt verwendbar ist. Hausmittel w
 erden aus Dingen hergestellt – die man zu Hause hat.\n *Wir lernen Zutaten 
 aus unserem Küchenschrank kennen, die spontan, jederzeit zur Verfügung steh
 en.Alle selbst hergestellten Hausmittel kannst du mit nach Hause nehmen!\n 
 \n——————————————————————————————————————\n 65,- inkl. Material für die Haus
 mittel + Rezeptsammlung für zu Hause + Getränke // Dauer circa 3 Stunden //
  Praxisstandort: Wr. Str. 9/top 1, 2100 Korneuburg // Anmeldung erforderlic
 h // Beschränkte TeilnehmerInnenzahl // claudia@kinderhausmittel.com (mailt
 o:claudia@kinderhausmittel.com) // +43650 500 9131 // www.kinderhausmittel.
 com/ (http://www.kinderhausmittel.com/?fbclid=IwAR2d5a0oUX6kITNa7eV1Xdgg0JP
 PCCWw1IrFnWVdTCWjW-JSN7pQqtzqV6k)\n
X-ALT-DESC;FMTTYPE=text/html:<div class="fl-module fl-module-fl-post-content fl-node-5b6803aec1c9d" data
 -node="5b6803aec1c9d"><div class="fl-module-content fl-node-content"><div c
 lass="fl-module fl-module-fl-post-content fl-node-5b6803aec1c9d" data-node=
 "5b6803aec1c9d"><div class="fl-module-content fl-node-content"><div class="
 fl-module fl-module-fl-post-content fl-node-5b6803aec1c9d" data-node="5b680
 3aec1c9d"><div class="fl-module-content fl-node-content"><p><strong>Auf Ein
 ladung der Korneuburger Kinderärztin Dr. Ada Kovats findet am<span style="c
 olor: #008080;"> 21. Oktober um 9.30 Uhr </span>in ihrer Praxis in Korneubu
 rg ein Workshop zum Thema „<span style="color: #008080;">Kinderhausmittel f
 ür die Erkältungszeit</span>“ statt.</strong></p><h4><span style="color: #0
 08080;"><strong>Was erwartet dich in diesem Workshop?</strong></span><br />
  *Wir probieren traditionelle Anwendungen wie bspw. Wickel gemeinsam aus, d
 enn was man einmal selber gemacht hat, vergisst man nicht mehr!<br /> *Wir 
 tauschen Tipps und Tricks aus, um Kinder für die Hausmittel zu gewinnen.<br
  /> *Wir überlegen, was aus unserem Haushalt verwendbar ist. Hausmittel wer
 den aus Dingen hergestellt – die man zu Hause hat.<br /> *Wir lernen Zutate
 n aus unserem Küchenschrank kennen, die spontan, jederzeit zur Verfügung st
 ehen.</h4><p>Alle selbst hergestellten Hausmittel kannst du mit nach Hause 
 nehmen!</p><p> </p><p>——————————————————————————————————————<br /> 65,- ink
 l. Material für die Hausmittel + Rezeptsammlung für zu Hause + Getränke // 
 Dauer circa 3 Stunden // Praxisstandort: <span class="LrzXr">Wr. Str. 9/top
  1, 2100 Korneuburg // </span>Anmeldung erforderlich // Beschränkte Teilneh
 merInnenzahl // <a href="mailto:claudia@kinderhausmittel.com">claudia@kinde
 rhausmittel.com</a> // +43650 500 9131 // <a href="http://www.kinderhausmit
 tel.com/?fbclid=IwAR2d5a0oUX6kITNa7eV1Xdgg0JPPCCWw1IrFnWVdTCWjW-JSN7pQqtzqV
 6k">www.kinderhausmittel.com/</a></p></div></div></div></div></div></div>
CONTACT:claudia@kinderhausmittel.com
X-EXTRAINFO:[preis='6500'][anmeldung='true']
DTSTAMP:20260425T153912
DTSTART:20191021T073000
DTEND:20191021T103000
SEQUENCE:0
TRANSP:OPAQUE
END:VEVENT
END:VCALENDAR