BEGIN:VCALENDAR
VERSION:2.0
PRODID:-//jEvents 2.0 for Joomla//EN
CALSCALE:GREGORIAN
METHOD:PUBLISH
BEGIN:VEVENT
UID:68dd677134cd015665c9a220c9da25dc
CATEGORIES:Wien Umgebung
CREATED:20190903T101630
SUMMARY:Hausmittel für Kinder
LOCATION:Menschengarten Mauerbach\,Hauptstraße 248\, Schloßparkhalle
DESCRIPTION:In diesem Kurz-Workshop lernst du die gängigsten, kinderfreundlichen Hausmi
 ttel kennen, die euch als Familie durch die Erkältungssaison begleiten.\nTr
 aditionelle Rezepte und Anwendungen spielen ebenso eine Rolle wie der vorsi
 chtige Umgang mit ätherischen Ölen.\nUm sich selbst zu helfen braucht es ni
 cht viel Zubehör, ein wenig Wissen rund um Krankheit und Gesundheit, und di
 e richtigen Zutaten sind schnell gefunden!\nBesonders wichtig ist die gesch
 enkte Zuwendung bei der Anwendung von Hausmitteln, daher sind alle Rezepte 
 ruck-zuck zuzubereiten. Spart Zeit und Nerven, und du kannst dich deinem kr
 anken Kind widmen!\n\n ***********************************************\n An
 meldung für das Babytreff  direkt bei mir unter: claudia@kinderhausmittel.c
 om oder bei Elli Richter elli@menschengarten.at (mailto:elli@menschengarten
 .at) // beschränkte TeilnehmerInnenzahl // Kursbeitrag: 20,- Euro inklusive
  Skript und Material // Dauer 1,5 Stunden // Kinder können selbstverständli
 ch mit dabei sein! // weitere Infos: www.kinderhausmittel.com (https://l.fa
 cebook.com/l.php?u=http%3A%2F%2Fwww.kinderhausmittel.com%2F&amp;h=AT2viHzWM
 DG9Or2QnqyOVygcqKUjZIWqSzh_PBm2SdUqOMThkh7nka5_bjQBFKSvvZjkQp7MKSItprL8SUgS
 CfniMBwc1anYpvjiwooGXrXJKUTN8npiYP6DGyI4jFqx4DY)\n
X-ALT-DESC;FMTTYPE=text/html:<div class="fl-module fl-module-fl-post-content fl-node-5b6803aec1c9d" data
 -node="5b6803aec1c9d"><div class="fl-module-content fl-node-content"><div c
 lass="fl-module fl-module-fl-post-content fl-node-5b6803aec1c9d" data-node=
 "5b6803aec1c9d"><div class="fl-module-content fl-node-content"><div class="
 fl-module fl-module-fl-post-content fl-node-5b6803aec1c9d" data-node="5b680
 3aec1c9d"><div class="fl-module-content fl-node-content"><p>In diesem Kurz-
 Workshop lernst du die gängigsten, kinderfreundlichen Hausmittel kennen, di
 e euch als Familie durch die <strong>Erkältungssaison</strong> begleiten.</
 p><p>Traditionelle Rezepte und Anwendungen spielen ebenso eine Rolle wie de
 r vorsichtige Umgang mit ätherischen Ölen.</p><p>Um sich selbst zu helfen b
 raucht es nicht viel Zubehör, ein wenig Wissen rund um Krankheit und Gesund
 heit, und die richtigen Zutaten sind schnell gefunden!</p><p>Besonders wich
 tig ist die geschenkte <strong>Zuwendung</strong> bei der Anwendung von Hau
 smitteln, daher sind alle Rezepte ruck-zuck zuzubereiten. Spart Zeit und Ne
 rven, und du kannst dich deinem kranken Kind widmen!</p><p><br /> *********
 **************************************<br /> <strong>Anmeldung</strong> für
  das Babytreff  direkt bei mir unter: claudia@kinderhausmittel.com oder bei
  Elli Richter <a href="mailto:elli@menschengarten.at">elli@menschengarten.a
 t</a> // beschränkte TeilnehmerInnenzahl // Kursbeitrag: 20,- Euro inklusiv
 e Skript und Material // Dauer 1,5 Stunden // Kinder können selbstverständl
 ich mit dabei sein! // weitere Infos: <a href="https://l.facebook.com/l.php
 ?u=http%3A%2F%2Fwww.kinderhausmittel.com%2F&amp;h=AT2viHzWMDG9Or2QnqyOVygcq
 KUjZIWqSzh_PBm2SdUqOMThkh7nka5_bjQBFKSvvZjkQp7MKSItprL8SUgSCfniMBwc1anYpvji
 wooGXrXJKUTN8npiYP6DGyI4jFqx4DY">www.kinderhausmittel.com</a></p></div></di
 v></div></div></div></div>
CONTACT:claudia@kinderhausmittel.com
X-EXTRAINFO:[preis='2000'][anmeldung='true']
DTSTAMP:20260425T152807
DTSTART:20191122T090000
DTEND:20191122T110000
SEQUENCE:0
TRANSP:OPAQUE
END:VEVENT
END:VCALENDAR