BEGIN:VCALENDAR
VERSION:2.0
PRODID:-//jEvents 2.0 for Joomla//EN
CALSCALE:GREGORIAN
METHOD:PUBLISH
BEGIN:VEVENT
UID:e386e7d4d59c7a79d992afabc427735e
CATEGORIES:Wien Umgebung
CREATED:20190903T215849
SUMMARY:Kindercafe
LOCATION:Rudolf Wieser-Gasse 14\, 2325 Himberg bei Wien
DESCRIPTION:"NEIN AUS LIEBE" BRAUCHEN KINDER GRENZEN ? Kindercafe Impulsvorträge mit an
 schließenden Wertschätzung Diskussion )m an zwei Donnerstagen im Monat, jew
 eils von 9:30 bis 11:30 Uhr. Mein Ziel ist es, einen Ort zu schaffen, an de
 m Eltern sowohl Wissen als auch Kraft tanken können, der sie über das Treff
 en hinaus bereichert. Ich möchte Euch nicht nur Zeit, Wissen und Inspiratio
 n, sondern auch Kraft und Entspannung mitgeben - durch echten &amp; persönl
 ichen Austausch! Weil es ein Dorf braucht um ein Kind beim groß werden zu b
 egleiten. ?Während dieser zwei gemeinsamen Stunden widtmen wir uns im Kreis
 e von etwa 10 bis 15 Personen bei gutem Kaffee und köstlichen Snacks immer 
 anderen Themen, gerne auch angepasst an eure persönlichen Fragen und Anlieg
 en. Wann? Wie? Wo? Familo Club Rudolf Wieser-Gasse 14, 2325 Himberg bei Wie
 n Termine: 12.09.2019, 26.09.2019, 10.10.2019 und 24.10.2019 ?Kostenpunkt: 
 15 Euro pro Person Anmeldung bitte auf mail@sagesmitliebe.com Du bekommst u
 mgehend die Kontodaten für die Überweisung zugeschickt und sobald der Betra
 g auf meinem Konto eingegangen ist, gilt die Anmeldung als verbindlich. Ach
 tung - es gibt nur maximal 14 Plätze! So haben wir genügend Zeit für alle i
 ndividuellen Anliegen und Fragen, da wir praktisch mit euch arbeiten werden
 . Was, wenn ich mich anmelde und dann doch nicht teilnehmen kann? Eine Name
 nsänderung ist jederzeit kostenlos möglich – das heißt, wenn du selbst nich
 t teilnehmen kannst, aber eine Freundin hast, die statt dir kommen möchte, 
 ist das selbstverständlich kein Problem. Bis 14 Tage vor dem Workshop ist d
 ie Stornierung kostenlos, danach werden € 5,- Bearbeitungsgebühr einbehalte
 n. Ihr könnt uns auch gerne vorab schon eure Fragen und Anliegen schicken, 
 damit wir möglichst viel Zeit für euch haben. An mail@sagesmitliebe.com - i
 ch antworte dir so schnell wie möglich!\n
X-ALT-DESC;FMTTYPE=text/html:<p>"NEIN AUS LIEBE" BRAUCHEN KINDER GRENZEN ? Kindercafe Impulsvorträge mit
  anschließenden Wertschätzung Diskussion )m an zwei Donnerstagen im Monat, 
 jeweils von 9:30 bis 11:30 Uhr. Mein Ziel ist es, einen Ort zu schaffen, an
  dem Eltern sowohl Wissen als auch Kraft tanken können, der sie über das Tr
 effen hinaus bereichert. Ich möchte Euch nicht nur Zeit, Wissen und Inspira
 tion, sondern auch Kraft und Entspannung mitgeben - durch echten &amp; pers
 önlichen Austausch! Weil es ein Dorf braucht um ein Kind beim groß werden z
 u begleiten. ?Während dieser zwei gemeinsamen Stunden widtmen wir uns im Kr
 eise von etwa 10 bis 15 Personen bei gutem Kaffee und köstlichen Snacks imm
 er anderen Themen, gerne auch angepasst an eure persönlichen Fragen und Anl
 iegen. Wann? Wie? Wo? Familo Club Rudolf Wieser-Gasse 14, 2325 Himberg bei 
 Wien Termine: 12.09.2019, 26.09.2019, 10.10.2019 und 24.10.2019 ?Kostenpunk
 t: 15 Euro pro Person Anmeldung bitte auf mail@sagesmitliebe.com Du bekomms
 t umgehend die Kontodaten für die Überweisung zugeschickt und sobald der Be
 trag auf meinem Konto eingegangen ist, gilt die Anmeldung als verbindlich. 
 Achtung - es gibt nur maximal 14 Plätze! So haben wir genügend Zeit für all
 e individuellen Anliegen und Fragen, da wir praktisch mit euch arbeiten wer
 den. Was, wenn ich mich anmelde und dann doch nicht teilnehmen kann? Eine N
 amensänderung ist jederzeit kostenlos möglich – das heißt, wenn du selbst n
 icht teilnehmen kannst, aber eine Freundin hast, die statt dir kommen möcht
 e, ist das selbstverständlich kein Problem. Bis 14 Tage vor dem Workshop is
 t die Stornierung kostenlos, danach werden € 5,- Bearbeitungsgebühr einbeha
 lten. Ihr könnt uns auch gerne vorab schon eure Fragen und Anliegen schicke
 n, damit wir möglichst viel Zeit für euch haben. An mail@sagesmitliebe.com 
 - ich antworte dir so schnell wie möglich!</p>
CONTACT:mail@sagesmitliebe.com
DTSTAMP:20260425T152855
DTSTART:20191024T073000
DTEND:20191024T093000
SEQUENCE:0
TRANSP:OPAQUE
END:VEVENT
END:VCALENDAR