BEGIN:VCALENDAR
VERSION:2.0
PRODID:-//jEvents 2.0 for Joomla//EN
CALSCALE:GREGORIAN
METHOD:PUBLISH
BEGIN:VEVENT
UID:f0fab6cac33dd7564fae8eb81b5e650a
CATEGORIES:6. Bezirk
CREATED:20190903T220153
SUMMARY:MEDIENKONSUM UND WIE WIR BEWUSST UND GELASSEN DAMIT UMGEHEN KÖNNEN UND DIE BALANCE FINDEN.
LOCATION:Biolino Institut\, Sandwirtgasse 13/12\, 1060 Wien
DESCRIPTION:Meine Kinder schauen regelmäßig Fernsehen. Sie haben freien Zugang. Sie spi
 elen, entdecken und lernen selbstbestimmt, beschützt und begleitet. Mir ist
  bewusst, dass unsere Einstellung zum Thema in der hiesigen Kultur nicht be
 sonders populär ist. Es existieren unglaublich viele Glaubenssätze und Ängs
 te darum. Eine dieser Ängste betrifft das Thema Sucht. .Und genau um das ge
 ht es in diesem Kurs, um Glaubenssätze und Ängste versus Kompetenz und Selb
 stbestimmung. Ich freu mich auf spannende 1 1/2 Stunden mit Euch. 1 1/2 Stu
 nden Vortrag ?Kostenpunkt: 20 Euro pro Person Anmeldung bitte auf mail@sage
 smitliebe.com\n
X-ALT-DESC;FMTTYPE=text/html:<p>Meine Kinder schauen regelmäßig Fernsehen. Sie haben freien Zugang. Sie 
 spielen, entdecken und lernen selbstbestimmt, beschützt und begleitet. Mir 
 ist bewusst, dass unsere Einstellung zum Thema in der hiesigen Kultur nicht
  besonders populär ist. Es existieren unglaublich viele Glaubenssätze und Ä
 ngste darum. Eine dieser Ängste betrifft das Thema Sucht. .Und genau um das
  geht es in diesem Kurs, um Glaubenssätze und Ängste versus Kompetenz und S
 elbstbestimmung. Ich freu mich auf spannende 1 1/2 Stunden mit Euch. 1 1/2 
 Stunden Vortrag ?Kostenpunkt: 20 Euro pro Person Anmeldung bitte auf mail@s
 agesmitliebe.com</p>
CONTACT:mail@sagesmitliebe.com
DTSTAMP:20260424T181201
DTSTART:20190910T170000
DTEND:20190910T183000
SEQUENCE:0
TRANSP:OPAQUE
END:VEVENT
END:VCALENDAR