BEGIN:VCALENDAR
VERSION:2.0
PRODID:-//jEvents 2.0 for Joomla//EN
CALSCALE:GREGORIAN
METHOD:PUBLISH
BEGIN:VEVENT
UID:ef7b0643ed28522dd7548ebba7ff6d36
CATEGORIES:6. Bezirk
CREATED:20190903T220349
SUMMARY:JUNGS ELTERN- LIEBEVOLL BEGLEITEN
LOCATION:Biolino Institut\, Sandwirtgasse 13/12\, 1060 Wien
DESCRIPTION:Jungen stehen heute vor großer Herausforderungen. Damit Jungs glücklich gro
 ß werden können, müssen sie verstanden werden . Sie müssen nicht abgehärtet
  werden um als das "harte" Geschlechte weiter zu Funktionieren. Wir schauen
  uns an wie teilweise überholte Rollenmuster Jungs prägen. Außerdem gibt es
  viele praktische Tipps für einen neuen Umgang mit Jungs und Erklärungen. w
 ie Eltern auf die Bedürfnisse von Jungs eingehen und helfen können genau so
  zu bleiben wir sie sind und nicht wie es laut alten Muster sein sollte. 2 
 Stunden Vortrag Kostenpunkt: 25 Euro pro Person Anmeldung bitte auf mail@sa
 gesmitliebe.com\n
X-ALT-DESC;FMTTYPE=text/html:<p>Jungen stehen heute vor großer Herausforderungen. Damit Jungs glücklich 
 groß werden können, müssen sie verstanden werden . Sie müssen nicht abgehär
 tet werden um als das "harte" Geschlechte weiter zu Funktionieren. Wir scha
 uen uns an wie teilweise überholte Rollenmuster Jungs prägen. Außerdem gibt
  es viele praktische Tipps für einen neuen Umgang mit Jungs und Erklärungen
 . wie Eltern auf die Bedürfnisse von Jungs eingehen und helfen können genau
  so zu bleiben wir sie sind und nicht wie es laut alten Muster sein sollte.
  2 Stunden Vortrag Kostenpunkt: 25 Euro pro Person Anmeldung bitte auf mail
 @sagesmitliebe.com</p>
CONTACT:mail@sagesmitliebe.com
DTSTAMP:20260423T225320
DTSTART:20190930T170000
DTEND:20190930T190000
SEQUENCE:0
TRANSP:OPAQUE
END:VEVENT
END:VCALENDAR