BEGIN:VCALENDAR
VERSION:2.0
PRODID:-//jEvents 2.0 for Joomla//EN
CALSCALE:GREGORIAN
METHOD:PUBLISH
BEGIN:VEVENT
UID:0b948a085d611ba6318b580381f3efd7
CATEGORIES:14. Bezirk
CREATED:20190903T220513
SUMMARY:JUNGS ELTERN- LIEBEVOLL BEGLEITEN
LOCATION:Conscious Parenting Vienna Mini and Me e.U. Cumberlandstraße 26/6 1140 Wien
DESCRIPTION:<p>Jungen stehen heute vor großer Herausforderungen. Damit Jungs glücklich 
 groß werden können, müssen sie verstanden werden . Sie müssen nicht abgehär
 tet werden um als das "harte" Geschlechte weiter zu Funktionieren. Wir scha
 uen uns an wie teilweise überholte Rollenmuster Jungs prägen. Außerdem gibt
  es viele praktische Tipps für einen neuen Umgang mit Jungs und Erklärungen
 . wie Eltern auf die Bedürfnisse von Jungs eingehen und helfen können genau
  so zu bleiben wir sie sind und nicht wie es laut alten Muster sein sollte.
  2 Stunden Vortrag Kostenpunkt: 25 Euro pro Person Anmeldung bitte auf mail
 @sagesmitliebe.com</p>
CONTACT:mail@sagesmitliebe.com
DTSTAMP:20260423T195352
DTSTART:20191001T073000
DTEND:20191001T093000
SEQUENCE:0
TRANSP:OPAQUE
END:VEVENT
END:VCALENDAR