BEGIN:VCALENDAR
VERSION:2.0
PRODID:-//jEvents 2.0 for Joomla//EN
CALSCALE:GREGORIAN
METHOD:PUBLISH
BEGIN:VEVENT
UID:6f0e308d2e936a450c903a7296c208b2
CATEGORIES:Wien Umgebung
CREATED:20190903T221059
SUMMARY:DIE TEENAGE-FAMILIE, PRINZIPIEN UND WERTE,  PUBERTA?T (Familo Abendtreff Impulsvorträge mit anschließenden Wertschätzung Diskussion )
LOCATION:Rudolf Wieser-Gasse 14\, 2325 Himberg bei Wien
DESCRIPTION:Als Eltern befinden wir uns auf einer von Liebe erfüllten und abenteuerlich
 en Reise. Wir wandern über weiche Zuckerwattewolken, enge Berggipfel, gehei
 me Waldwege und manchmal auch über heiße Kohlen. Wir tragen unseren eigenen
  Lebensrucksack auf unseren Rücken, haben mindestens ein Kind an der einen,
  einen Partner auf der anderen Hand, Eltern nebenan und jonglieren mit unsa
 gbar vielen Bedürfnissen. Das ist ebenso erfüllend wie herausfordernd. Ich 
 möchte Eltern im echten Leben zusammenführen und habe deswegen die Idee des
  „Familotreff“ ins Leben gerufen. Mein Ziel ist es, einen Ort zu schaffen, 
 an dem Eltern sowohl Wissen als auch Kraft tanken können, der sie über das 
 Treffen hinaus bereichert. Ich möchte Euch nicht nur Zeit, Wissen und Inspi
 ration, sondern auch Kraft und Entspannung mitgeben - durch echten &amp; pe
 rsönlichen Austausch! Weil es ein Dorf braucht um ein Kind beim groß werden
  zu begleiten. Während dieser zwei gemeinsamen Stunden widtmen wir uns im K
 reise von etwa 10 bis 15 Personen bei Gläschen Sekt und kühlen Getränken un
 d köstlichen Snacks immer anderen Themen, gerne auch angepasst an euren per
 sönlichen Fragen und Anliegen. Kostenpunkt: 15 Euro pro Person Anmeldung bi
 tte auf mail@sagesmitliebe.com\n
X-ALT-DESC;FMTTYPE=text/html:<p>Als Eltern befinden wir uns auf einer von Liebe erfüllten und abenteuerl
 ichen Reise. Wir wandern über weiche Zuckerwattewolken, enge Berggipfel, ge
 heime Waldwege und manchmal auch über heiße Kohlen. Wir tragen unseren eige
 nen Lebensrucksack auf unseren Rücken, haben mindestens ein Kind an der ein
 en, einen Partner auf der anderen Hand, Eltern nebenan und jonglieren mit u
 nsagbar vielen Bedürfnissen. Das ist ebenso erfüllend wie herausfordernd. I
 ch möchte Eltern im echten Leben zusammenführen und habe deswegen die Idee 
 des „Familotreff“ ins Leben gerufen. Mein Ziel ist es, einen Ort zu schaffe
 n, an dem Eltern sowohl Wissen als auch Kraft tanken können, der sie über d
 as Treffen hinaus bereichert. Ich möchte Euch nicht nur Zeit, Wissen und In
 spiration, sondern auch Kraft und Entspannung mitgeben - durch echten &amp;
  persönlichen Austausch! Weil es ein Dorf braucht um ein Kind beim groß wer
 den zu begleiten. Während dieser zwei gemeinsamen Stunden widtmen wir uns i
 m Kreise von etwa 10 bis 15 Personen bei Gläschen Sekt und kühlen Getränken
  und köstlichen Snacks immer anderen Themen, gerne auch angepasst an euren 
 persönlichen Fragen und Anliegen. Kostenpunkt: 15 Euro pro Person Anmeldung
  bitte auf mail@sagesmitliebe.com</p>
CONTACT:mail@sagesmitliebe.com
DTSTAMP:20260425T103905
DTSTART:20190919T170000
DTEND:20190919T190000
SEQUENCE:0
TRANSP:OPAQUE
END:VEVENT
END:VCALENDAR