BEGIN:VCALENDAR
VERSION:2.0
PRODID:-//jEvents 2.0 for Joomla//EN
CALSCALE:GREGORIAN
METHOD:PUBLISH
BEGIN:VEVENT
UID:3d2c790a41fa7de4eb3d1d312a9a6341
CATEGORIES:Wien Umgebung
CREATED:20190903T221207
SUMMARY:ELTERN WIE LEUCHTTU?RME – DIE BEDEUTUNG VON ELTERLICHER FU?HRUNG Familo Abendtreff
LOCATION:Rudolf Wieser-Gasse 14\, 2325 Himberg bei Wien
DESCRIPTION:<p>Als Eltern befinden wir uns auf einer von Liebe erfüllten und abenteuerl
 ichen Reise. Wir wandern über weiche Zuckerwattewolken, enge Berggipfel, ge
 heime Waldwege und manchmal auch über heiße Kohlen. Wir tragen unseren eige
 nen Lebensrucksack auf unseren Rücken, haben mindestens ein Kind an der ein
 en, einen Partner auf der anderen Hand, Eltern nebenan und jonglieren mit u
 nsagbar vielen Bedürfnissen. Das ist ebenso erfüllend wie herausfordernd. I
 ch möchte Eltern im echten Leben zusammenführen und habe deswegen die Idee 
 des „Familotreff“ ins Leben gerufen. Mein Ziel ist es, einen Ort zu schaffe
 n, an dem Eltern sowohl Wissen als auch Kraft tanken können, der sie über d
 as Treffen hinaus bereichert. Ich möchte Euch nicht nur Zeit, Wissen und In
 spiration, sondern auch Kraft und Entspannung mitgeben - durch echten &amp;
  persönlichen Austausch! Weil es ein Dorf braucht um ein Kind beim groß wer
 den zu begleiten. Während dieser zwei gemeinsamen Stunden widtmen wir uns i
 m Kreise von etwa 10 bis 15 Personen bei Gläschen Sekt und kühlen Getränken
  und köstlichen Snacks immer anderen Themen, gerne auch angepasst an euren 
 persönlichen Fragen und Anliegen. Kostenpunkt: 15 Euro pro Person Anmeldung
  bitte auf mail@sagesmitliebe.com</p>
CONTACT:mail@sagesmitliebe.com
DTSTAMP:20260425T154212
DTSTART:20191003T170000
DTEND:20191003T190000
SEQUENCE:0
TRANSP:OPAQUE
END:VEVENT
END:VCALENDAR