BEGIN:VCALENDAR
VERSION:2.0
PRODID:-//jEvents 2.0 for Joomla//EN
CALSCALE:GREGORIAN
METHOD:PUBLISH
BEGIN:VEVENT
UID:418f84d78e62836760c3cdb4971113f9
CATEGORIES:Wien Umgebung
CREATED:20190903T221423
SUMMARY:Das Kompetente Kind (Familo Kindercafe Impulsvorträge mit anschließenden Wertschätzung Diskussion )
LOCATION:Rudolf Wieser-Gasse 14\, 2325 Himberg bei Wien
DESCRIPTION:Das Kompetente Kind (Familo Kindercafe Impulsvorträge mit anschließenden We
 rtschätzung Diskussion )m an zwei Donnerstagen im Monat, jeweils von 9:30 b
 is 11:30 Uhr. Mein Ziel ist es, einen Ort zu schaffen, an dem Eltern sowohl
  Wissen als auch Kraft tanken können, der sie über das Treffen hinaus berei
 chert. Ich möchte Euch nicht nur Zeit, Wissen und Inspiration, sondern auch
  Kraft und Entspannung mitgeben - durch echten &amp; persönlichen Austausch
 ! Weil es ein Dorf braucht um ein Kind beim groß werden zu begleiten. ?Währ
 end dieser zwei gemeinsamen Stunden widtmen wir uns im Kreise von etwa 10 b
 is 15 Personen bei gutem Kaffee und köstlichen Snacks immer anderen Themen,
  gerne auch angepasst an eure persönlichen Fragen und Anliegen. Wann? Wie? 
 Wo? Familo Club Rudolf Wieser-Gasse 14, 2325 Himberg bei Wien Termine: 12.0
 9.2019, 26.09.2019, 10.10.2019 und 24.10.2019 ?Kostenpunkt: 15 Euro pro Per
 son Anmeldung bitte auf mail@sagesmitliebe.com Du bekommst umgehend die Kon
 todaten für die Überweisung zugeschickt und sobald der Betrag auf meinem Ko
 nto eingegangen ist, gilt die Anmeldung als verbindlich. Achtung - es gibt 
 nur maximal 14 Plätze! So haben wir genügend Zeit für alle individuellen An
 liegen und Fragen, da wir praktisch mit euch arbeiten werden. Was, wenn ich
  mich anmelde und dann doch nicht teilnehmen kann? Eine Namensänderung ist 
 jederzeit kostenlos möglich – das heißt, wenn du selbst nicht teilnehmen ka
 nnst, aber eine Freundin hast, die statt dir kommen möchte, ist das selbstv
 erständlich kein Problem. Bis 14 Tage vor dem Workshop ist die Stornierung 
 kostenlos, danach werden € 5,- Bearbeitungsgebühr einbehalten. Ihr könnt un
 s auch gerne vorab schon eure Fragen und Anliegen schicken, damit wir mögli
 chst viel Zeit für euch haben. An mail@sagesmitliebe.com - ich antworte dir
  so schnell wie möglich!\n
X-ALT-DESC;FMTTYPE=text/html:<p>Das Kompetente Kind (Familo Kindercafe Impulsvorträge mit anschließenden
  Wertschätzung Diskussion )m an zwei Donnerstagen im Monat, jeweils von 9:3
 0 bis 11:30 Uhr. Mein Ziel ist es, einen Ort zu schaffen, an dem Eltern sow
 ohl Wissen als auch Kraft tanken können, der sie über das Treffen hinaus be
 reichert. Ich möchte Euch nicht nur Zeit, Wissen und Inspiration, sondern a
 uch Kraft und Entspannung mitgeben - durch echten &amp; persönlichen Austau
 sch! Weil es ein Dorf braucht um ein Kind beim groß werden zu begleiten. ?W
 ährend dieser zwei gemeinsamen Stunden widtmen wir uns im Kreise von etwa 1
 0 bis 15 Personen bei gutem Kaffee und köstlichen Snacks immer anderen Them
 en, gerne auch angepasst an eure persönlichen Fragen und Anliegen. Wann? Wi
 e? Wo? Familo Club Rudolf Wieser-Gasse 14, 2325 Himberg bei Wien Termine: 1
 2.09.2019, 26.09.2019, 10.10.2019 und 24.10.2019 ?Kostenpunkt: 15 Euro pro 
 Person Anmeldung bitte auf mail@sagesmitliebe.com Du bekommst umgehend die 
 Kontodaten für die Überweisung zugeschickt und sobald der Betrag auf meinem
  Konto eingegangen ist, gilt die Anmeldung als verbindlich. Achtung - es gi
 bt nur maximal 14 Plätze! So haben wir genügend Zeit für alle individuellen
  Anliegen und Fragen, da wir praktisch mit euch arbeiten werden. Was, wenn 
 ich mich anmelde und dann doch nicht teilnehmen kann? Eine Namensänderung i
 st jederzeit kostenlos möglich – das heißt, wenn du selbst nicht teilnehmen
  kannst, aber eine Freundin hast, die statt dir kommen möchte, ist das selb
 stverständlich kein Problem. Bis 14 Tage vor dem Workshop ist die Stornieru
 ng kostenlos, danach werden € 5,- Bearbeitungsgebühr einbehalten. Ihr könnt
  uns auch gerne vorab schon eure Fragen und Anliegen schicken, damit wir mö
 glichst viel Zeit für euch haben. An mail@sagesmitliebe.com - ich antworte 
 dir so schnell wie möglich!</p>
CONTACT:mail@sagesmitliebe.com
DTSTAMP:20260425T120331
DTSTART:20190912T073000
DTEND:20190912T093000
SEQUENCE:0
TRANSP:OPAQUE
END:VEVENT
END:VCALENDAR