BEGIN:VCALENDAR
VERSION:2.0
PRODID:-//jEvents 2.0 for Joomla//EN
CALSCALE:GREGORIAN
METHOD:PUBLISH
BEGIN:VEVENT
UID:c3dac3caef96fff8263dbded58c622da
CATEGORIES:Wien Umgebung
CREATED:20190903T221600
SUMMARY:ICH BIN OK, SO WIE ICH (Familo Kindercafe Impulsvorträge mit anschließenden Wertschätzung Diskussion )
LOCATION:Rudolf Wieser-Gasse 14\, 2325 Himberg bei Wien
DESCRIPTION:<p> ICH BIN OK, SO WIE ICH Familo Kindercafe Impulsvorträge mit anschließen
 den Wertschätzung Diskussion )m an zwei Donnerstagen im Monat, jeweils von 
 9:30 bis 11:30 Uhr. Mein Ziel ist es, einen Ort zu schaffen, an dem Eltern 
 sowohl Wissen als auch Kraft tanken können, der sie über das Treffen hinaus
  bereichert. Ich möchte Euch nicht nur Zeit, Wissen und Inspiration, sonder
 n auch Kraft und Entspannung mitgeben - durch echten &amp; persönlichen Aus
 tausch! Weil es ein Dorf braucht um ein Kind beim groß werden zu begleiten.
  ?Während dieser zwei gemeinsamen Stunden widtmen wir uns im Kreise von etw
 a 10 bis 15 Personen bei gutem Kaffee und köstlichen Snacks immer anderen T
 hemen, gerne auch angepasst an eure persönlichen Fragen und Anliegen. Wann?
  Wie? Wo? Familo Club Rudolf Wieser-Gasse 14, 2325 Himberg bei Wien Termine
 : 12.09.2019, 26.09.2019, 10.10.2019 und 24.10.2019 ?Kostenpunkt: 15 Euro p
 ro Person Anmeldung bitte auf mail@sagesmitliebe.com Du bekommst umgehend d
 ie Kontodaten für die Überweisung zugeschickt und sobald der Betrag auf mei
 nem Konto eingegangen ist, gilt die Anmeldung als verbindlich. Achtung - es
  gibt nur maximal 14 Plätze! So haben wir genügend Zeit für alle individuel
 len Anliegen und Fragen, da wir praktisch mit euch arbeiten werden. Was, we
 nn ich mich anmelde und dann doch nicht teilnehmen kann? Eine Namensänderun
 g ist jederzeit kostenlos möglich – das heißt, wenn du selbst nicht teilneh
 men kannst, aber eine Freundin hast, die statt dir kommen möchte, ist das s
 elbstverständlich kein Problem. Bis 14 Tage vor dem Workshop ist die Storni
 erung kostenlos, danach werden € 5,- Bearbeitungsgebühr einbehalten. Ihr kö
 nnt uns auch gerne vorab schon eure Fragen und Anliegen schicken, damit wir
  möglichst viel Zeit für euch haben. An mail@sagesmitliebe.com - ich antwor
 te dir so schnell wie möglich!</p>
CONTACT:mail@sagesmitliebe.com
DTSTAMP:20260425T154058
DTSTART:20190926T073000
DTEND:20190926T093000
SEQUENCE:0
TRANSP:OPAQUE
END:VEVENT
END:VCALENDAR