BEGIN:VCALENDAR
VERSION:2.0
PRODID:-//jEvents 2.0 for Joomla//EN
CALSCALE:GREGORIAN
METHOD:PUBLISH
BEGIN:VEVENT
UID:f02479dbe3c5d12293210e1fc0a3a320
CATEGORIES:Wien Umgebung
CREATED:20190903T221824
SUMMARY: WERTSCHÄTZUNG: MEHR ALS BELOHNUNG UND LOB FAMILO KINDERCAFE Impulsvorträge mit anschließenden Wertschätzung Diskussion )
LOCATION:Rudolf Wieser-Gasse 14\, 2325 Himberg bei Wien
DESCRIPTION:<p>WERTSCHÄTZUNG: MEHR ALS BELOHNUNG UND LOB Familo Kindercafe Impulsvorträ
 ge mit anschließenden Wertschätzung Diskussion )m an zwei Donnerstagen im M
 onat, jeweils von 9:30 bis 11:30 Uhr. Mein Ziel ist es, einen Ort zu schaff
 en, an dem Eltern sowohl Wissen als auch Kraft tanken können, der sie über 
 das Treffen hinaus bereichert. Ich möchte Euch nicht nur Zeit, Wissen und I
 nspiration, sondern auch Kraft und Entspannung mitgeben - durch echten &amp
 ; persönlichen Austausch! Weil es ein Dorf braucht um ein Kind beim groß we
 rden zu begleiten. ?Während dieser zwei gemeinsamen Stunden widtmen wir uns
  im Kreise von etwa 10 bis 15 Personen bei gutem Kaffee und köstlichen Snac
 ks immer anderen Themen, gerne auch angepasst an eure persönlichen Fragen u
 nd Anliegen. Wann? Wie? Wo? Familo Club Rudolf Wieser-Gasse 14, 2325 Himber
 g bei Wien Termine: 12.09.2019, 26.09.2019, 10.10.2019 und 24.10.2019 ?Kost
 enpunkt: 15 Euro pro Person Anmeldung bitte auf mail@sagesmitliebe.com Du b
 ekommst umgehend die Kontodaten für die Überweisung zugeschickt und sobald 
 der Betrag auf meinem Konto eingegangen ist, gilt die Anmeldung als verbind
 lich. Achtung - es gibt nur maximal 14 Plätze! So haben wir genügend Zeit f
 ür alle individuellen Anliegen und Fragen, da wir praktisch mit euch arbeit
 en werden. Was, wenn ich mich anmelde und dann doch nicht teilnehmen kann? 
 Eine Namensänderung ist jederzeit kostenlos möglich – das heißt, wenn du se
 lbst nicht teilnehmen kannst, aber eine Freundin hast, die statt dir kommen
  möchte, ist das selbstverständlich kein Problem. Bis 14 Tage vor dem Works
 hop ist die Stornierung kostenlos, danach werden € 5,- Bearbeitungsgebühr e
 inbehalten. Ihr könnt uns auch gerne vorab schon eure Fragen und Anliegen s
 chicken, damit wir möglichst viel Zeit für euch haben. An mail@sagesmitlieb
 e.com - ich antworte dir so schnell wie möglich!</p>
CONTACT:mail@sagesmitliebe.com
DTSTAMP:20260425T154106
DTSTART:20191010T073000
DTEND:20191010T093000
SEQUENCE:0
TRANSP:OPAQUE
END:VEVENT
END:VCALENDAR