BEGIN:VCALENDAR
VERSION:2.0
PRODID:-//jEvents 2.0 for Joomla//EN
CALSCALE:GREGORIAN
METHOD:PUBLISH
BEGIN:VEVENT
UID:666c28bdd89821189b7acae351d98fe4
CATEGORIES:14. Bezirk
CREATED:20190903T222158
SUMMARY:JUHU WIR SIND GROSSELTERN
LOCATION:Conscious Parenting Vienna Mini and Me e.U. Cumberlandstraße 26/6 1140 Wien
DESCRIPTION:JUHU WIR SIND GROSSELTERN SIE SIND VERTRAUTE, BETREUER UND TRÖSTER GROSSELT
 ERN SIND UNERLÄSSLICH, ABER MIT DEM GESELLSCHAFTLICHEN WANDEL VERÄNDERT SIC
 H AUCH DAS ROLLENBILD VON OMA UND OPA Wenn der erste Familienzuwachs kommt,
  werde nicht nur aus "Kindern" Eltern sonder auch aus "Eltern" Großeltern -
  die Familiendynamik ändert sich daher gravierend. Auch Großeltern sein ist
  nicht immer sonnig. Oft kommt man an seine Grenzen, weil auf einmal alles 
 anders ist als noch zu den Zeiten wo die eigenen Kinder klein waren. Aber d
 as Schöne ist, man kann immer wieder neu in Beziehung gehen und genau darum
  geht es in diesem Vortrag. Warum ist alles anders als früher? Langzeitstil
 len, Stillen nach Bedarf, Dauertragen, Familienbett, Wutanfälle usw.. Wie k
 önnen wir liebevoll begleitend sein, ohne "nervig" zu werden? Was ist den d
 iese Beziehungsorientiert oder Attachment Parenting? Wann übertreten wir Gr
 oßeltern die Grenzen unserer eigenen Kinder ? Wie viel Hilfe ist noch gut u
 nd wann wird’s zu viel? Wie steht es mit der Einmischung in die Erziehung? 
 Darf ich als Großeltern erziehen oder wird das eher als Einmischen empfunde
 n? Ab wann werden die Enkel von den Großeltern zu sehr verzogen? Und viele 
 Fragen mehr werden wir in diesen Vortrag auf den Grund gehen. 3 Stunden Sem
 inar Kostenpunkt: 35 Euro pro Person Anmeldung bitte auf mail@sagesmitliebe
 .com\n
X-ALT-DESC;FMTTYPE=text/html:<p>JUHU WIR SIND GROSSELTERN SIE SIND VERTRAUTE, BETREUER UND TRÖSTER GROSS
 ELTERN SIND UNERLÄSSLICH, ABER MIT DEM GESELLSCHAFTLICHEN WANDEL VERÄNDERT 
 SICH AUCH DAS ROLLENBILD VON OMA UND OPA Wenn der erste Familienzuwachs kom
 mt, werde nicht nur aus "Kindern" Eltern sonder auch aus "Eltern" Großelter
 n - die Familiendynamik ändert sich daher gravierend. Auch Großeltern sein 
 ist nicht immer sonnig. Oft kommt man an seine Grenzen, weil auf einmal all
 es anders ist als noch zu den Zeiten wo die eigenen Kinder klein waren. Abe
 r das Schöne ist, man kann immer wieder neu in Beziehung gehen und genau da
 rum geht es in diesem Vortrag. Warum ist alles anders als früher? Langzeits
 tillen, Stillen nach Bedarf, Dauertragen, Familienbett, Wutanfälle usw.. Wi
 e können wir liebevoll begleitend sein, ohne "nervig" zu werden? Was ist de
 n diese Beziehungsorientiert oder Attachment Parenting? Wann übertreten wir
  Großeltern die Grenzen unserer eigenen Kinder ? Wie viel Hilfe ist noch gu
 t und wann wird’s zu viel? Wie steht es mit der Einmischung in die Erziehun
 g? Darf ich als Großeltern erziehen oder wird das eher als Einmischen empfu
 nden? Ab wann werden die Enkel von den Großeltern zu sehr verzogen? Und vie
 le Fragen mehr werden wir in diesen Vortrag auf den Grund gehen. 3 Stunden 
 Seminar Kostenpunkt: 35 Euro pro Person Anmeldung bitte auf mail@sagesmitli
 ebe.com</p>
CONTACT:mail@sagesmitliebe.com
DTSTAMP:20260423T165627
DTSTART:20191130T083000
DTEND:20191130T113000
SEQUENCE:0
TRANSP:OPAQUE
END:VEVENT
END:VCALENDAR