BEGIN:VCALENDAR
VERSION:2.0
PRODID:-//jEvents 2.0 for Joomla//EN
CALSCALE:GREGORIAN
METHOD:PUBLISH
BEGIN:VEVENT
UID:56e99dd1204e2302619f891f4f68781b
CATEGORIES:6. Bezirk
CREATED:19700101T010000
SUMMARY:Bewegungswelt
LOCATION:6.\, Sandwirtgasse 13/12
DESCRIPTION:<h2>Spielgruppe Bewegungswelt - Maxi</h2><h3>Für Kinder von 15 Monate bis 2
 ,5 Jahre</h3><p> </p><p><strong>Kursleitung</strong>: Daniela</p><p><strong
 >Kurstag</strong>: Donnerstag</p><p><strong>Kurszeit</strong>: 15.00 - 16.0
 0 Uhr<br /> <br /> <strong>Spielgruppe mit Bewegungsschwerpunkt</strong></p
 ><p>- Kletterbogen</p><p>- Picklerdreieck</p><p>- Kriechtunnel</p><p>- Bewe
 gungs-Landschaften</p><p>- Ballspiele</p><p>- Sing- und Tanzspiele</p><p>Di
 e <strong>Bewegungswelt</strong>  ist für Kinder von <strong>15 Monaten - 2
 ,5 Jahren</strong>. Wir krabbeln, kuscheln, singen, springen, kriechen und 
 tanzen – und haben gemeinsam jede Menge Spaß. So stärken wir Körpergefühl, 
 Grobmotorik und die Lust, uns zu bewegen. Wir zeigen dir, wie du aus einfac
 hen Alltagsgegenständen und Möbeln attraktive Bewegungswelten für dein Kind
  zaubern kannst.</p><h3>Termine im Wintersemester 2019/202</h3><p><strong>S
 eptember 2019</strong></p><p>12., 19., 26.9</p><p><strong>Oktober 2019</str
 ong><strong><br /> </strong>3., 10., 17., 24., 31.10</p><p><strong>November
 </strong> <strong>2019</strong><br /> 7., 14., 21., 28.11</p><p><strong>Dez
 ember 2019</strong><br /> 5., 12., 19.12</p><p><strong>Jänner 2020</strong>
 <br /> 9., 16., 23., 30.01</p><h3><strong>Einstieg jederzeit möglich!</stro
 ng></h3><h2>Flexibel mit der Biolino Blockkarte:</h2><h2><a href="https://w
 ww.biolino.at/spielgruppen/die-blockkarte/">www.biolino.at/Blockkarte</a></
 h2><p> </p><p>weitere Infos unter</p><p><a href="http://www.biolino.at">www
 .biolino.at</a></p><p><a href="mailto:martina.novak@biolino.at,">martina.no
 vak@biolino.at, </a>0677 628 929 70</p><p>6., Sandwirtgasse 13/12,</p><p> <
 /p><p>Wir freuen uns auf euch! &lt;3</p><p>Martina und das Biolino Team</p>
CONTACT:martina.novak@biolino.at, 0677 628 929 70
X-EXTRAINFO:[preis='1500'][anmeldung='true']
DTSTAMP:20260423T225643
DTSTART:20190912T130000
DTEND:20190912T140000
SEQUENCE:0
RRULE:FREQ=WEEKLY;UNTIL=20191220T000000Z;INTERVAL=1;BYDAY=TH
TRANSP:OPAQUE
END:VEVENT
END:VCALENDAR